PDS_VERSION_ID = PDS3
/* FILE DATA ELEMENTS */
RECORD_TYPE = UNDEFINED
/* POINTERS TO DATA OBJECTS */
^IMAGE = ("HL875_0000_GR4.TIF")
/* IDENTIFICATION DATA ELEMENTS */
DATA_SET_ID = "MEX-M-HRSC-4-REFDR-MAPPROJECT-EXT8-V4.0"
DATA_SET_NAME = "MARS EXPRESS HRSC MAP PROJECTED REFDR EXTENSION8 V4.0"
DETECTOR_ID = MEX_HRSC_GREEN
EVENT_TYPE = "MARS-TERMINATOR-CALIBRATION-Tc"
INSTRUMENT_HOST_ID = MEX
INSTRUMENT_HOST_NAME = "MARS EXPRESS"
INSTRUMENT_ID = HRSC
INSTRUMENT_NAME = "HIGH RESOLUTION STEREO CAMERA"
MISSION_NAME = "MARS EXPRESS"
MISSION_PHASE_NAME = ME_Phase_44
PROCESSING_LEVEL_ID = 4
PRODUCT_CREATION_TIME = 2023-01-25T08:48:24.000Z
PRODUCT_ID = "HL875_0000_GR4.TIF"
RELEASE_ID = 0001
REVISION_ID = 0000
/* QUALITY DATA ELEMENTS */
DATA_QUALITY_ID = 1
DATA_QUALITY_DESC = "Data calculated based on original SPICE kernels"
/* TIME DATA ELEMENTS */
SPACECRAFT_CLOCK_START_COUNT = "1/0567263631.25704"
SPACECRAFT_CLOCK_STOP_COUNT = "1/0567264106.22544"
START_TIME = 2021-04-23T13:16:39.017Z
STOP_TIME = 2021-04-23T13:20:49.027Z
/* ORBITAL DATA ELEMENTS */
ASCENDING_NODE_LONGITUDE = 165.5
MAXIMUM_RESOLUTION = 0.6381
FOOTPRINT_POINT_LATITUDE = (81.7714,83.1278,81.2949,82.3502, 79.2612,75.7382,71.4329,67.5098,66.2871 ,63.0396,62.7007,58.3993,58.2162, 54.7072,53.9224,51.5641,52.3989,49.9891 ,49.7209,48.5518,49.4999,47.357,46.901, 43.3814,44.135,42.2805,43.3399,42.5998, 40.2668,37.2203,34.7756,31.37,27.989, 23.6902,19.0564,12.6483,6.55091,2.83568 ,0.416272,-2.04058,-0.164878,-2.40277, -0.591579,-3.01036,-0.987401,-3.54631, -1.4997,-4.71697,-2.36943,-5.50319, -3.18953,-5.36101,-3.56151,-6.02575, -6.34622,-9.28026,-9.6695,-11.7044, -10.6043,-13.9261,-14.3071,-18.2716, -19.2986,-22.3705,-25.8292,-26.1755, -30.5526,-32.1681,-36.6069,-37.7938, -37.9806,-37.6333,-32.246,-25.101, -19.1708,-13.6282,-8.47913,-4.21451, 3.33524,8.31495,16.0925,21.8118,25.023, 29.5136,35.112,39.2355,44.8276,49.2191, 56.0017,59.3335,62.8584,67.7145,75.0508 ,81.7325,85.6878,87.4808,84.0543, 83.1173,81.7714)
FOOTPRINT_POINT_LONGITUDE = (130.164,130.219,108.006,85.8669, 74.7241,50.3976,42.2249,46.0035,36.4683 ,41.8867,33.6103,37.273,30.5183,35.1468 ,28.5929,33.0142,27.9762,32.1831, 26.9707,31.8168,26.3677,30.1627,25.3567 ,28.356,23.8476,28.3324,21.1196,12.1801 ,5.32245,0.517383,357.851,355.349, 353.739,352.623,352.347,353.416,355.906 ,357.979,0.0959716,3.30722,0.0124112, 3.79211,0.0191434,4.08553,359.96,4.2399 ,0.0288412,4.77501,0.0317884,4.78556, 0.0100936,3.38023,359.967,3.80129, 0.0375818,2.65724,358.025,0.726902, 357.516,359.349,354.676,355.862,351.177 ,348.602,348.452,344.191,343.008, 337.427,332.696,328.127,328.022,327.594 ,324.476,321.18,318.976,317.249,315.832 ,314.759,313.113,312.145,310.755, 309.798,309.281,308.563,307.68,307.023, 306.117,305.383,304.171,303.52,302.77, 301.584,299.078,294.322,285.64,151.282, 133.27,131.47,130.164)
ORBIT_NUMBER = 21875
ORBITAL_ECCENTRICITY = 0.576
ORBITAL_INCLINATION = 87.0
ORBITAL_SEMIMAJOR_AXIS = 8852.54
PERIAPSIS_ALTITUDE = 358.06
PERIAPSIS_ARGUMENT_ANGLE = 172.86
PERIAPSIS_TIME = 2021-04-23T15:04:25.000Z
SPACECRAFT_ORIENTATION = (0.0,-1.0,0.0)
^MEX_ORIENTATION_DESC = "MEX_ORIENTATION_DESC.TXT"
SPACECRAFT_POINTING_MODE = FIXED
^MEX_POINTING_DESC = "MEX_POINTING_DESC.TXT"
RIGHT_ASCENSION = -1e+32
DECLINATION = -1e+32
OFFSET_ANGLE = -1e+32
SPACECRAFT_SOLAR_DISTANCE = 2.44536e+08
TARGET_NAME = MARS
/* CAMERA DATA ELEMENTS */
DETECTOR_TEMPERATURE = 18.3705
FOCAL_PLANE_TEMPERATURE = 9.195
INST_CMPRS_NAME = "DISCRETE COSINE TRANSFORMATION (DCT)"
INST_CMPRS_RATIO = 8.4706
INST_CMPRS_QUALITY = 0
INST_CMPRS_QUANTZ_TBL_ID = 0
INSTRUMENT_TEMPERATURE = 11.4379
LENS_TEMPERATURE = 10.0106
MACROPIXEL_SIZE = 2
MISSING_FRAMES = 0
PIXEL_SUBSAMPLING_FLAG = N
SIGNAL_CHAIN_ID = 2
/* RADIOMETRIC DATA ELEMENTS */
BANDWIDTH = 88.0
CENTER_FILTER_WAVELENGTH = 538.0
RADIANCE_OFFSET = 0.0
RADIANCE_SCALING_FACTOR = 0.0124377
REFLECTANCE_SCALING_FACTOR = 0.0006403
MEX:REFLECTANCE_OFFSET = 0.0
/* IMAGE OBJECT DEFINITIONS */
OBJECT = IMAGE
  INTERCHANGE_FORMAT = BINARY
  LINES = 7881
  LINE_SAMPLES = 3893
  SAMPLE_TYPE = UNSIGNED_INTEGER
  SAMPLE_BITS = 8
  BANDS = 1
  BAND_STORAGE_TYPE = BAND_SEQUENTIAL
  MAXIMUM = 255
  MEAN = 187.785
  MINIMUM = 58
  STANDARD_DEVIATION = 56.1257
END_OBJECT = IMAGE
/* MAP OBJECT DEFINITIONS */
OBJECT = IMAGE_MAP_PROJECTION
  ^DATA_SET_MAP_PROJECTION_CATALOG= "DSMAP.CAT"
  A_AXIS_RADIUS = 3396.0
  B_AXIS_RADIUS = 3396.0
  C_AXIS_RADIUS = 3396.0
  CENTER_LATITUDE = 28.7294
  CENTER_LONGITUDE = 326.469
  COORDINATE_SYSTEM_NAME = PLANETOGRAPHIC
  COORDINATE_SYSTEM_TYPE = "BODY-FIXED ROTATING"
  EASTERNMOST_LONGITUDE = 360.0
  FIRST_STANDARD_PARALLEL = "N/A"
  LINE_FIRST_PIXEL = 1
  LINE_LAST_PIXEL = 7881
  LINE_PROJECTION_OFFSET = 3959.0
  MAP_PROJECTION_ROTATION = 0.0
  MAP_PROJECTION_TYPE = ORTHOGRAPHIC
  MAP_RESOLUTION = 74.08922548333329
  MAP_SCALE = 0.8
  MAXIMUM_LATITUDE = 90.0
  MINIMUM_LATITUDE = -37.9806
  POSITIVE_LONGITUDE_DIRECTION = EAST
  REFERENCE_LATITUDE = "N/A"
  REFERENCE_LONGITUDE = "N/A"
  SAMPLE_FIRST_PIXEL = 1
  SAMPLE_LAST_PIXEL = 3893
  SAMPLE_PROJECTION_OFFSET = 1144.0
  SECOND_STANDARD_PARALLEL = "N/A"
  WESTERNMOST_LONGITUDE = 0.0
END_OBJECT = IMAGE_MAP_PROJECTION
END
