PDS_VERSION_ID = PDS3
/* FILE DATA ELEMENTS */
RECORD_TYPE = UNDEFINED
/* POINTERS TO DATA OBJECTS */
^IMAGE = ("HL868_0000_IR4.TIF")
/* IDENTIFICATION DATA ELEMENTS */
DATA_SET_ID = "MEX-M-HRSC-4-REFDR-MAPPROJECT-EXT8-V4.0"
DATA_SET_NAME = "MARS EXPRESS HRSC MAP PROJECTED REFDR EXTENSION8 V4.0"
DETECTOR_ID = MEX_HRSC_IR
EVENT_TYPE = "MARS-REGIONAL-MAPPING-Te-Im-Mw"
INSTRUMENT_HOST_ID = MEX
INSTRUMENT_HOST_NAME = "MARS EXPRESS"
INSTRUMENT_ID = HRSC
INSTRUMENT_NAME = "HIGH RESOLUTION STEREO CAMERA"
MISSION_NAME = "MARS EXPRESS"
MISSION_PHASE_NAME = ME_Phase_44
PROCESSING_LEVEL_ID = 4
PRODUCT_CREATION_TIME = 2023-01-25T08:48:24.000Z
PRODUCT_ID = "HL868_0000_IR4.TIF"
RELEASE_ID = 0001
REVISION_ID = 0000
/* QUALITY DATA ELEMENTS */
DATA_QUALITY_ID = 1
DATA_QUALITY_DESC = "Data calculated based on original SPICE kernels"
/* TIME DATA ELEMENTS */
SPACECRAFT_CLOCK_START_COUNT = "1/0567093470.23976"
SPACECRAFT_CLOCK_STOP_COUNT = "1/0567093867.19119"
START_TIME = 2021-04-21T13:58:43.418Z
STOP_TIME = 2021-04-21T14:03:23.347Z
/* ORBITAL DATA ELEMENTS */
ASCENDING_NODE_LONGITUDE = 165.63
MAXIMUM_RESOLUTION = 0.0939
FOOTPRINT_POINT_LATITUDE = (47.3992,47.3677,47.3316,47.2905, 47.2444,47.193,47.1361,47.0976,47.0937, 47.0049,46.6866,46.37,46.0555,45.7428, 45.432,45.1227,44.8152,44.5102,44.2063, 43.9037,43.6036,43.3058,43.006,42.7048, 42.4023,42.0989,41.7937,41.4946,41.2247 ,40.9534,40.6818,40.4085,40.1345, 39.8597,39.4457,39.1694,38.8953,38.4868 ,38.2139,37.945,37.6764,37.4114,36.8816 ,36.3574,35.8383,35.3242,34.9413, 34.3101,33.6865,33.193,33.0699,33.0675, 33.1184,33.1447,33.1912,33.2172,33.236, 33.2372,33.2388,33.8592,34.4867,34.8679 ,35.3788,36.0252,36.5477,37.0761, 37.6099,37.8783,38.1492,38.4203,38.6943 ,39.1062,39.383,39.6617,40.0799,40.3577 ,40.6341,40.9099,41.1848,41.4587, 41.7316,42.0339,42.3419,42.6495,42.9556 ,43.2603,43.5637,43.8653,44.1696, 44.4757,44.7829,45.0924,45.4046,45.7184 ,46.0341,46.3521,46.6714,47.1544, 47.3165,47.3992)
FOOTPRINT_POINT_LONGITUDE = (85.4876,84.8631,84.2341,83.5996, 82.9603,82.3158,81.6646,81.2544,81.2132 ,81.1223,81.1812,81.2386,81.2946, 81.3489,81.4019,81.4535,81.5033,81.5524 ,81.5995,81.6454,81.6911,81.7353, 81.7782,81.8205,81.8619,81.9032,81.9433 ,81.9823,82.0168,82.0504,82.0842, 82.1169,82.1493,82.1816,82.229,82.2597, 82.2896,82.3334,82.3604,82.3879,82.415, 82.4426,82.4934,82.5423,82.5888,82.6332 ,82.6657,82.7167,82.7652,82.8024, 82.8112,82.8114,83.4417,83.7866,84.4635 ,84.8838,85.2114,85.2331,85.2403, 85.2493,85.2585,85.2642,85.2718,85.2816 ,85.2896,85.2979,85.3063,85.3106, 85.3149,85.3193,85.3238,85.3305,85.3351 ,85.3398,85.3468,85.3516,85.3563, 85.3611,85.3659,85.3708,85.3756,85.3811 ,85.3866,85.3923,85.398,85.4037,85.4095 ,85.4152,85.4211,85.427,85.4331,85.4393 ,85.4456,85.4521,85.4586,85.4653, 85.4722,85.4826,85.4862,85.4876)
ORBIT_NUMBER = 21868
ORBITAL_ECCENTRICITY = 0.576
ORBITAL_INCLINATION = 87.0
ORBITAL_SEMIMAJOR_AXIS = 8852.94
PERIAPSIS_ALTITUDE = 357.35
PERIAPSIS_ARGUMENT_ANGLE = 174.07
PERIAPSIS_TIME = 2021-04-21T14:11:23.000Z
SPACECRAFT_ORIENTATION = (0.0,-1.0,0.0)
^MEX_ORIENTATION_DESC = "MEX_ORIENTATION_DESC.TXT"
SPACECRAFT_POINTING_MODE = ACROSSTRACK
^MEX_POINTING_DESC = "MEX_POINTING_DESC.TXT"
RIGHT_ASCENSION = -1e+32
DECLINATION = -1e+32
OFFSET_ANGLE = -1.603
SPACECRAFT_SOLAR_DISTANCE = 2.44302e+08
TARGET_NAME = MARS
/* CAMERA DATA ELEMENTS */
DETECTOR_TEMPERATURE = 17.7588
FOCAL_PLANE_TEMPERATURE = 9.195
INST_CMPRS_NAME = "DISCRETE COSINE TRANSFORMATION (DCT)"
INST_CMPRS_RATIO = 14.5361
INST_CMPRS_QUALITY = 0
INST_CMPRS_QUANTZ_TBL_ID = 0
INSTRUMENT_TEMPERATURE = 11.4379
LENS_TEMPERATURE = 9.3989
MACROPIXEL_SIZE = 4
MISSING_FRAMES = 0
PIXEL_SUBSAMPLING_FLAG = N
SIGNAL_CHAIN_ID = 2
/* RADIOMETRIC DATA ELEMENTS */
BANDWIDTH = 81.0
CENTER_FILTER_WAVELENGTH = 955.5
RADIANCE_OFFSET = 0.0
RADIANCE_SCALING_FACTOR = 0.00218955
REFLECTANCE_SCALING_FACTOR = 0.000281925
MEX:REFLECTANCE_OFFSET = 0.0
/* IMAGE OBJECT DEFINITIONS */
OBJECT = IMAGE
  INTERCHANGE_FORMAT = BINARY
  LINES = 8372
  LINE_SAMPLES = 1661
  SAMPLE_TYPE = UNSIGNED_INTEGER
  SAMPLE_BITS = 8
  BANDS = 1
  BAND_STORAGE_TYPE = BAND_SEQUENTIAL
  MAXIMUM = 255
  MEAN = 213.741
  MINIMUM = 143
  STANDARD_DEVIATION = 23.118
END_OBJECT = IMAGE
/* MAP OBJECT DEFINITIONS */
OBJECT = IMAGE_MAP_PROJECTION
  ^DATA_SET_MAP_PROJECTION_CATALOG= "DSMAP.CAT"
  A_AXIS_RADIUS = 3396.0
  B_AXIS_RADIUS = 3396.0
  C_AXIS_RADIUS = 3396.0
  CENTER_LATITUDE = 0.0
  CENTER_LONGITUDE = 84.0
  COORDINATE_SYSTEM_NAME = PLANETOGRAPHIC
  COORDINATE_SYSTEM_TYPE = "BODY-FIXED ROTATING"
  EASTERNMOST_LONGITUDE = 85.4876
  FIRST_STANDARD_PARALLEL = "N/A"
  LINE_FIRST_PIXEL = 1
  LINE_LAST_PIXEL = 8372
  LINE_PROJECTION_OFFSET = 28016.125
  MAP_PROJECTION_ROTATION = 0.0
  MAP_PROJECTION_TYPE = SINUSOIDAL
  MAP_RESOLUTION = 592.713803866667
  MAP_SCALE = 0.1
  MAXIMUM_LATITUDE = 47.3992
  MINIMUM_LATITUDE = 33.0675
  POSITIVE_LONGITUDE_DIRECTION = EAST
  REFERENCE_LATITUDE = "N/A"
  REFERENCE_LONGITUDE = "N/A"
  SAMPLE_FIRST_PIXEL = 1
  SAMPLE_LAST_PIXEL = 1661
  SAMPLE_PROJECTION_OFFSET = 1078.625
  SECOND_STANDARD_PARALLEL = "N/A"
  WESTERNMOST_LONGITUDE = 81.1223
END_OBJECT = IMAGE_MAP_PROJECTION
END
