PDS_VERSION_ID = PDS3
/* FILE DATA ELEMENTS */
RECORD_TYPE = UNDEFINED
/* POINTERS TO DATA OBJECTS */
^IMAGE = ("HL859_0000_GR4.TIF")
/* IDENTIFICATION DATA ELEMENTS */
DATA_SET_ID = "MEX-M-HRSC-4-REFDR-MAPPROJECT-EXT8-V4.0"
DATA_SET_NAME = "MARS EXPRESS HRSC MAP PROJECTED REFDR EXTENSION8 V4.0"
DETECTOR_ID = MEX_HRSC_GREEN
EVENT_TYPE = "MARS-TERMINATOR-CALIBRATION-Tc"
INSTRUMENT_HOST_ID = MEX
INSTRUMENT_HOST_NAME = "MARS EXPRESS"
INSTRUMENT_ID = HRSC
INSTRUMENT_NAME = "HIGH RESOLUTION STEREO CAMERA"
MISSION_NAME = "MARS EXPRESS"
MISSION_PHASE_NAME = ME_Phase_44
PROCESSING_LEVEL_ID = 4
PRODUCT_CREATION_TIME = 2023-01-25T08:48:24.000Z
PRODUCT_ID = "HL859_0000_GR4.TIF"
RELEASE_ID = 0001
REVISION_ID = 0000
/* QUALITY DATA ELEMENTS */
DATA_QUALITY_ID = 1
DATA_QUALITY_DESC = "Data calculated based on original SPICE kernels"
/* TIME DATA ELEMENTS */
SPACECRAFT_CLOCK_START_COUNT = "1/0566862679.25681"
SPACECRAFT_CLOCK_STOP_COUNT = "1/0566863195.21212"
START_TIME = 2021-04-18T21:54:07.091Z
STOP_TIME = 2021-04-18T21:58:56.109Z
/* ORBITAL DATA ELEMENTS */
ASCENDING_NODE_LONGITUDE = 165.79
MAXIMUM_RESOLUTION = 0.5333
FOOTPRINT_POINT_LATITUDE = (69.2549,69.2051,71.7908,69.3562, 71.2524,72.0383,72.495,72.8445,70.1954, 71.0176,68.7817,71.59,75.1374,76.2948, 77.3712,77.3232,75.9846,73.3693,71.1255 ,68.7674,65.3042,61.3346,58.836,55.8514 ,51.4871,48.4444,46.003,41.4726,38.3733 ,35.5195,29.4709,25.3536,21.5317, 19.1595,15.7995,12.1567,6.76735,3.22979 ,0.703187,-2.2113,-4.66392,-7.63146, -11.743,-14.5533,-18.2701,-20.5156, -20.184,-23.2476,-23.289,-25.3645, -27.2626,-27.1669,-27.2197,-27.8421, -28.356,-28.0638,-28.1031,-23.8199, -21.4892,-18.52,-14.9942,-9.55042, -5.62157,-1.25739,1.61289,5.86537, 11.0224,14.8161,17.3224,21.5795,25.5908 ,28.2312,32.2328,34.8697,39.5953,43.214 ,45.6038,48.8797,52.9809,56.4016, 60.4345,62.7637,65.144,67.0558,70.1217, 71.5664,72.0368,72.2084,71.9015,70.7634 ,69.6223,67.6165,65.6995,64.2693, 66.5061,67.9677,73.3953,69.2105, 69.2549)
FOOTPRINT_POINT_LONGITUDE = (335.675,335.579,359.966,333.214,323.28 ,315.338,304.908,295.399,286.992, 275.623,269.69,263.078,249.24,240.914, 224.494,209.661,192.204,178.367,171.484 ,166.491,161.425,157.542,155.762, 154.106,152.346,151.467,150.923,150.222 ,149.932,149.782,149.744,149.915,150.25 ,150.489,150.968,151.555,152.607, 153.422,154.064,154.882,155.63,156.624, 158.158,159.333,161.077,161.903,159.121 ,156.13,153.159,149.527,141.915,140.789 ,139.23,134.805,134.706,134.532,129.401 ,127.074,127.052,127.007,126.92,126.714 ,126.514,126.235,126.014,125.64,125.085 ,124.596,124.229,123.513,122.714, 122.109,121.053,120.248,118.538,116.943 ,115.716,113.758,110.72,107.498,102.488 ,98.6975,93.7652,88.6147,75.898,64.5357 ,57.284,48.7064,38.6565,26.8164,19.9425 ,11.7002,6.07032,358.342,352.085, 345.755,0.0197693,359.99,335.675)
ORBIT_NUMBER = 21859
ORBITAL_ECCENTRICITY = 0.576
ORBITAL_INCLINATION = 86.99
ORBITAL_SEMIMAJOR_AXIS = 8853.19
PERIAPSIS_ALTITUDE = 356.71
PERIAPSIS_ARGUMENT_ANGLE = 175.66
PERIAPSIS_TIME = 2021-04-18T23:20:37.000Z
SPACECRAFT_ORIENTATION = (0.0,-1.0,0.0)
^MEX_ORIENTATION_DESC = "MEX_ORIENTATION_DESC.TXT"
SPACECRAFT_POINTING_MODE = FIXED
^MEX_POINTING_DESC = "MEX_POINTING_DESC.TXT"
RIGHT_ASCENSION = -1e+32
DECLINATION = -1e+32
OFFSET_ANGLE = -1e+32
SPACECRAFT_SOLAR_DISTANCE = 2.43994e+08
TARGET_NAME = MARS
/* CAMERA DATA ELEMENTS */
DETECTOR_TEMPERATURE = 18.3705
FOCAL_PLANE_TEMPERATURE = 9.8067
INST_CMPRS_NAME = "DISCRETE COSINE TRANSFORMATION (DCT)"
INST_CMPRS_RATIO = 9.45332
INST_CMPRS_QUALITY = 0
INST_CMPRS_QUANTZ_TBL_ID = 0
INSTRUMENT_TEMPERATURE = 11.4379
LENS_TEMPERATURE = 10.0106
MACROPIXEL_SIZE = 2
MISSING_FRAMES = 0
PIXEL_SUBSAMPLING_FLAG = N
SIGNAL_CHAIN_ID = 2
/* RADIOMETRIC DATA ELEMENTS */
BANDWIDTH = 88.0
CENTER_FILTER_WAVELENGTH = 538.0
RADIANCE_OFFSET = 0.0
RADIANCE_SCALING_FACTOR = 0.00584257
REFLECTANCE_SCALING_FACTOR = 0.00029945
MEX:REFLECTANCE_OFFSET = 0.0
/* IMAGE OBJECT DEFINITIONS */
OBJECT = IMAGE
  INTERCHANGE_FORMAT = BINARY
  LINES = 15769
  LINE_SAMPLES = 6595
  SAMPLE_TYPE = UNSIGNED_INTEGER
  SAMPLE_BITS = 8
  BANDS = 1
  BAND_STORAGE_TYPE = BAND_SEQUENTIAL
  MAXIMUM = 255
  MEAN = 191.892
  MINIMUM = 1
  STANDARD_DEVIATION = 70.8442
END_OBJECT = IMAGE
/* MAP OBJECT DEFINITIONS */
OBJECT = IMAGE_MAP_PROJECTION
  ^DATA_SET_MAP_PROJECTION_CATALOG= "DSMAP.CAT"
  A_AXIS_RADIUS = 3396.0
  B_AXIS_RADIUS = 3396.0
  C_AXIS_RADIUS = 3396.0
  CENTER_LATITUDE = 39.5186
  CENTER_LONGITUDE = 134.004
  COORDINATE_SYSTEM_NAME = PLANETOGRAPHIC
  COORDINATE_SYSTEM_TYPE = "BODY-FIXED ROTATING"
  EASTERNMOST_LONGITUDE = 360.0
  FIRST_STANDARD_PARALLEL = "N/A"
  LINE_FIRST_PIXEL = 1
  LINE_LAST_PIXEL = 15769
  LINE_PROJECTION_OFFSET = 7916.0
  MAP_PROJECTION_ROTATION = 0.0
  MAP_PROJECTION_TYPE = ORTHOGRAPHIC
  MAP_RESOLUTION = 148.178450966667
  MAP_SCALE = 0.4
  MAXIMUM_LATITUDE = 90.0
  MINIMUM_LATITUDE = -28.356
  POSITIVE_LONGITUDE_DIRECTION = EAST
  REFERENCE_LATITUDE = "N/A"
  REFERENCE_LONGITUDE = "N/A"
  SAMPLE_FIRST_PIXEL = 1
  SAMPLE_LAST_PIXEL = 6595
  SAMPLE_PROJECTION_OFFSET = 2801.0
  SECOND_STANDARD_PARALLEL = "N/A"
  WESTERNMOST_LONGITUDE = 0.0
END_OBJECT = IMAGE_MAP_PROJECTION
END
