PDS_VERSION_ID = PDS3
/* FILE DATA ELEMENTS */
RECORD_TYPE = UNDEFINED
/* POINTERS TO DATA OBJECTS */
^IMAGE = ("HL838_0000_ND4.TIF")
/* IDENTIFICATION DATA ELEMENTS */
DATA_SET_ID = "MEX-M-HRSC-4-REFDR-MAPPROJECT-EXT8-V4.0"
DATA_SET_NAME = "MARS EXPRESS HRSC MAP PROJECTED REFDR EXTENSION8 V4.0"
DETECTOR_ID = MEX_HRSC_NADIR
EVENT_TYPE = "MARS-TERMINATOR-CALIBRATION-Tc"
INSTRUMENT_HOST_ID = MEX
INSTRUMENT_HOST_NAME = "MARS EXPRESS"
INSTRUMENT_ID = HRSC
INSTRUMENT_NAME = "HIGH RESOLUTION STEREO CAMERA"
MISSION_NAME = "MARS EXPRESS"
MISSION_PHASE_NAME = ME_Phase_44
PROCESSING_LEVEL_ID = 4
PRODUCT_CREATION_TIME = 2023-01-25T08:48:24.000Z
PRODUCT_ID = "HL838_0000_ND4.TIF"
RELEASE_ID = 0001
REVISION_ID = 0000
/* QUALITY DATA ELEMENTS */
DATA_QUALITY_ID = 1
DATA_QUALITY_DESC = "Data calculated based on original SPICE kernels"
/* TIME DATA ELEMENTS */
SPACECRAFT_CLOCK_START_COUNT = "1/0566334883.25686"
SPACECRAFT_CLOCK_STOP_COUNT = "1/0566335345.25520"
START_TIME = 2021-04-12T19:16:56.054Z
STOP_TIME = 2021-04-12T19:21:15.021Z
/* ORBITAL DATA ELEMENTS */
ASCENDING_NODE_LONGITUDE = 166.17
MAXIMUM_RESOLUTION = 0.5291
FOOTPRINT_POINT_LATITUDE = (-27.4559,-27.5349,-27.5026,-26.3292, -24.769,-24.6085,-24.0274,-23.0585, -20.24,-19.2554,-19.8952,-17.2824, -13.8583,-10.5655,-7.25048,-3.09251, 0.643328,3.35221,6.60707,11.304,14.1856 ,16.8982,20.2109,22.9741,27.1766, 32.7717,35.8603,40.154,42.7895,45.7215, 48.9985,53.1617,55.5123,57.7044,59.9743 ,62.935,65.9622,67.9115,68.6961,69.3493 ,68.7384,67.3324,65.9342,63.3981, 61.0361,58.4323,60.758,59.2892,62.5868, 61.4063,64.5036,65.6438,65.1087,65.5077 ,65.3992,64.9208,64.7062,66.6012, 70.5646,72.9048,76.1251,78.3616,80.3211 ,81.5483,82.0101,81.3723,78.9069,76.403 ,73.8234,69.8608,65.6494,62.9699, 59.1488,56.205,51.5966,48.4,45.7991, 41.5342,37.9626,34.5694,31.8612,27.6144 ,23.6828,17.7772,13.1858,9.78041, 4.53189,0.780066,-2.08735,-5.76047, -8.33459,-11.0475,-14.1678,-18.456, -22.3336,-26.329,-26.875,-27.1752, -27.4559)
FOOTPRINT_POINT_LONGITUDE = (116.857,116.876,116.671,121.805, 127.587,130.949,134.755,138.677,139.999 ,142.711,145.323,144.482,143.078, 141.911,140.886,139.779,138.949,138.428 ,137.898,137.307,137.046,136.878,136.77 ,136.776,136.971,137.588,138.141, 139.223,140.104,141.326,143.063,146.025 ,148.207,150.693,153.885,159.451,168.09 ,177.346,183.425,194.201,210.629, 220.457,226.542,234.078,239.021,244.477 ,245.307,249.042,251.406,256.361, 262.353,270.66,280.615,286.884,297.874, 302.365,306.178,317.299,321.581,325.154 ,332.42,340.589,352.823,8.02953,29.8709 ,49.4686,71.1245,81.1689,87.5218, 93.6917,97.8499,99.7701,101.889,103.17, 104.746,105.613,106.213,107.034,107.597 ,108.046,108.354,108.761,109.068,109.42 ,109.621,109.734,109.849,109.891, 109.904,109.896,109.873,109.833,109.767 ,109.641,109.489,109.289,112.248, 113.507,116.857)
ORBIT_NUMBER = 21838
ORBITAL_ECCENTRICITY = 0.577
ORBITAL_INCLINATION = 86.99
ORBITAL_SEMIMAJOR_AXIS = 8859.29
PERIAPSIS_ALTITUDE = 354.9
PERIAPSIS_ARGUMENT_ANGLE = 179.28
PERIAPSIS_TIME = 2021-04-12T20:42:12.000Z
SPACECRAFT_ORIENTATION = (0.0,-1.0,0.0)
^MEX_ORIENTATION_DESC = "MEX_ORIENTATION_DESC.TXT"
SPACECRAFT_POINTING_MODE = FIXED
^MEX_POINTING_DESC = "MEX_POINTING_DESC.TXT"
RIGHT_ASCENSION = -1e+32
DECLINATION = -1e+32
OFFSET_ANGLE = -1e+32
SPACECRAFT_SOLAR_DISTANCE = 2.43242e+08
TARGET_NAME = MARS
/* CAMERA DATA ELEMENTS */
DETECTOR_TEMPERATURE = 18.1666
FOCAL_PLANE_TEMPERATURE = 8.5833
INST_CMPRS_NAME = "DISCRETE COSINE TRANSFORMATION (DCT)"
INST_CMPRS_RATIO = 8.87426
INST_CMPRS_QUALITY = 0
INST_CMPRS_QUANTZ_TBL_ID = 0
INSTRUMENT_TEMPERATURE = 11.4379
LENS_TEMPERATURE = 8.7872
MACROPIXEL_SIZE = 2
MISSING_FRAMES = 0
PIXEL_SUBSAMPLING_FLAG = N
SIGNAL_CHAIN_ID = 0
/* RADIOMETRIC DATA ELEMENTS */
BANDWIDTH = 177.0
CENTER_FILTER_WAVELENGTH = 677.5
RADIANCE_OFFSET = 0.0
RADIANCE_SCALING_FACTOR = 0.0424372
REFLECTANCE_SCALING_FACTOR = 0.00133378
MEX:REFLECTANCE_OFFSET = 0.0
/* IMAGE OBJECT DEFINITIONS */
OBJECT = IMAGE
  INTERCHANGE_FORMAT = BINARY
  LINES = 15966
  LINE_SAMPLES = 5737
  SAMPLE_TYPE = UNSIGNED_INTEGER
  SAMPLE_BITS = 8
  BANDS = 1
  BAND_STORAGE_TYPE = BAND_SEQUENTIAL
  MAXIMUM = 255
  MEAN = 109.282
  MINIMUM = 10
  STANDARD_DEVIATION = 55.3108
END_OBJECT = IMAGE
/* MAP OBJECT DEFINITIONS */
OBJECT = IMAGE_MAP_PROJECTION
  ^DATA_SET_MAP_PROJECTION_CATALOG= "DSMAP.CAT"
  A_AXIS_RADIUS = 3396.0
  B_AXIS_RADIUS = 3396.0
  C_AXIS_RADIUS = 3396.0
  CENTER_LATITUDE = 44.4406
  CENTER_LONGITUDE = 122.796
  COORDINATE_SYSTEM_NAME = PLANETOGRAPHIC
  COORDINATE_SYSTEM_TYPE = "BODY-FIXED ROTATING"
  EASTERNMOST_LONGITUDE = 360.0
  FIRST_STANDARD_PARALLEL = "N/A"
  LINE_FIRST_PIXEL = 1
  LINE_LAST_PIXEL = 15966
  LINE_PROJECTION_OFFSET = 8001.0
  MAP_PROJECTION_ROTATION = 0.0
  MAP_PROJECTION_TYPE = ORTHOGRAPHIC
  MAP_RESOLUTION = 148.178450966667
  MAP_SCALE = 0.4
  MAXIMUM_LATITUDE = 90.0
  MINIMUM_LATITUDE = -27.5349
  POSITIVE_LONGITUDE_DIRECTION = EAST
  REFERENCE_LATITUDE = "N/A"
  REFERENCE_LONGITUDE = "N/A"
  SAMPLE_FIRST_PIXEL = 1
  SAMPLE_LAST_PIXEL = 5737
  SAMPLE_PROJECTION_OFFSET = 1896.0
  SECOND_STANDARD_PARALLEL = "N/A"
  WESTERNMOST_LONGITUDE = 0.0
END_OBJECT = IMAGE_MAP_PROJECTION
END
