PDS_VERSION_ID = PDS3
/* FILE DATA ELEMENTS */
RECORD_TYPE = UNDEFINED
/* POINTERS TO DATA OBJECTS */
^IMAGE = ("HL823_0000_IR4.TIF")
/* IDENTIFICATION DATA ELEMENTS */
DATA_SET_ID = "MEX-M-HRSC-4-REFDR-MAPPROJECT-EXT8-V4.0"
DATA_SET_NAME = "MARS EXPRESS HRSC MAP PROJECTED REFDR EXTENSION8 V4.0"
DETECTOR_ID = MEX_HRSC_IR
EVENT_TYPE = "MARS-TERMINATOR-CALIBRATION-Tc"
INSTRUMENT_HOST_ID = MEX
INSTRUMENT_HOST_NAME = "MARS EXPRESS"
INSTRUMENT_ID = HRSC
INSTRUMENT_NAME = "HIGH RESOLUTION STEREO CAMERA"
MISSION_NAME = "MARS EXPRESS"
MISSION_PHASE_NAME = ME_Phase_44
PROCESSING_LEVEL_ID = 4
PRODUCT_CREATION_TIME = 2023-01-25T08:48:24.000Z
PRODUCT_ID = "HL823_0000_IR4.TIF"
RELEASE_ID = 0001
REVISION_ID = 0000
/* QUALITY DATA ELEMENTS */
DATA_QUALITY_ID = 1
DATA_QUALITY_DESC = "Data calculated based on original SPICE kernels"
/* TIME DATA ELEMENTS */
SPACECRAFT_CLOCK_START_COUNT = "1/0565956295.25697"
SPACECRAFT_CLOCK_STOP_COUNT = "1/0565956728.25972"
START_TIME = 2021-04-08T10:05:29.039Z
STOP_TIME = 2021-04-08T10:09:14.064Z
/* ORBITAL DATA ELEMENTS */
ASCENDING_NODE_LONGITUDE = 166.45
MAXIMUM_RESOLUTION = 0.6541
FOOTPRINT_POINT_LATITUDE = (-39.4523,-39.5245,-39.0248,-37.5386, -35.9839,-33.131,-30.6733,-27.3472, -23.0417,-19.8564,-17.2121,-12.8739, -9.26567,-6.11433,-1.16105,2.32672, 7.61901,10.83,16.2943,19.9376,23.1878, 27.1025,29.758,32.9725,35.3984,40.372, 43.4423,48.0222,51.4086,54.9464,58.6837 ,61.2759,65.4989,68.3451,71.8507,74.281 ,76.4507,79.054,80.601,80.6657,78.7303, 75.0751,73.0106,72.8082,73.0327,73.5029 ,71.9931,70.8054,68.0785,66.5153, 63.8957,59.5313,61.2563,62.6094,63.8788 ,64.6361,64.5803,63.8319,62.6327, 61.2099,59.6732,58.0812,56.06,53.7322, 51.1224,46.8825,43.7874,40.7323,37.7025 ,35.3427,31.2733,28.2133,25.1033,21.818 ,16.7259,13.2048,10.0687,5.43491, 0.250611,-2.23115,-5.62287,-8.43353, -12.2653,-17.1953,-20.7998,-23.6659, -26.7967,-30.6982,-33.5948,-36.4257, -34.132,-36.4669,-36.468,-37.9584, -37.9953,-39.1922,-39.7589,-39.3335, -39.4523)
FOOTPRINT_POINT_LONGITUDE = (218.458,218.488,221.262,224.809, 230.872,232.164,231.233,230.089,228.795 ,227.949,227.31,226.372,225.684,225.145 ,224.404,223.949,223.364,223.073, 222.639,222.449,222.381,222.318,222.33, 222.403,222.504,222.869,223.212,223.94, 224.686,225.713,227.164,228.468,231.351 ,234.081,238.898,243.834,250.258, 263.472,280.538,314.538,335.138,350.507 ,4.38988,16.9675,28.7723,37.0371, 54.3247,66.8517,77.4609,83.3511,89.1643 ,95.701,101.567,107.217,115.229,126.838 ,132.941,142.71,150.213,156.134,160.911 ,164.836,168.855,172.572,175.937, 180.173,182.586,184.557,186.193,187.288 ,188.87,189.846,190.678,191.406,192.267 ,192.695,192.973,193.214,193.261, 193.204,193.039,192.832,192.431,191.701 ,191.001,190.328,189.468,188.176, 187.035,188.029,189.624,190.242,194.322 ,198.554,201.463,205.861,211.859, 215.346,218.458)
ORBIT_NUMBER = 21823
ORBITAL_ECCENTRICITY = 0.576
ORBITAL_INCLINATION = 86.98
ORBITAL_SEMIMAJOR_AXIS = 8848.35
PERIAPSIS_ALTITUDE = 354.41
PERIAPSIS_ARGUMENT_ANGLE = 181.85
PERIAPSIS_TIME = 2021-04-08T11:57:34.000Z
SPACECRAFT_ORIENTATION = (0.0,-1.0,0.0)
^MEX_ORIENTATION_DESC = "MEX_ORIENTATION_DESC.TXT"
SPACECRAFT_POINTING_MODE = FIXED
^MEX_POINTING_DESC = "MEX_POINTING_DESC.TXT"
RIGHT_ASCENSION = -1e+32
DECLINATION = -1e+32
OFFSET_ANGLE = -1e+32
SPACECRAFT_SOLAR_DISTANCE = 2.42678e+08
TARGET_NAME = MARS
/* CAMERA DATA ELEMENTS */
DETECTOR_TEMPERATURE = 17.5549
FOCAL_PLANE_TEMPERATURE = 8.7872
INST_CMPRS_NAME = "DISCRETE COSINE TRANSFORMATION (DCT)"
INST_CMPRS_RATIO = 6.15268
INST_CMPRS_QUALITY = 0
INST_CMPRS_QUANTZ_TBL_ID = 0
INSTRUMENT_TEMPERATURE = 11.6418
LENS_TEMPERATURE = 9.195
MACROPIXEL_SIZE = 2
MISSING_FRAMES = 0
PIXEL_SUBSAMPLING_FLAG = N
SIGNAL_CHAIN_ID = 1
/* RADIOMETRIC DATA ELEMENTS */
BANDWIDTH = 81.0
CENTER_FILTER_WAVELENGTH = 955.5
RADIANCE_OFFSET = 0.0
RADIANCE_SCALING_FACTOR = 0.00340911
REFLECTANCE_SCALING_FACTOR = 0.000433104
MEX:REFLECTANCE_OFFSET = 0.0
/* IMAGE OBJECT DEFINITIONS */
OBJECT = IMAGE
  INTERCHANGE_FORMAT = BINARY
  LINES = 8044
  LINE_SAMPLES = 3680
  SAMPLE_TYPE = UNSIGNED_INTEGER
  SAMPLE_BITS = 8
  BANDS = 1
  BAND_STORAGE_TYPE = BAND_SEQUENTIAL
  MAXIMUM = 255
  MEAN = 132.374
  MINIMUM = 1
  STANDARD_DEVIATION = 99.3194
END_OBJECT = IMAGE
/* MAP OBJECT DEFINITIONS */
OBJECT = IMAGE_MAP_PROJECTION
  ^DATA_SET_MAP_PROJECTION_CATALOG= "DSMAP.CAT"
  A_AXIS_RADIUS = 3396.0
  B_AXIS_RADIUS = 3396.0
  C_AXIS_RADIUS = 3396.0
  CENTER_LATITUDE = 34.3715
  CENTER_LONGITUDE = 205.71
  COORDINATE_SYSTEM_NAME = PLANETOGRAPHIC
  COORDINATE_SYSTEM_TYPE = "BODY-FIXED ROTATING"
  EASTERNMOST_LONGITUDE = 360.0
  FIRST_STANDARD_PARALLEL = "N/A"
  LINE_FIRST_PIXEL = 1
  LINE_LAST_PIXEL = 8044
  LINE_PROJECTION_OFFSET = 3998.0
  MAP_PROJECTION_ROTATION = 0.0
  MAP_PROJECTION_TYPE = ORTHOGRAPHIC
  MAP_RESOLUTION = 74.08922548333329
  MAP_SCALE = 0.8
  MAXIMUM_LATITUDE = 90.0
  MINIMUM_LATITUDE = -39.7589
  POSITIVE_LONGITUDE_DIRECTION = EAST
  REFERENCE_LATITUDE = "N/A"
  REFERENCE_LONGITUDE = "N/A"
  SAMPLE_FIRST_PIXEL = 1
  SAMPLE_LAST_PIXEL = 3680
  SAMPLE_PROJECTION_OFFSET = 2039.0
  SECOND_STANDARD_PARALLEL = "N/A"
  WESTERNMOST_LONGITUDE = 0.0
END_OBJECT = IMAGE_MAP_PROJECTION
END
