PDS_VERSION_ID = PDS3
/* FILE DATA ELEMENTS */
RECORD_TYPE = UNDEFINED
/* POINTERS TO DATA OBJECTS */
^IMAGE = ("HL795_0000_BL4.TIF")
/* IDENTIFICATION DATA ELEMENTS */
DATA_SET_ID = "MEX-M-HRSC-4-REFDR-MAPPROJECT-EXT8-V4.0"
DATA_SET_NAME = "MARS EXPRESS HRSC MAP PROJECTED REFDR EXTENSION8 V4.0"
DETECTOR_ID = MEX_HRSC_BLUE
EVENT_TYPE = "MARS-TERMINATOR-CALIBRATION-Tc"
INSTRUMENT_HOST_ID = MEX
INSTRUMENT_HOST_NAME = "MARS EXPRESS"
INSTRUMENT_ID = HRSC
INSTRUMENT_NAME = "HIGH RESOLUTION STEREO CAMERA"
MISSION_NAME = "MARS EXPRESS"
MISSION_PHASE_NAME = ME_Phase_44
PROCESSING_LEVEL_ID = 4
PRODUCT_CREATION_TIME = 2023-01-25T08:48:24.000Z
PRODUCT_ID = "HL795_0000_BL4.TIF"
RELEASE_ID = 0001
REVISION_ID = 0000
/* QUALITY DATA ELEMENTS */
DATA_QUALITY_ID = 1
DATA_QUALITY_DESC = "Data calculated based on original SPICE kernels"
/* TIME DATA ELEMENTS */
SPACECRAFT_CLOCK_START_COUNT = "1/0565269187.25696"
SPACECRAFT_CLOCK_STOP_COUNT = "1/0565269589.25670"
START_TIME = 2021-03-31T11:15:46.222Z
STOP_TIME = 2021-03-31T11:19:00.136Z
/* ORBITAL DATA ELEMENTS */
ASCENDING_NODE_LONGITUDE = 166.96
MAXIMUM_RESOLUTION = 0.8128
FOOTPRINT_POINT_LATITUDE = (-74.4007,-74.4417,-72.1858,-69.0765, -63.8888,-58.8875,-57.3782,-54.6904, -53.272,-50.9054,-48.8617,-46.9783, -43.6128,-40.6085,-37.8677,-35.3165, -30.9426,-26.649,-23.1489,-19.1124, -15.0264,-10.2024,-6.76399,-2.70648, -0.140492,3.74393,6.81772,10.6466, 13.915,17.8152,21.96,26.4368,28.8423, 31.3925,34.1208,37.0846,40.3448,44.0328 ,48.3721,50.9222,53.888,57.5771,59.9216 ,63.0208,68.0064,69.093,70.4084,70.2, 69.4829,64.9916,61.8243,59.3491,57.4764 ,53.9946,50.4077,46.653,44.1572,42.855, 41.0794,39.6417,37.254,35.2214,31.7167, 28.6694,24.937,22.1522,19.8257,17.6045, 13.4137,9.47283,5.70586,1.15338, -2.61838,-7.0111,-10.3104,-14.0908, -17.4974,-22.1964,-27.7207,-30.6607, -33.7638,-38.6901,-41.3883,-46.2784, -49.682,-54.1216,-56.4768,-59.1815, -62.4654,-66.1369,-68.6585,-70.3437, -72.1745,-73.387,-75.9454,-77.4894, -79.047,-77.4246,-76.072,-74.4007)
FOOTPRINT_POINT_LONGITUDE = (168.267,168.566,170.618,176.626, 180.208,185.35,179.091,170.546,167.155, 162.524,159.237,156.614,152.667,149.74, 147.444,145.558,142.789,140.493,138.885 ,137.26,135.827,134.368,133.467,132.517 ,131.979,131.252,130.745,130.194, 129.795,129.398,129.073,128.838,128.764 ,128.728,128.742,128.826,129.005, 129.341,129.952,130.446,131.179,132.395 ,133.393,135.079,138.559,131.441, 118.005,107.514,99.8546,79.6927,71.8654 ,68.4498,65.5778,62.5376,59.8824, 55.3887,57.8958,61.226,64.9802,67.5741, 71.2415,73.8918,77.7339,80.5113,83.3812 ,85.2204,86.5929,87.7871,89.7669, 91.3457,92.6362,93.9774,94.8807,95.726, 96.2274,96.6634,96.9227,97.0796,96.8968 ,96.6478,96.2503,95.2702,94.5288, 92.7005,90.9882,87.9588,85.8187,82.7486 ,77.7539,69.1598,59.2661,70.9317, 65.7328,79.1939,86.4155,101.678,125.601 ,144.343,158.851,168.267)
ORBIT_NUMBER = 21795
ORBITAL_ECCENTRICITY = 0.576
ORBITAL_INCLINATION = 86.99
ORBITAL_SEMIMAJOR_AXIS = 8844.05
PERIAPSIS_ALTITUDE = 352.13
PERIAPSIS_ARGUMENT_ANGLE = 186.65
PERIAPSIS_TIME = 2021-03-31T08:25:23.000Z
SPACECRAFT_ORIENTATION = (0.0,-1.0,0.0)
^MEX_ORIENTATION_DESC = "MEX_ORIENTATION_DESC.TXT"
SPACECRAFT_POINTING_MODE = FIXED
^MEX_POINTING_DESC = "MEX_POINTING_DESC.TXT"
RIGHT_ASCENSION = -1e+32
DECLINATION = -1e+32
OFFSET_ANGLE = -1e+32
SPACECRAFT_SOLAR_DISTANCE = 2.41566e+08
TARGET_NAME = MARS
/* CAMERA DATA ELEMENTS */
DETECTOR_TEMPERATURE = 18.5744
FOCAL_PLANE_TEMPERATURE = 8.5833
INST_CMPRS_NAME = "DISCRETE COSINE TRANSFORMATION (DCT)"
INST_CMPRS_RATIO = 5.26662
INST_CMPRS_QUALITY = 0
INST_CMPRS_QUANTZ_TBL_ID = 0
INSTRUMENT_TEMPERATURE = 11.234
LENS_TEMPERATURE = 8.7872
MACROPIXEL_SIZE = 2
MISSING_FRAMES = 0
PIXEL_SUBSAMPLING_FLAG = N
SIGNAL_CHAIN_ID = 2
/* RADIOMETRIC DATA ELEMENTS */
BANDWIDTH = 76.0
CENTER_FILTER_WAVELENGTH = 444.0
RADIANCE_OFFSET = 0.0
RADIANCE_SCALING_FACTOR = 0.00181746
REFLECTANCE_SCALING_FACTOR = 0.000108981
MEX:REFLECTANCE_OFFSET = 0.0
/* IMAGE OBJECT DEFINITIONS */
OBJECT = IMAGE
  INTERCHANGE_FORMAT = BINARY
  LINES = 10774
  LINE_SAMPLES = 5684
  SAMPLE_TYPE = UNSIGNED_INTEGER
  SAMPLE_BITS = 8
  BANDS = 1
  BAND_STORAGE_TYPE = BAND_SEQUENTIAL
  MAXIMUM = 255
  MEAN = 126.917
  MINIMUM = 1
  STANDARD_DEVIATION = 109.428
END_OBJECT = IMAGE
/* MAP OBJECT DEFINITIONS */
OBJECT = IMAGE_MAP_PROJECTION
  ^DATA_SET_MAP_PROJECTION_CATALOG= "DSMAP.CAT"
  A_AXIS_RADIUS = 3396.0
  B_AXIS_RADIUS = 3396.0
  C_AXIS_RADIUS = 3396.0
  CENTER_LATITUDE = 0.0
  CENTER_LONGITUDE = 115.0
  COORDINATE_SYSTEM_NAME = PLANETOGRAPHIC
  COORDINATE_SYSTEM_TYPE = "BODY-FIXED ROTATING"
  EASTERNMOST_LONGITUDE = 185.35
  FIRST_STANDARD_PARALLEL = "N/A"
  LINE_FIRST_PIXEL = 1
  LINE_LAST_PIXEL = 10774
  LINE_PROJECTION_OFFSET = 5139.0
  MAP_PROJECTION_ROTATION = 0.0
  MAP_PROJECTION_TYPE = SINUSOIDAL
  MAP_RESOLUTION = 74.08922548333329
  MAP_SCALE = 0.8
  MAXIMUM_LATITUDE = 70.4084
  MINIMUM_LATITUDE = -79.047
  POSITIVE_LONGITUDE_DIRECTION = EAST
  REFERENCE_LATITUDE = "N/A"
  REFERENCE_LONGITUDE = "N/A"
  SAMPLE_FIRST_PIXEL = 1
  SAMPLE_LAST_PIXEL = 5684
  SAMPLE_PROJECTION_OFFSET = 3058.0
  SECOND_STANDARD_PARALLEL = "N/A"
  WESTERNMOST_LONGITUDE = 55.3887
END_OBJECT = IMAGE_MAP_PROJECTION
END
