PDS_VERSION_ID = PDS3
/* FILE DATA ELEMENTS */
RECORD_TYPE = UNDEFINED
/* POINTERS TO DATA OBJECTS */
^IMAGE = ("HL760_0000_ND4.TIF")
/* IDENTIFICATION DATA ELEMENTS */
DATA_SET_ID = "MEX-M-HRSC-4-REFDR-MAPPROJECT-EXT8-V4.0"
DATA_SET_NAME = "MARS EXPRESS HRSC MAP PROJECTED REFDR EXTENSION8 V4.0"
DETECTOR_ID = MEX_HRSC_NADIR
EVENT_TYPE = "MARS-TERMINATOR-CALIBRATION-Tc"
INSTRUMENT_HOST_ID = MEX
INSTRUMENT_HOST_NAME = "MARS EXPRESS"
INSTRUMENT_ID = HRSC
INSTRUMENT_NAME = "HIGH RESOLUTION STEREO CAMERA"
MISSION_NAME = "MARS EXPRESS"
MISSION_PHASE_NAME = ME_Phase_44
PROCESSING_LEVEL_ID = 4
PRODUCT_CREATION_TIME = 2023-01-25T08:48:24.000Z
PRODUCT_ID = "HL760_0000_ND4.TIF"
RELEASE_ID = 0001
REVISION_ID = 0000
/* QUALITY DATA ELEMENTS */
DATA_QUALITY_ID = 1
DATA_QUALITY_DESC = "Data calculated based on original SPICE kernels"
/* TIME DATA ELEMENTS */
SPACECRAFT_CLOCK_START_COUNT = "1/0564387186.23976"
SPACECRAFT_CLOCK_STOP_COUNT = "1/0564387600.22047"
START_TIME = 2021-03-21T06:15:22.971Z
STOP_TIME = 2021-03-21T06:18:48.985Z
/* ORBITAL DATA ELEMENTS */
ASCENDING_NODE_LONGITUDE = 167.59
MAXIMUM_RESOLUTION = 0.7377
FOOTPRINT_POINT_LATITUDE = (-78.1868,-78.1941,-76.6249,-73.7047, -71.2333,-68.6149,-66.1076,-63.3292, -59.2674,-56.0751,-54.4254,-53.9589, -52.6238,-51.3219,-48.1626,-48.012, -44.5013,-43.8006,-43.0761,-42.0498, -40.3497,-37.8691,-35.4723,-32.3051, -28.8369,-26.1953,-23.0873,-20.5212, -16.5327,-12.6912,-10.0698,-6.42969, -1.77024,2.09778,5.70415,11.356,15.2549 ,19.7424,24.4301,27.9162,31.7386, 34.6943,37.3224,41.4083,44.2033,47.8374 ,52.5467,57.4088,56.4223,59.4214, 59.1135,61.5307,62.1427,63.013,63.6369, 64.1406,63.5825,62.933,61.4827,59.1915, 55.9678,53.84,50.0471,46.8301,43.6003, 41.0984,37.0861,34.5968,31.8293,28.7523 ,25.5092,20.1762,17.6824,12.623,9.58192 ,5.23228,1.23201,-4.61085,-10.0515, -13.4137,-19.3611,-23.29,-28.007, -31.6441,-37.1957,-40.8069,-46.6768, -50.0273,-52.7253,-56.2768,-60.5227, -64.5182,-67.3726,-70.1763,-74.3307, -77.32,-82.0899,-82.1714,-80.4998, -78.1868)
FOOTPRINT_POINT_LONGITUDE = (161.753,161.998,163.663,165.62,167.611 ,173.711,171.146,171.748,173.189,177.11 ,173.581,177.998,173.529,177.841, 173.808,177.97,175.607,169.503,165.805, 161.932,157.111,151.901,147.984,143.863 ,140.25,137.978,135.684,134.071,131.914 ,130.224,129.24,128.067,126.912,126.2, 125.717,125.31,125.273,125.496,126.062, 126.726,127.734,128.748,129.859,132.043 ,133.947,137.086,142.799,139.856, 135.118,133.358,127.584,126.017,118.569 ,108.073,99.0563,87.9907,80.5956, 76.3894,71.913,66.6278,62.7302,65.5804, 69.7784,72.6812,75.1545,76.8348,79.1896 ,80.4797,81.7886,83.1146,84.3762, 86.2245,87.0053,88.4539,89.2491,90.3013 ,91.2034,92.3984,93.4026,93.9809, 94.9298,95.5106,96.1571,96.6324,97.331, 97.7506,98.4174,98.7782,99.0707,99.4442 ,99.8883,100.301,100.6,100.899,101.384, 101.756,102.627,131.659,150.551, 161.753)
ORBIT_NUMBER = 21760
ORBITAL_ECCENTRICITY = 0.576
ORBITAL_INCLINATION = 87.0
ORBITAL_SEMIMAJOR_AXIS = 8840.02
PERIAPSIS_ALTITUDE = 349.15
PERIAPSIS_ARGUMENT_ANGLE = 192.73
PERIAPSIS_TIME = 2021-03-21T04:01:26.000Z
SPACECRAFT_ORIENTATION = (0.0,-1.0,0.0)
^MEX_ORIENTATION_DESC = "MEX_ORIENTATION_DESC.TXT"
SPACECRAFT_POINTING_MODE = FIXED
^MEX_POINTING_DESC = "MEX_POINTING_DESC.TXT"
RIGHT_ASCENSION = -1e+32
DECLINATION = -1e+32
OFFSET_ANGLE = -1e+32
SPACECRAFT_SOLAR_DISTANCE = 2.40074e+08
TARGET_NAME = MARS
/* CAMERA DATA ELEMENTS */
DETECTOR_TEMPERATURE = 17.9627
FOCAL_PLANE_TEMPERATURE = 9.6028
INST_CMPRS_NAME = "DISCRETE COSINE TRANSFORMATION (DCT)"
INST_CMPRS_RATIO = 8.80419
INST_CMPRS_QUALITY = 0
INST_CMPRS_QUANTZ_TBL_ID = 0
INSTRUMENT_TEMPERATURE = 11.4379
LENS_TEMPERATURE = 9.8067
MACROPIXEL_SIZE = 2
MISSING_FRAMES = 0
PIXEL_SUBSAMPLING_FLAG = N
SIGNAL_CHAIN_ID = 0
/* RADIOMETRIC DATA ELEMENTS */
BANDWIDTH = 177.0
CENTER_FILTER_WAVELENGTH = 677.5
RADIANCE_OFFSET = 0.0
RADIANCE_SCALING_FACTOR = 0.0379049
REFLECTANCE_SCALING_FACTOR = 0.0011607
MEX:REFLECTANCE_OFFSET = 0.0
/* IMAGE OBJECT DEFINITIONS */
OBJECT = IMAGE
  INTERCHANGE_FORMAT = BINARY
  LINES = 11100
  LINE_SAMPLES = 5605
  SAMPLE_TYPE = UNSIGNED_INTEGER
  SAMPLE_BITS = 8
  BANDS = 1
  BAND_STORAGE_TYPE = BAND_SEQUENTIAL
  MAXIMUM = 255
  MEAN = 106.313
  MINIMUM = 1
  STANDARD_DEVIATION = 57.848
END_OBJECT = IMAGE
/* MAP OBJECT DEFINITIONS */
OBJECT = IMAGE_MAP_PROJECTION
  ^DATA_SET_MAP_PROJECTION_CATALOG= "DSMAP.CAT"
  A_AXIS_RADIUS = 3396.0
  B_AXIS_RADIUS = 3396.0
  C_AXIS_RADIUS = 3396.0
  CENTER_LATITUDE = 0.0
  CENTER_LONGITUDE = 110.0
  COORDINATE_SYSTEM_NAME = PLANETOGRAPHIC
  COORDINATE_SYSTEM_TYPE = "BODY-FIXED ROTATING"
  EASTERNMOST_LONGITUDE = 177.998
  FIRST_STANDARD_PARALLEL = "N/A"
  LINE_FIRST_PIXEL = 1
  LINE_LAST_PIXEL = 11100
  LINE_PROJECTION_OFFSET = 4843.0
  MAP_PROJECTION_ROTATION = 0.0
  MAP_PROJECTION_TYPE = SINUSOIDAL
  MAP_RESOLUTION = 74.08922548333329
  MAP_SCALE = 0.8
  MAXIMUM_LATITUDE = 64.14060000000001
  MINIMUM_LATITUDE = -82.17140000000001
  POSITIVE_LONGITUDE_DIRECTION = EAST
  REFERENCE_LATITUDE = "N/A"
  REFERENCE_LONGITUDE = "N/A"
  SAMPLE_FIRST_PIXEL = 1
  SAMPLE_LAST_PIXEL = 5605
  SAMPLE_PROJECTION_OFFSET = 1974.0
  SECOND_STANDARD_PARALLEL = "N/A"
  WESTERNMOST_LONGITUDE = 62.7302
END_OBJECT = IMAGE_MAP_PROJECTION
END
