PDS_VERSION_ID = PDS3
/* FILE DATA ELEMENTS */
RECORD_TYPE = UNDEFINED
/* POINTERS TO DATA OBJECTS */
^IMAGE = ("HL751_0000_RE4.TIF")
/* IDENTIFICATION DATA ELEMENTS */
DATA_SET_ID = "MEX-M-HRSC-4-REFDR-MAPPROJECT-EXT8-V4.0"
DATA_SET_NAME = "MARS EXPRESS HRSC MAP PROJECTED REFDR EXTENSION8 V4.0"
DETECTOR_ID = MEX_HRSC_RED
EVENT_TYPE = "MARS-TERMINATOR-CALIBRATION-Tc"
INSTRUMENT_HOST_ID = MEX
INSTRUMENT_HOST_NAME = "MARS EXPRESS"
INSTRUMENT_ID = HRSC
INSTRUMENT_NAME = "HIGH RESOLUTION STEREO CAMERA"
MISSION_NAME = "MARS EXPRESS"
MISSION_PHASE_NAME = ME_Phase_44
PROCESSING_LEVEL_ID = 4
PRODUCT_CREATION_TIME = 2023-01-25T08:48:24.000Z
PRODUCT_ID = "HL751_0000_RE4.TIF"
RELEASE_ID = 0001
REVISION_ID = 0000
/* QUALITY DATA ELEMENTS */
DATA_QUALITY_ID = 1
DATA_QUALITY_DESC = "Data calculated based on original SPICE kernels"
/* TIME DATA ELEMENTS */
SPACECRAFT_CLOCK_START_COUNT = "1/0564161711.25847"
SPACECRAFT_CLOCK_STOP_COUNT = "1/0564162122.23983"
START_TIME = 2021-03-18T15:39:10.944Z
STOP_TIME = 2021-03-18T15:42:33.952Z
/* ORBITAL DATA ELEMENTS */
ASCENDING_NODE_LONGITUDE = 167.75
MAXIMUM_RESOLUTION = 0.7753
FOOTPRINT_POINT_LATITUDE = (-74.8657,-74.9452,-74.3193,-71.2742, -67.3743,-61.6699,-55.6133,-49.5201, -50.1974,-48.2361,-48.4004,-46.6894, -48.0856,-46.4619,-47.7966,-46.2372, -47.5154,-46.0154,-45.7958,-47.2825, -45.5786,-46.9691,-45.3638,-45.3399, -44.0164,-44.921,-43.323,-44.0466, -42.6505,-43.4947,-42.1812,-43.5853, -41.7208,-41.7076,-40.302,-40.5792, -39.3684,-40.7135,-39.1196,-40.3744, -38.8729,-40.0555,-35.5902,-32.8545, -29.852,-26.7599,-24.964,-20.6325, -17.4225,-12.331,-7.168,1.1113,5.62251, 11.8141,20.8673,28.0495,31.3355,35.4619 ,40.4173,44.238,45.3477,48.8667,52.3707 ,55.9633,57.699,60.6206,64.6905,67.1156 ,69.1767,70.1936,70.5102,69.8506, 68.8722,64.1362,60.1864,55.2503,49.1408 ,44.2406,39.051,31.9472,25.4731,20.6655 ,14.3565,8.30474,1.83173,-2.09896, -6.14247,-13.4765,-17.116,-21.2842, -27.1507,-35.544,-40.1276,-44.0646, -48.6704,-55.1414,-60.1966,-65.6895, -70.5493,-74.8657)
FOOTPRINT_POINT_LONGITUDE = (336.177,336.524,335.987,348.174, 353.894,361.314,361.977,359.975,366.845 ,360.042,366.409,359.998,365.835, 359.973,365.436,359.961,365.092,359.961 ,359.971,367.613,359.991,366.999, 360.021,365.298,360.026,368.121,359.985 ,366.837,360.036,366.284,360.007, 368.304,360.017,368.103,359.973,366.879 ,360.03,369.42,359.999,368.659,359.978, 368.089,366.342,371.081,367.083,359.243 ,355.504,349.256,345.996,342.168, 339.495,336.835,336.189,336.028,337.599 ,340.677,342.879,346.677,353.934, 361.525,355.704,358.251,355.256,353.069 ,344.898,340.142,333.825,322.831, 312.972,299.92,276.689,275.164,275.241, 279.616,282.243,284.76,287.15,288.695, 290.097,291.748,293.067,293.969,295.082 ,296.101,297.161,297.8,298.46,299.691, 300.321,301.078,302.223,304.105,305.314 ,306.5,308.126,311.043,314.139,318.971, 325.698,336.177)
ORBIT_NUMBER = 21751
ORBITAL_ECCENTRICITY = 0.577
ORBITAL_INCLINATION = 86.99
ORBITAL_SEMIMAJOR_AXIS = 8840.86
PERIAPSIS_ALTITUDE = 348.69
PERIAPSIS_ARGUMENT_ANGLE = 194.3
PERIAPSIS_TIME = 2021-03-18T13:10:42.000Z
SPACECRAFT_ORIENTATION = (0.0,-1.0,0.0)
^MEX_ORIENTATION_DESC = "MEX_ORIENTATION_DESC.TXT"
SPACECRAFT_POINTING_MODE = FIXED
^MEX_POINTING_DESC = "MEX_POINTING_DESC.TXT"
RIGHT_ASCENSION = -1e+32
DECLINATION = -1e+32
OFFSET_ANGLE = -1e+32
SPACECRAFT_SOLAR_DISTANCE = 2.39673e+08
TARGET_NAME = MARS
/* CAMERA DATA ELEMENTS */
DETECTOR_TEMPERATURE = 18.5744
FOCAL_PLANE_TEMPERATURE = 8.5833
INST_CMPRS_NAME = "DISCRETE COSINE TRANSFORMATION (DCT)"
INST_CMPRS_RATIO = 10.62
INST_CMPRS_QUALITY = 0
INST_CMPRS_QUANTZ_TBL_ID = 0
INSTRUMENT_TEMPERATURE = 11.6418
LENS_TEMPERATURE = 8.9911
MACROPIXEL_SIZE = 2
MISSING_FRAMES = 0
PIXEL_SUBSAMPLING_FLAG = N
SIGNAL_CHAIN_ID = 1
/* RADIOMETRIC DATA ELEMENTS */
BANDWIDTH = 48.0
CENTER_FILTER_WAVELENGTH = 748.0
RADIANCE_OFFSET = 0.0
RADIANCE_SCALING_FACTOR = 0.0101653
REFLECTANCE_SCALING_FACTOR = 0.00133274
MEX:REFLECTANCE_OFFSET = 0.0
/* IMAGE OBJECT DEFINITIONS */
OBJECT = IMAGE
  INTERCHANGE_FORMAT = BINARY
  LINES = 10954
  LINE_SAMPLES = 5206
  SAMPLE_TYPE = UNSIGNED_INTEGER
  SAMPLE_BITS = 8
  BANDS = 1
  BAND_STORAGE_TYPE = BAND_SEQUENTIAL
  MAXIMUM = 255
  MEAN = 133.008
  MINIMUM = 29
  STANDARD_DEVIATION = 37.6106
END_OBJECT = IMAGE
/* MAP OBJECT DEFINITIONS */
OBJECT = IMAGE_MAP_PROJECTION
  ^DATA_SET_MAP_PROJECTION_CATALOG= "DSMAP.CAT"
  A_AXIS_RADIUS = 3396.0
  B_AXIS_RADIUS = 3396.0
  C_AXIS_RADIUS = 3396.0
  CENTER_LATITUDE = 0.0
  CENTER_LONGITUDE = 315.0
  COORDINATE_SYSTEM_NAME = PLANETOGRAPHIC
  COORDINATE_SYSTEM_TYPE = "BODY-FIXED ROTATING"
  EASTERNMOST_LONGITUDE = 11.081
  FIRST_STANDARD_PARALLEL = "N/A"
  LINE_FIRST_PIXEL = 1
  LINE_LAST_PIXEL = 10954
  LINE_PROJECTION_OFFSET = 5309.0
  MAP_PROJECTION_ROTATION = 0.0
  MAP_PROJECTION_TYPE = SINUSOIDAL
  MAP_RESOLUTION = 74.08922548333329
  MAP_SCALE = 0.8
  MAXIMUM_LATITUDE = 70.5102
  MINIMUM_LATITUDE = -74.9452
  POSITIVE_LONGITUDE_DIRECTION = EAST
  REFERENCE_LATITUDE = "N/A"
  REFERENCE_LONGITUDE = "N/A"
  SAMPLE_FIRST_PIXEL = 1
  SAMPLE_LAST_PIXEL = 5206
  SAMPLE_PROJECTION_OFFSET = 1532.0
  SECOND_STANDARD_PARALLEL = "N/A"
  WESTERNMOST_LONGITUDE = -84.836
END_OBJECT = IMAGE_MAP_PROJECTION
END
