PDS_VERSION_ID = PDS3
/* FILE DATA ELEMENTS */
RECORD_TYPE = UNDEFINED
/* POINTERS TO DATA OBJECTS */
^IMAGE = ("HL736_0000_IR4.TIF")
/* IDENTIFICATION DATA ELEMENTS */
DATA_SET_ID = "MEX-M-HRSC-4-REFDR-MAPPROJECT-EXT8-V4.0"
DATA_SET_NAME = "MARS EXPRESS HRSC MAP PROJECTED REFDR EXTENSION8 V4.0"
DETECTOR_ID = MEX_HRSC_IR
EVENT_TYPE = "MARS-TERMINATOR-CALIBRATION-Tc"
INSTRUMENT_HOST_ID = MEX
INSTRUMENT_HOST_NAME = "MARS EXPRESS"
INSTRUMENT_ID = HRSC
INSTRUMENT_NAME = "HIGH RESOLUTION STEREO CAMERA"
MISSION_NAME = "MARS EXPRESS"
MISSION_PHASE_NAME = ME_Phase_44
PROCESSING_LEVEL_ID = 4
PRODUCT_CREATION_TIME = 2023-01-25T08:48:24.000Z
PRODUCT_ID = "HL736_0000_IR4.TIF"
RELEASE_ID = 0001
REVISION_ID = 0000
/* QUALITY DATA ELEMENTS */
DATA_QUALITY_ID = 1
DATA_QUALITY_DESC = "Data calculated based on original SPICE kernels"
/* TIME DATA ELEMENTS */
SPACECRAFT_CLOCK_START_COUNT = "1/0563781598.23960"
SPACECRAFT_CLOCK_STOP_COUNT = "1/0563782043.22629"
START_TIME = 2021-03-14T06:00:31.912Z
STOP_TIME = 2021-03-14T06:04:32.907Z
/* ORBITAL DATA ELEMENTS */
ASCENDING_NODE_LONGITUDE = 168.03
MAXIMUM_RESOLUTION = 0.5983
FOOTPRINT_POINT_LATITUDE = (-75.7119,-75.6541,-75.3451,-70.4431, -66.4879,-61.9747,-58.8226,-55.614, -52.2707,-49.2513,-47.4097,-43.7618, -44.1974,-41.2422,-38.6579,-39.1875, -39.2621,-38.7376,-37.7922,-36.9197, -35.4467,-32.5925,-29.8563,-27.7599, -25.1545,-21.5245,-18.5499,-14.6467, -11.7094,-7.81571,-2.65391,2.04503, 5.21161,8.24338,12.6394,15.7991,18.6783 ,21.8526,26.052,28.447,31.7253,36.4395, 40.3611,41.2715,41.0427,43.8869,43.357, 45.2151,46.9785,49.1201,48.2099,50.6662 ,49.1763,51.34,48.9552,51.4613,50.7273, 51.1378,49.613,50.1859,48.8802,44.7067, 41.982,37.5926,31.5611,26.7249,23.1214, 18.7987,15.1799,9.39252,4.6261,1.29614, -3.00049,-7.52992,-9.96225,-12.5591, -14.9524,-18.4759,-20.9394,-23.3712, -25.9663,-30.6218,-33.4545,-35.9941, -38.8601,-44.3875,-48.7186,-53.4518, -56.3954,-59.4639,-61.7207,-63.9729, -66.4863,-68.4065,-70.8611,-72.6036, -74.818,-75.9197,-76.1187,-75.7119)
FOOTPRINT_POINT_LONGITUDE = (139.784,140.481,138.759,133.485, 131.845,130.419,126.455,124.424,123.222 ,126.361,122.423,124.319,120.645, 121.997,122.275,117.293,114.105,106.543 ,101.786,98.6711,94.7205,89.0684, 85.0738,82.589,79.9533,77.0162,75.0577, 72.9866,71.6919,70.3243,69.0305,68.3026 ,68.0277,67.9425,68.0735,68.3916, 68.8546,69.5587,70.8687,71.8696,73.5271 ,76.6724,80.1959,79.4929,74.5523, 74.9338,70.9045,66.129,62.6592,59.3111, 55.2929,54.7036,48.7091,46.9034,45.0926 ,45.4283,40.6926,32.2328,27.2132,26.768 ,26.1155,27.6102,28.4877,29.781,31.3811 ,32.5601,33.3979,34.366,35.1572,36.3959 ,37.4104,38.1208,39.047,40.0438,40.5916 ,41.1888,41.7532,42.6128,43.2369, 43.8772,44.589,45.9595,46.8638,47.7366, 48.7983,51.1364,53.3373,56.2872,58.5252 ,61.3299,63.8134,66.7705,70.8555, 74.7806,81.3935,87.9254,101.174,115.234 ,129.122,139.784)
ORBIT_NUMBER = 21736
ORBITAL_ECCENTRICITY = 0.577
ORBITAL_INCLINATION = 86.98
ORBITAL_SEMIMAJOR_AXIS = 8852.42
PERIAPSIS_ALTITUDE = 347.13
PERIAPSIS_ARGUMENT_ANGLE = 196.86
PERIAPSIS_TIME = 2021-03-14T04:25:32.000Z
SPACECRAFT_ORIENTATION = (0.0,-1.0,0.0)
^MEX_ORIENTATION_DESC = "MEX_ORIENTATION_DESC.TXT"
SPACECRAFT_POINTING_MODE = FIXED
^MEX_POINTING_DESC = "MEX_POINTING_DESC.TXT"
RIGHT_ASCENSION = -1e+32
DECLINATION = -1e+32
OFFSET_ANGLE = -1e+32
SPACECRAFT_SOLAR_DISTANCE = 2.3899e+08
TARGET_NAME = MARS
/* CAMERA DATA ELEMENTS */
DETECTOR_TEMPERATURE = 17.5549
FOCAL_PLANE_TEMPERATURE = 9.195
INST_CMPRS_NAME = "DISCRETE COSINE TRANSFORMATION (DCT)"
INST_CMPRS_RATIO = 4.65196
INST_CMPRS_QUALITY = 0
INST_CMPRS_QUANTZ_TBL_ID = 0
INSTRUMENT_TEMPERATURE = 11.234
LENS_TEMPERATURE = 9.6028
MACROPIXEL_SIZE = 2
MISSING_FRAMES = 1
PIXEL_SUBSAMPLING_FLAG = N
SIGNAL_CHAIN_ID = 1
/* RADIOMETRIC DATA ELEMENTS */
BANDWIDTH = 81.0
CENTER_FILTER_WAVELENGTH = 955.5
RADIANCE_OFFSET = 0.0
RADIANCE_SCALING_FACTOR = 0.00972859
REFLECTANCE_SCALING_FACTOR = 0.00119888
MEX:REFLECTANCE_OFFSET = 0.0
/* IMAGE OBJECT DEFINITIONS */
OBJECT = IMAGE
  INTERCHANGE_FORMAT = BINARY
  LINES = 9567
  LINE_SAMPLES = 5544
  SAMPLE_TYPE = UNSIGNED_INTEGER
  SAMPLE_BITS = 8
  BANDS = 1
  BAND_STORAGE_TYPE = BAND_SEQUENTIAL
  MAXIMUM = 255
  MEAN = 139.553
  MINIMUM = 34
  STANDARD_DEVIATION = 42.4344
END_OBJECT = IMAGE
/* MAP OBJECT DEFINITIONS */
OBJECT = IMAGE_MAP_PROJECTION
  ^DATA_SET_MAP_PROJECTION_CATALOG= "DSMAP.CAT"
  A_AXIS_RADIUS = 3396.0
  B_AXIS_RADIUS = 3396.0
  C_AXIS_RADIUS = 3396.0
  CENTER_LATITUDE = 0.0
  CENTER_LONGITUDE = 57.0
  COORDINATE_SYSTEM_NAME = PLANETOGRAPHIC
  COORDINATE_SYSTEM_TYPE = "BODY-FIXED ROTATING"
  EASTERNMOST_LONGITUDE = 140.481
  FIRST_STANDARD_PARALLEL = "N/A"
  LINE_FIRST_PIXEL = 1
  LINE_LAST_PIXEL = 9567
  LINE_PROJECTION_OFFSET = 3926.0
  MAP_PROJECTION_ROTATION = 0.0
  MAP_PROJECTION_TYPE = SINUSOIDAL
  MAP_RESOLUTION = 74.08922548333329
  MAP_SCALE = 0.8
  MAXIMUM_LATITUDE = 51.4613
  MINIMUM_LATITUDE = -76.1187
  POSITIVE_LONGITUDE_DIRECTION = EAST
  REFERENCE_LATITUDE = "N/A"
  REFERENCE_LONGITUDE = "N/A"
  SAMPLE_FIRST_PIXEL = 1
  SAMPLE_LAST_PIXEL = 5544
  SAMPLE_PROJECTION_OFFSET = 1629.0
  SECOND_STANDARD_PARALLEL = "N/A"
  WESTERNMOST_LONGITUDE = 26.1155
END_OBJECT = IMAGE_MAP_PROJECTION
END
