PDS_VERSION_ID = PDS3
/* FILE DATA ELEMENTS */
RECORD_TYPE = UNDEFINED
/* POINTERS TO DATA OBJECTS */
^IMAGE = ("HL736_0000_BL4.TIF")
/* IDENTIFICATION DATA ELEMENTS */
DATA_SET_ID = "MEX-M-HRSC-4-REFDR-MAPPROJECT-EXT8-V4.0"
DATA_SET_NAME = "MARS EXPRESS HRSC MAP PROJECTED REFDR EXTENSION8 V4.0"
DETECTOR_ID = MEX_HRSC_BLUE
EVENT_TYPE = "MARS-TERMINATOR-CALIBRATION-Tc"
INSTRUMENT_HOST_ID = MEX
INSTRUMENT_HOST_NAME = "MARS EXPRESS"
INSTRUMENT_ID = HRSC
INSTRUMENT_NAME = "HIGH RESOLUTION STEREO CAMERA"
MISSION_NAME = "MARS EXPRESS"
MISSION_PHASE_NAME = ME_Phase_44
PROCESSING_LEVEL_ID = 4
PRODUCT_CREATION_TIME = 2023-01-25T08:48:24.000Z
PRODUCT_ID = "HL736_0000_BL4.TIF"
RELEASE_ID = 0001
REVISION_ID = 0000
/* QUALITY DATA ELEMENTS */
DATA_QUALITY_ID = 1
DATA_QUALITY_DESC = "Data calculated based on original SPICE kernels"
/* TIME DATA ELEMENTS */
SPACECRAFT_CLOCK_START_COUNT = "1/0563781598.23960"
SPACECRAFT_CLOCK_STOP_COUNT = "1/0563782043.22629"
START_TIME = 2021-03-14T06:02:35.916Z
STOP_TIME = 2021-03-14T06:06:34.901Z
/* ORBITAL DATA ELEMENTS */
ASCENDING_NODE_LONGITUDE = 168.03
MAXIMUM_RESOLUTION = 0.6054
FOOTPRINT_POINT_LATITUDE = (-75.7099,-75.6669,-75.1767,-70.2971, -64.8725,-61.3124,-58.3421,-55.4574, -52.1373,-51.4404,-48.2263,-43.1511, -40.4435,-39.5279,-38.2645,-38.7256, -36.2931,-36.6346,-36.6201,-36.0191, -35.3579,-34.1187,-32.9512,-31.1454, -29.5883,-26.3333,-23.7532,-20.7712, -16.9384,-14.3417,-10.6834,-8.07557, -4.57678,-1.54593,3.25645,7.61401, 11.1005,15.4741,19.4695,22.5175,27.0356 ,29.9257,34.1185,37.8075,40.3058, 38.6385,41.4114,39.5757,42.1238,40.6329 ,42.8944,42.9009,46.1349,47.394,48.2538 ,48.6644,51.405,49.9408,52.4372,51.2281 ,51.123,50.8169,51.5963,50.1524,47.2304 ,44.1561,39.4259,34.3479,30.4772, 26.6712,21.5963,19.0339,13.6469,9.4323, 3.34937,0.550147,-4.05811,-7.22217, -10.2797,-13.1682,-18.7554,-22.3906, -27.7747,-30.9914,-35.0829,-39.0596, -41.9446,-44.8941,-48.6509,-53.9889, -57.306,-59.6907,-64.127,-67.0943, -69.5587,-72.5494,-73.9966,-75.5327, -75.9502,-75.7099)
FOOTPRINT_POINT_LONGITUDE = (136.046,136.654,134.307,132.62,127.96, 125.311,128.23,123.846,126.508,122.127, 122.3,120.273,123.012,118.662,122.253, 118.5,119.616,115.394,111.265,105.45, 102.16,98.0291,94.9955,91.249,88.6712, 84.3453,81.6356,79.0958,76.4852,75.0564 ,73.3849,72.4166,71.374,70.7117,70.028, 69.7874,69.8597,70.2984,71.0547,71.8812 ,73.5469,75.073,77.833,80.7323,82.3385, 79.1372,80.6051,77.69,79.2063,76.0598, 78.2551,73.2894,72.6263,69.2376,62.1068 ,57.3453,55.5406,48.8585,45.4076, 36.7926,30.2905,26.1193,25.3011,25.6531 ,26.7537,27.7978,29.247,30.6368,31.62, 32.5341,33.6975,34.2664,35.4366,36.3342 ,37.6282,38.225,39.2223,39.9202,40.6099 ,41.278,42.6337,43.5715,45.0689,46.0424 ,47.395,48.867,50.0512,51.3907,53.3375, 56.7494,59.4175,61.7141,67.2408,72.3547 ,78.081,88.4855,96.3727,111.389,125.361 ,136.046)
ORBIT_NUMBER = 21736
ORBITAL_ECCENTRICITY = 0.577
ORBITAL_INCLINATION = 86.98
ORBITAL_SEMIMAJOR_AXIS = 8852.42
PERIAPSIS_ALTITUDE = 347.13
PERIAPSIS_ARGUMENT_ANGLE = 196.86
PERIAPSIS_TIME = 2021-03-14T04:25:32.000Z
SPACECRAFT_ORIENTATION = (0.0,-1.0,0.0)
^MEX_ORIENTATION_DESC = "MEX_ORIENTATION_DESC.TXT"
SPACECRAFT_POINTING_MODE = FIXED
^MEX_POINTING_DESC = "MEX_POINTING_DESC.TXT"
RIGHT_ASCENSION = -1e+32
DECLINATION = -1e+32
OFFSET_ANGLE = -1e+32
SPACECRAFT_SOLAR_DISTANCE = 2.3899e+08
TARGET_NAME = MARS
/* CAMERA DATA ELEMENTS */
DETECTOR_TEMPERATURE = 18.5744
FOCAL_PLANE_TEMPERATURE = 9.195
INST_CMPRS_NAME = "DISCRETE COSINE TRANSFORMATION (DCT)"
INST_CMPRS_RATIO = 4.45337
INST_CMPRS_QUALITY = 0
INST_CMPRS_QUANTZ_TBL_ID = 0
INSTRUMENT_TEMPERATURE = 11.234
LENS_TEMPERATURE = 9.6028
MACROPIXEL_SIZE = 2
MISSING_FRAMES = 0
PIXEL_SUBSAMPLING_FLAG = N
SIGNAL_CHAIN_ID = 2
/* RADIOMETRIC DATA ELEMENTS */
BANDWIDTH = 76.0
CENTER_FILTER_WAVELENGTH = 444.0
RADIANCE_OFFSET = 0.0
RADIANCE_SCALING_FACTOR = 0.00811031
REFLECTANCE_SCALING_FACTOR = 0.000475985
MEX:REFLECTANCE_OFFSET = 0.0
/* IMAGE OBJECT DEFINITIONS */
OBJECT = IMAGE
  INTERCHANGE_FORMAT = BINARY
  LINES = 9567
  LINE_SAMPLES = 5544
  SAMPLE_TYPE = UNSIGNED_INTEGER
  SAMPLE_BITS = 8
  BANDS = 1
  BAND_STORAGE_TYPE = BAND_SEQUENTIAL
  MAXIMUM = 255
  MEAN = 134.306
  MINIMUM = 30
  STANDARD_DEVIATION = 48.3693
END_OBJECT = IMAGE
/* MAP OBJECT DEFINITIONS */
OBJECT = IMAGE_MAP_PROJECTION
  ^DATA_SET_MAP_PROJECTION_CATALOG= "DSMAP.CAT"
  A_AXIS_RADIUS = 3396.0
  B_AXIS_RADIUS = 3396.0
  C_AXIS_RADIUS = 3396.0
  CENTER_LATITUDE = 0.0
  CENTER_LONGITUDE = 57.0
  COORDINATE_SYSTEM_NAME = PLANETOGRAPHIC
  COORDINATE_SYSTEM_TYPE = "BODY-FIXED ROTATING"
  EASTERNMOST_LONGITUDE = 136.654
  FIRST_STANDARD_PARALLEL = "N/A"
  LINE_FIRST_PIXEL = 1
  LINE_LAST_PIXEL = 9567
  LINE_PROJECTION_OFFSET = 3926.0
  MAP_PROJECTION_ROTATION = 0.0
  MAP_PROJECTION_TYPE = SINUSOIDAL
  MAP_RESOLUTION = 74.08922548333329
  MAP_SCALE = 0.8
  MAXIMUM_LATITUDE = 52.4372
  MINIMUM_LATITUDE = -75.9502
  POSITIVE_LONGITUDE_DIRECTION = EAST
  REFERENCE_LATITUDE = "N/A"
  REFERENCE_LONGITUDE = "N/A"
  SAMPLE_FIRST_PIXEL = 1
  SAMPLE_LAST_PIXEL = 5544
  SAMPLE_PROJECTION_OFFSET = 1629.0
  SECOND_STANDARD_PARALLEL = "N/A"
  WESTERNMOST_LONGITUDE = 25.3011
END_OBJECT = IMAGE_MAP_PROJECTION
END
