PDS_VERSION_ID = PDS3
/* FILE DATA ELEMENTS */
RECORD_TYPE = UNDEFINED
/* POINTERS TO DATA OBJECTS */
^IMAGE = ("HL717_0000_IR4.TIF")
/* IDENTIFICATION DATA ELEMENTS */
DATA_SET_ID = "MEX-M-HRSC-4-REFDR-MAPPROJECT-EXT8-V4.0"
DATA_SET_NAME = "MARS EXPRESS HRSC MAP PROJECTED REFDR EXTENSION8 V4.0"
DETECTOR_ID = MEX_HRSC_IR
EVENT_TYPE = "MARS-TERMINATOR-CALIBRATION-Tc"
INSTRUMENT_HOST_ID = MEX
INSTRUMENT_HOST_NAME = "MARS EXPRESS"
INSTRUMENT_ID = HRSC
INSTRUMENT_NAME = "HIGH RESOLUTION STEREO CAMERA"
MISSION_NAME = "MARS EXPRESS"
MISSION_PHASE_NAME = ME_Phase_44
PROCESSING_LEVEL_ID = 4
PRODUCT_CREATION_TIME = 2023-01-25T08:48:24.000Z
PRODUCT_ID = "HL717_0000_IR4.TIF"
RELEASE_ID = 0001
REVISION_ID = 0000
/* QUALITY DATA ELEMENTS */
DATA_QUALITY_ID = 1
DATA_QUALITY_DESC = "Data calculated based on original SPICE kernels"
/* TIME DATA ELEMENTS */
SPACECRAFT_CLOCK_START_COUNT = "1/0563305563.25682"
SPACECRAFT_CLOCK_STOP_COUNT = "1/0563305985.25990"
START_TIME = 2021-03-08T17:46:36.918Z
STOP_TIME = 2021-03-08T17:50:12.942Z
/* ORBITAL DATA ELEMENTS */
ASCENDING_NODE_LONGITUDE = 168.37
MAXIMUM_RESOLUTION = 0.7036
FOOTPRINT_POINT_LATITUDE = (-78.2303,-78.2511,-77.4742,-74.8574, -71.4886,-66.961,-62.5919,-59.2922, -54.8137,-51.0065,-45.0828,-44.2508, -43.1939,-42.9997,-40.9438,-40.7023, -39.3222,-38.7328,-37.69,-35.9893, -34.0299,-32.5318,-29.862,-26.4114, -23.8136,-19.2402,-13.4987,-8.71507, -3.98767,-0.958698,3.803,7.90434, 11.7781,16.1466,19.3831,22.1276,25.6801 ,29.9222,32.4311,35.6549,37.8847, 40.6638,44.4617,46.2611,48.9188,52.3362 ,51.6517,53.4546,52.4346,54.2367, 54.6217,57.4548,56.7126,59.4888,61.6703 ,61.6064,64.8391,63.44,66.0753,67.2306, 66.1484,67.9842,66.5291,66.3173,65.8583 ,65.5978,62.6327,59.5259,55.8932, 51.1129,47.3645,42.1176,38.147,34.3381, 30.564,27.483,23.4323,17.4269,14.5926, 10.9934,5.52682,0.856401,-4.01581, -9.8877,-14.7952,-17.9226,-22.0232, -26.9372,-31.0295,-33.9249,-37.4884, -40.5242,-43.212,-48.9663,-55.5122, -60.0616,-63.0158,-66.9047,-73.0649, -78.2303)
FOOTPRINT_POINT_LONGITUDE = (212.314,212.489,215.464,223.083, 230.552,237.022,238.714,240.088,242.732 ,247.194,244.926,248.469,244.947, 248.672,245.724,245.567,249.146,245.608 ,242.21,236.06,231.357,228.536,224.488, 220.431,218.021,214.608,211.478,209.581 ,208.249,207.629,206.989,206.763, 206.827,207.239,207.792,208.445,209.568 ,211.4,212.79,214.992,216.856,219.671, 224.832,228.121,229.849,227.392,222.628 ,226.371,221.543,225.188,219.516, 220.246,215.376,216.237,211.919,206.089 ,203.343,197.606,195.676,187.292, 178.944,173.374,164.091,155.981,153.322 ,152.306,155.044,157.348,159.535,161.84 ,163.329,165.086,166.229,167.212, 168.099,168.771,169.596,170.722,171.222 ,171.833,172.72,173.449,174.19,175.071, 175.807,176.283,176.919,177.712,178.411 ,178.934,179.619,180.25,180.852,182.33, 184.475,186.438,188.035,190.73,197.542, 212.314)
ORBIT_NUMBER = 21717
ORBITAL_ECCENTRICITY = 0.577
ORBITAL_INCLINATION = 86.98
ORBITAL_SEMIMAJOR_AXIS = 8840.47
PERIAPSIS_ALTITUDE = 346.14
PERIAPSIS_ARGUMENT_ANGLE = 200.11
PERIAPSIS_TIME = 2021-03-08T15:44:32.000Z
SPACECRAFT_ORIENTATION = (0.0,-1.0,0.0)
^MEX_ORIENTATION_DESC = "MEX_ORIENTATION_DESC.TXT"
SPACECRAFT_POINTING_MODE = FIXED
^MEX_POINTING_DESC = "MEX_POINTING_DESC.TXT"
RIGHT_ASCENSION = -1e+32
DECLINATION = -1e+32
OFFSET_ANGLE = -1e+32
SPACECRAFT_SOLAR_DISTANCE = 2.38099e+08
TARGET_NAME = MARS
/* CAMERA DATA ELEMENTS */
DETECTOR_TEMPERATURE = 17.5549
FOCAL_PLANE_TEMPERATURE = 9.195
INST_CMPRS_NAME = "DISCRETE COSINE TRANSFORMATION (DCT)"
INST_CMPRS_RATIO = 4.78562
INST_CMPRS_QUALITY = 0
INST_CMPRS_QUANTZ_TBL_ID = 0
INSTRUMENT_TEMPERATURE = 11.4379
LENS_TEMPERATURE = 9.6028
MACROPIXEL_SIZE = 2
MISSING_FRAMES = 0
PIXEL_SUBSAMPLING_FLAG = N
SIGNAL_CHAIN_ID = 1
/* RADIOMETRIC DATA ELEMENTS */
BANDWIDTH = 81.0
CENTER_FILTER_WAVELENGTH = 955.5
RADIANCE_OFFSET = 0.0
RADIANCE_SCALING_FACTOR = 0.0121222
REFLECTANCE_SCALING_FACTOR = 0.00148278
MEX:REFLECTANCE_OFFSET = 0.0
/* IMAGE OBJECT DEFINITIONS */
OBJECT = IMAGE
  INTERCHANGE_FORMAT = BINARY
  LINES = 10904
  LINE_SAMPLES = 4949
  SAMPLE_TYPE = UNSIGNED_INTEGER
  SAMPLE_BITS = 8
  BANDS = 1
  BAND_STORAGE_TYPE = BAND_SEQUENTIAL
  MAXIMUM = 255
  MEAN = 126.02
  MINIMUM = 30
  STANDARD_DEVIATION = 46.6801
END_OBJECT = IMAGE
/* MAP OBJECT DEFINITIONS */
OBJECT = IMAGE_MAP_PROJECTION
  ^DATA_SET_MAP_PROJECTION_CATALOG= "DSMAP.CAT"
  A_AXIS_RADIUS = 3396.0
  B_AXIS_RADIUS = 3396.0
  C_AXIS_RADIUS = 3396.0
  CENTER_LATITUDE = 0.0
  CENTER_LONGITUDE = 190.0
  COORDINATE_SYSTEM_NAME = PLANETOGRAPHIC
  COORDINATE_SYSTEM_TYPE = "BODY-FIXED ROTATING"
  EASTERNMOST_LONGITUDE = 249.146
  FIRST_STANDARD_PARALLEL = "N/A"
  LINE_FIRST_PIXEL = 1
  LINE_LAST_PIXEL = 10904
  LINE_PROJECTION_OFFSET = 5097.0
  MAP_PROJECTION_ROTATION = 0.0
  MAP_PROJECTION_TYPE = SINUSOIDAL
  MAP_RESOLUTION = 74.08922548333329
  MAP_SCALE = 0.8
  MAXIMUM_LATITUDE = 67.9842
  MINIMUM_LATITUDE = -78.25109999999999
  POSITIVE_LONGITUDE_DIRECTION = EAST
  REFERENCE_LATITUDE = "N/A"
  REFERENCE_LONGITUDE = "N/A"
  SAMPLE_FIRST_PIXEL = 1
  SAMPLE_LAST_PIXEL = 4949
  SAMPLE_PROJECTION_OFFSET = 1433.0
  SECOND_STANDARD_PARALLEL = "N/A"
  WESTERNMOST_LONGITUDE = 152.306
END_OBJECT = IMAGE_MAP_PROJECTION
END
