PDS_VERSION_ID = PDS3
/* FILE DATA ELEMENTS */
RECORD_TYPE = UNDEFINED
/* POINTERS TO DATA OBJECTS */
^IMAGE = ("HL624_0000_GR4.TIF")
/* IDENTIFICATION DATA ELEMENTS */
DATA_SET_ID = "MEX-M-HRSC-4-REFDR-MAPPROJECT-EXT8-V4.0"
DATA_SET_NAME = "MARS EXPRESS HRSC MAP PROJECTED REFDR EXTENSION8 V4.0"
DETECTOR_ID = MEX_HRSC_GREEN
EVENT_TYPE = "MARS-TERMINATOR-CALIBRATION-Tc"
INSTRUMENT_HOST_ID = MEX
INSTRUMENT_HOST_NAME = "MARS EXPRESS"
INSTRUMENT_ID = HRSC
INSTRUMENT_NAME = "HIGH RESOLUTION STEREO CAMERA"
MISSION_NAME = "MARS EXPRESS"
MISSION_PHASE_NAME = ME_Phase_44
PROCESSING_LEVEL_ID = 4
PRODUCT_CREATION_TIME = 2023-01-25T08:48:24.000Z
PRODUCT_ID = "HL624_0000_GR4.TIF"
RELEASE_ID = 0001
REVISION_ID = 0000
/* QUALITY DATA ELEMENTS */
DATA_QUALITY_ID = 1
DATA_QUALITY_DESC = "Data calculated based on original SPICE kernels"
/* TIME DATA ELEMENTS */
SPACECRAFT_CLOCK_START_COUNT = "1/0560967395.25674"
SPACECRAFT_CLOCK_STOP_COUNT = "1/0560967855.23411"
START_TIME = 2021-02-09T16:19:24.869Z
STOP_TIME = 2021-02-09T16:23:19.887Z
/* ORBITAL DATA ELEMENTS */
ASCENDING_NODE_LONGITUDE = 170.05
MAXIMUM_RESOLUTION = 0.6958
FOOTPRINT_POINT_LATITUDE = (79.5397,79.5704,71.9408,77.6562, 70.8353,74.7467,69.3106,72.0543,67.3777 ,71.7168,66.9389,69.2736,65.196,69.0432 ,64.3442,67.9966,63.4786,59.3239, 57.6282,53.4728,50.3493,47.9358,43.876, 41.0782,37.0238,34.2359,31.7725,28.363, 25.6986,21.9072,15.9918,12.2344,7.49127 ,4.31971,0.0822193,-3.57014,-8.4863, -11.5091,-18.1924,-22.6684,-25.5223, -29.6036,-32.8461,-37.6663,-41.5892, -45.351,-48.1879,-52.8168,-56.6174, -59.8503,-59.5956,-61.489,-62.4039, -63.755,-63.515,-63.1568,-61.7933, -61.8192,-60.3048,-57.3466,-54.5529, -51.9249,-48.8015,-46.6282,-43.6852, -41.2445,-36.4692,-33.3078,-28.6115, -24.4437,-20.6167,-15.3326,-12.1022, -7.56724,-4.58936,0.79194,4.85561, 8.32117,11.1606,16.2083,19.586,24.2773, 27.3356,30.9423,35.3973,38.411,43.1778, 47.5161,50.8417,56.155,60.0225,64.4036, 67.6148,69.9186,72.2007,75.5493,78.1587 ,80.5573,80.4793,79.5397)
FOOTPRINT_POINT_LONGITUDE = (348.19,348.422,359.995,355.246,359.96, 364.284,359.969,369.704,360.031,372.35, 360.011,372.852,359.964,373.757,359.994 ,374.39,376.958,368.84,363.664,354.892, 350.214,347.286,343.292,341.042,338.317 ,336.735,335.496,333.993,332.965,331.69 ,330.076,329.251,328.418,327.966, 327.491,327.177,326.958,326.89,327.025, 327.325,327.623,328.18,328.766,329.91, 331.136,332.605,333.994,336.839,339.978 ,341.431,335.925,328.09,320.913,313.423 ,302.842,297.473,297.917,291.736, 283.237,280.016,273.555,266.533,271.387 ,274.133,277.308,279.552,283.179, 285.185,287.651,289.491,290.932,292.615 ,293.426,294.498,295.111,296.001, 296.516,296.856,297.07,297.299,297.34, 297.219,297.047,296.723,296.096,295.522 ,294.31,292.776,291.231,287.882,284.418 ,278.737,272.498,266.0,256.141,270.04, 281.526,291.752,315.377,348.19)
ORBIT_NUMBER = 21624
ORBITAL_ECCENTRICITY = 0.577
ORBITAL_INCLINATION = 87.0
ORBITAL_SEMIMAJOR_AXIS = 8812.3
PERIAPSIS_ALTITUDE = 341.82
PERIAPSIS_ARGUMENT_ANGLE = 216.05
PERIAPSIS_TIME = 2021-02-09T14:19:20.000Z
SPACECRAFT_ORIENTATION = (0.0,-1.0,0.0)
^MEX_ORIENTATION_DESC = "MEX_ORIENTATION_DESC.TXT"
SPACECRAFT_POINTING_MODE = FIXED
^MEX_POINTING_DESC = "MEX_POINTING_DESC.TXT"
RIGHT_ASCENSION = -1e+32
DECLINATION = -1e+32
OFFSET_ANGLE = -1e+32
SPACECRAFT_SOLAR_DISTANCE = 2.3338e+08
TARGET_NAME = MARS
/* CAMERA DATA ELEMENTS */
DETECTOR_TEMPERATURE = 17.7588
FOCAL_PLANE_TEMPERATURE = 10.4184
INST_CMPRS_NAME = "DISCRETE COSINE TRANSFORMATION (DCT)"
INST_CMPRS_RATIO = 7.46414
INST_CMPRS_QUALITY = 0
INST_CMPRS_QUANTZ_TBL_ID = 0
INSTRUMENT_TEMPERATURE = 12.0496
LENS_TEMPERATURE = 10.4184
MACROPIXEL_SIZE = 2
MISSING_FRAMES = 0
PIXEL_SUBSAMPLING_FLAG = N
SIGNAL_CHAIN_ID = 2
/* RADIOMETRIC DATA ELEMENTS */
BANDWIDTH = 88.0
CENTER_FILTER_WAVELENGTH = 538.0
RADIANCE_OFFSET = 0.0
RADIANCE_SCALING_FACTOR = 0.0144553
REFLECTANCE_SCALING_FACTOR = 0.000677953
MEX:REFLECTANCE_OFFSET = 0.0
/* IMAGE OBJECT DEFINITIONS */
OBJECT = IMAGE
  INTERCHANGE_FORMAT = BINARY
  LINES = 10816
  LINE_SAMPLES = 4560
  SAMPLE_TYPE = UNSIGNED_INTEGER
  SAMPLE_BITS = 8
  BANDS = 1
  BAND_STORAGE_TYPE = BAND_SEQUENTIAL
  MAXIMUM = 255
  MEAN = 136.753
  MINIMUM = 4
  STANDARD_DEVIATION = 46.5628
END_OBJECT = IMAGE
/* MAP OBJECT DEFINITIONS */
OBJECT = IMAGE_MAP_PROJECTION
  ^DATA_SET_MAP_PROJECTION_CATALOG= "DSMAP.CAT"
  A_AXIS_RADIUS = 3396.0
  B_AXIS_RADIUS = 3396.0
  C_AXIS_RADIUS = 3396.0
  CENTER_LATITUDE = 0.0
  CENTER_LONGITUDE = 313.0
  COORDINATE_SYSTEM_NAME = PLANETOGRAPHIC
  COORDINATE_SYSTEM_TYPE = "BODY-FIXED ROTATING"
  EASTERNMOST_LONGITUDE = 16.958
  FIRST_STANDARD_PARALLEL = "N/A"
  LINE_FIRST_PIXEL = 1
  LINE_LAST_PIXEL = 10816
  LINE_PROJECTION_OFFSET = 6038.0
  MAP_PROJECTION_ROTATION = 0.0
  MAP_PROJECTION_TYPE = SINUSOIDAL
  MAP_RESOLUTION = 74.08922548333329
  MAP_SCALE = 0.8
  MAXIMUM_LATITUDE = 80.5573
  MINIMUM_LATITUDE = -63.755
  POSITIVE_LONGITUDE_DIRECTION = EAST
  REFERENCE_LATITUDE = "N/A"
  REFERENCE_LONGITUDE = "N/A"
  SAMPLE_FIRST_PIXEL = 1
  SAMPLE_LAST_PIXEL = 4560
  SAMPLE_PROJECTION_OFFSET = 2130.0
  SECOND_STANDARD_PARALLEL = "N/A"
  WESTERNMOST_LONGITUDE = -103.859
END_OBJECT = IMAGE_MAP_PROJECTION
END
