PDS_VERSION_ID = PDS3
/* FILE DATA ELEMENTS */
RECORD_TYPE = UNDEFINED
/* POINTERS TO DATA OBJECTS */
^IMAGE = ("HL547_0000_ND4.TIF")
/* IDENTIFICATION DATA ELEMENTS */
DATA_SET_ID = "MEX-M-HRSC-4-REFDR-MAPPROJECT-EXT8-V4.0"
DATA_SET_NAME = "MARS EXPRESS HRSC MAP PROJECTED REFDR EXTENSION8 V4.0"
DETECTOR_ID = MEX_HRSC_NADIR
EVENT_TYPE = "MARS-TERMINATOR-CALIBRATION-Tc"
INSTRUMENT_HOST_ID = MEX
INSTRUMENT_HOST_NAME = "MARS EXPRESS"
INSTRUMENT_ID = HRSC
INSTRUMENT_NAME = "HIGH RESOLUTION STEREO CAMERA"
MISSION_NAME = "MARS EXPRESS"
MISSION_PHASE_NAME = ME_Phase_44
PROCESSING_LEVEL_ID = 4
PRODUCT_CREATION_TIME = 2023-01-25T08:48:24.000Z
PRODUCT_ID = "HL547_0000_ND4.TIF"
RELEASE_ID = 0001
REVISION_ID = 0000
/* QUALITY DATA ELEMENTS */
DATA_QUALITY_ID = 1
DATA_QUALITY_DESC = "Data calculated based on original SPICE kernels"
/* TIME DATA ELEMENTS */
SPACECRAFT_CLOCK_START_COUNT = "1/0559032038.23978"
SPACECRAFT_CLOCK_STOP_COUNT = "1/0559032490.23396"
START_TIME = 2021-01-18T06:43:03.801Z
STOP_TIME = 2021-01-18T06:46:51.816Z
/* ORBITAL DATA ELEMENTS */
ASCENDING_NODE_LONGITUDE = 171.45
MAXIMUM_RESOLUTION = 0.7213
FOOTPRINT_POINT_LATITUDE = (60.2766,60.2436,68.9498,58.9888, 55.5192,51.6773,48.2063,45.1907,40.4007 ,40.3193,41.3292,41.6751,41.5602,41.189 ,40.2085,39.5214,38.1676,36.8157, 35.3013,33.581,31.962,30.2948,27.2891, 23.4086,20.5115,18.5053,15.7518,10.9586 ,8.56094,4.79439,2.48098,-1.0541, -5.23861,-7.91402,-10.972,-15.292, -17.9398,-22.2534,-26.3474,-29.6665, -32.143,-36.5087,-41.4606,-44.5783, -47.0103,-44.3345,-43.3016,-41.9574, -40.9285,-39.4057,-38.1456,-36.4473, -33.3044,-29.4849,-29.4425,-26.2806, -26.3066,-23.0109,-19.3815,-15.4288, -11.3408,-9.15202,-6.83905,-4.08385, -1.31598,2.30381,4.74887,8.04765, 10.2508,13.0615,16.7916,21.1891,23.7267 ,27.5137,30.3703,35.0431,39.2425,41.781 ,44.2165,48.3681,51.9118,55.7172, 58.9818,62.5133,68.0085,70.3318,73.2653 ,76.983,79.3014,80.9419,81.582,80.9158, 78.8695,77.6049,74.609,77.8523,72.719, 68.6778,65.7422,60.2766)
FOOTPRINT_POINT_LONGITUDE = (355.203,355.289,359.971,353.386, 349.937,347.68,345.431,343.631,344.467, 339.636,332.482,325.765,320.615,316.131 ,309.76,306.608,301.753,297.902,294.293 ,290.788,287.906,285.264,281.122, 276.651,273.77,271.952,269.661,266.125, 264.537,262.24,260.933,259.064,257.023, 255.805,254.492,252.746,251.721,250.151 ,248.719,247.601,246.788,245.377, 243.812,242.814,237.794,234.309,228.364 ,223.818,218.786,216.475,214.854, 212.264,209.547,206.012,203.061,203.321 ,199.88,198.823,202.757,207.087,210.994 ,212.912,214.825,216.976,219.022, 221.542,223.181,225.278,226.634,228.321 ,230.538,232.961,234.358,236.428,237.98 ,240.522,242.857,244.287,245.664, 248.109,250.371,253.026,255.568,258.722 ,265.019,268.531,274.247,285.452,297.76 ,314.635,331.925,361.738,381.157,369.27 ,371.102,360.034,365.879,362.449, 357.906,355.203)
ORBIT_NUMBER = 21547
ORBITAL_ECCENTRICITY = 0.577
ORBITAL_INCLINATION = 86.99
ORBITAL_SEMIMAJOR_AXIS = 8796.63
PERIAPSIS_ALTITUDE = 339.29
PERIAPSIS_ARGUMENT_ANGLE = 229.17
PERIAPSIS_TIME = 2021-01-18T04:35:22.000Z
SPACECRAFT_ORIENTATION = (0.0,-1.0,0.0)
^MEX_ORIENTATION_DESC = "MEX_ORIENTATION_DESC.TXT"
SPACECRAFT_POINTING_MODE = FIXED
^MEX_POINTING_DESC = "MEX_POINTING_DESC.TXT"
RIGHT_ASCENSION = -1e+32
DECLINATION = -1e+32
OFFSET_ANGLE = -1e+32
SPACECRAFT_SOLAR_DISTANCE = 2.29144e+08
TARGET_NAME = MARS
/* CAMERA DATA ELEMENTS */
DETECTOR_TEMPERATURE = 18.1666
FOCAL_PLANE_TEMPERATURE = 8.1755
INST_CMPRS_NAME = "DISCRETE COSINE TRANSFORMATION (DCT)"
INST_CMPRS_RATIO = 9.02372
INST_CMPRS_QUALITY = 0
INST_CMPRS_QUANTZ_TBL_ID = 0
INSTRUMENT_TEMPERATURE = 10.6223
LENS_TEMPERATURE = 8.5833
MACROPIXEL_SIZE = 2
MISSING_FRAMES = 0
PIXEL_SUBSAMPLING_FLAG = N
SIGNAL_CHAIN_ID = 0
/* RADIOMETRIC DATA ELEMENTS */
BANDWIDTH = 177.0
CENTER_FILTER_WAVELENGTH = 677.5
RADIANCE_OFFSET = 0.0
RADIANCE_SCALING_FACTOR = 0.0494885
REFLECTANCE_SCALING_FACTOR = 0.00138061
MEX:REFLECTANCE_OFFSET = 0.0
/* IMAGE OBJECT DEFINITIONS */
OBJECT = IMAGE
  INTERCHANGE_FORMAT = BINARY
  LINES = 9600
  LINE_SAMPLES = 9012
  SAMPLE_TYPE = UNSIGNED_INTEGER
  SAMPLE_BITS = 8
  BANDS = 1
  BAND_STORAGE_TYPE = BAND_SEQUENTIAL
  MAXIMUM = 255
  MEAN = 136.532
  MINIMUM = 8
  STANDARD_DEVIATION = 41.7131
END_OBJECT = IMAGE
/* MAP OBJECT DEFINITIONS */
OBJECT = IMAGE_MAP_PROJECTION
  ^DATA_SET_MAP_PROJECTION_CATALOG= "DSMAP.CAT"
  A_AXIS_RADIUS = 3396.0
  B_AXIS_RADIUS = 3396.0
  C_AXIS_RADIUS = 3396.0
  CENTER_LATITUDE = 0.0
  CENTER_LONGITUDE = 255.0
  COORDINATE_SYSTEM_NAME = PLANETOGRAPHIC
  COORDINATE_SYSTEM_TYPE = "BODY-FIXED ROTATING"
  EASTERNMOST_LONGITUDE = 21.157
  FIRST_STANDARD_PARALLEL = "N/A"
  LINE_FIRST_PIXEL = 1
  LINE_LAST_PIXEL = 9600
  LINE_PROJECTION_OFFSET = 6047.0
  MAP_PROJECTION_ROTATION = 0.0
  MAP_PROJECTION_TYPE = SINUSOIDAL
  MAP_RESOLUTION = 74.08922548333329
  MAP_SCALE = 0.8
  MAXIMUM_LATITUDE = 81.58199999999999
  MINIMUM_LATITUDE = -47.0103
  POSITIVE_LONGITUDE_DIRECTION = EAST
  REFERENCE_LATITUDE = "N/A"
  REFERENCE_LONGITUDE = "N/A"
  SAMPLE_FIRST_PIXEL = 1
  SAMPLE_LAST_PIXEL = 9012
  SAMPLE_PROJECTION_OFFSET = 3913.0
  SECOND_STANDARD_PARALLEL = "N/A"
  WESTERNMOST_LONGITUDE = -161.177
END_OBJECT = IMAGE_MAP_PROJECTION
END
