PDS_VERSION_ID = PDS3
/* FILE DATA ELEMENTS */
RECORD_TYPE = UNDEFINED
/* POINTERS TO DATA OBJECTS */
^IMAGE = ("HL536_0000_ND4.TIF")
/* IDENTIFICATION DATA ELEMENTS */
DATA_SET_ID = "MEX-M-HRSC-4-REFDR-MAPPROJECT-EXT8-V4.0"
DATA_SET_NAME = "MARS EXPRESS HRSC MAP PROJECTED REFDR EXTENSION8 V4.0"
DETECTOR_ID = MEX_HRSC_NADIR
EVENT_TYPE = "MARS-TERMINATOR-CALIBRATION-Tc"
INSTRUMENT_HOST_ID = MEX
INSTRUMENT_HOST_NAME = "MARS EXPRESS"
INSTRUMENT_ID = HRSC
INSTRUMENT_NAME = "HIGH RESOLUTION STEREO CAMERA"
MISSION_NAME = "MARS EXPRESS"
MISSION_PHASE_NAME = ME_Phase_44
PROCESSING_LEVEL_ID = 4
PRODUCT_CREATION_TIME = 2023-01-25T08:48:24.000Z
PRODUCT_ID = "HL536_0000_ND4.TIF"
RELEASE_ID = 0001
REVISION_ID = 0000
/* QUALITY DATA ELEMENTS */
DATA_QUALITY_ID = 1
DATA_QUALITY_DESC = "Data calculated based on original SPICE kernels"
/* TIME DATA ELEMENTS */
SPACECRAFT_CLOCK_START_COUNT = "1/0558757490.23973"
SPACECRAFT_CLOCK_STOP_COUNT = "1/0558757920.24847"
START_TIME = 2021-01-15T02:27:13.805Z
STOP_TIME = 2021-01-15T02:30:42.792Z
/* ORBITAL DATA ELEMENTS */
ASCENDING_NODE_LONGITUDE = 171.64
MAXIMUM_RESOLUTION = 0.8018
FOOTPRINT_POINT_LATITUDE = (46.9863,46.9343,47.5211,45.3638, 41.9964,39.5549,36.5655,33.053,30.2399, 28.9725,30.8477,32.1366,33.5176,35.2907 ,36.3895,37.0212,37.1052,36.9022, 36.1885,35.1691,33.5044,32.2081,30.478, 28.4422,25.8124,24.1987,22.5549,18.654, 15.225,11.8105,8.18716,5.51725,1.66034, -1.14649,-5.22929,-8.00702,-11.868, -15.2472,-18.0548,-23.4092,-28.4431, -31.588,-33.7733,-32.0503,-29.2743, -29.9241,-28.0196,-26.4977,-25.2979, -25.7966,-22.1516,-22.5685,-22.256, -18.9229,-16.0562,-15.3025,-12.5734, -12.1646,-9.41916,-6.0732,-2.62925, 1.32437,4.9303,7.26047,11.491,15.3869, 17.7733,20.6295,23.3414,27.8462,30.7983 ,35.6438,39.8628,43.672,46.6253,51.242, 54.6218,58.4456,61.0017,63.5791,66.7859 ,69.4349,72.0479,73.7281,76.152,77.1613 ,77.4671,76.2176,74.516,71.9274,69.9688 ,67.8661,64.4621,61.7907,60.5968,57.502 ,56.0028,53.53,51.1197,46.9863)
FOOTPRINT_POINT_LONGITUDE = (401.027,401.081,399.948,397.622, 395.414,391.137,390.102,386.977,384.682 ,380.483,376.714,373.697,369.881, 363.487,357.445,350.649,346.837,341.483 ,335.306,330.112,324.218,320.65,316.673 ,312.751,308.49,306.195,304.049,299.617 ,296.28,293.342,290.555,288.681,286.174 ,284.556,282.245,280.869,278.924, 277.369,276.131,273.881,271.862,270.637 ,266.665,263.042,259.926,256.006, 253.382,249.837,249.675,249.317,244.405 ,243.811,244.086,238.759,237.865, 234.778,234.62,231.349,230.666,230.287, 233.6,237.122,240.109,241.949,245.148, 247.984,249.681,251.686,253.569,256.669 ,258.713,262.113,265.179,268.078, 270.443,274.45,277.712,281.921,285.156, 288.907,294.571,300.559,308.458,315.369 ,331.224,344.645,362.044,385.251, 397.629,408.986,414.985,420.063,426.483 ,425.175,417.475,415.677,411.325, 407.515,405.762,401.027)
ORBIT_NUMBER = 21536
ORBITAL_ECCENTRICITY = 0.576
ORBITAL_INCLINATION = 86.99
ORBITAL_SEMIMAJOR_AXIS = 8790.47
PERIAPSIS_ALTITUDE = 339.06
PERIAPSIS_ARGUMENT_ANGLE = 231.06
PERIAPSIS_TIME = 2021-01-14T23:46:06.000Z
SPACECRAFT_ORIENTATION = (0.0,-1.0,0.0)
^MEX_ORIENTATION_DESC = "MEX_ORIENTATION_DESC.TXT"
SPACECRAFT_POINTING_MODE = FIXED
^MEX_POINTING_DESC = "MEX_POINTING_DESC.TXT"
RIGHT_ASCENSION = -1e+32
DECLINATION = -1e+32
OFFSET_ANGLE = -1e+32
SPACECRAFT_SOLAR_DISTANCE = 2.28524e+08
TARGET_NAME = MARS
/* CAMERA DATA ELEMENTS */
DETECTOR_TEMPERATURE = 18.1666
FOCAL_PLANE_TEMPERATURE = 7.5638
INST_CMPRS_NAME = "DISCRETE COSINE TRANSFORMATION (DCT)"
INST_CMPRS_RATIO = 10.0874
INST_CMPRS_QUALITY = 0
INST_CMPRS_QUANTZ_TBL_ID = 0
INSTRUMENT_TEMPERATURE = 11.0301
LENS_TEMPERATURE = 8.3794
MACROPIXEL_SIZE = 2
MISSING_FRAMES = 0
PIXEL_SUBSAMPLING_FLAG = N
SIGNAL_CHAIN_ID = 0
/* RADIOMETRIC DATA ELEMENTS */
BANDWIDTH = 177.0
CENTER_FILTER_WAVELENGTH = 677.5
RADIANCE_OFFSET = 0.0
RADIANCE_SCALING_FACTOR = 0.043391
REFLECTANCE_SCALING_FACTOR = 0.00120401
MEX:REFLECTANCE_OFFSET = 0.0
/* IMAGE OBJECT DEFINITIONS */
OBJECT = IMAGE
  INTERCHANGE_FORMAT = BINARY
  LINES = 8307
  LINE_SAMPLES = 10735
  SAMPLE_TYPE = UNSIGNED_INTEGER
  SAMPLE_BITS = 8
  BANDS = 1
  BAND_STORAGE_TYPE = BAND_SEQUENTIAL
  MAXIMUM = 255
  MEAN = 129.997
  MINIMUM = 1
  STANDARD_DEVIATION = 42.1623
END_OBJECT = IMAGE
/* MAP OBJECT DEFINITIONS */
OBJECT = IMAGE_MAP_PROJECTION
  ^DATA_SET_MAP_PROJECTION_CATALOG= "DSMAP.CAT"
  A_AXIS_RADIUS = 3396.0
  B_AXIS_RADIUS = 3396.0
  C_AXIS_RADIUS = 3396.0
  CENTER_LATITUDE = 0.0
  CENTER_LONGITUDE = 292.0
  COORDINATE_SYSTEM_NAME = PLANETOGRAPHIC
  COORDINATE_SYSTEM_TYPE = "BODY-FIXED ROTATING"
  EASTERNMOST_LONGITUDE = 66.483
  FIRST_STANDARD_PARALLEL = "N/A"
  LINE_FIRST_PIXEL = 1
  LINE_LAST_PIXEL = 8307
  LINE_PROJECTION_OFFSET = 5741.0
  MAP_PROJECTION_ROTATION = 0.0
  MAP_PROJECTION_TYPE = SINUSOIDAL
  MAP_RESOLUTION = 74.08922548333329
  MAP_SCALE = 0.8
  MAXIMUM_LATITUDE = 77.4671
  MINIMUM_LATITUDE = -33.7733
  POSITIVE_LONGITUDE_DIRECTION = EAST
  REFERENCE_LATITUDE = "N/A"
  REFERENCE_LONGITUDE = "N/A"
  SAMPLE_FIRST_PIXEL = 1
  SAMPLE_LAST_PIXEL = 10735
  SAMPLE_PROJECTION_OFFSET = 4720.0
  SECOND_STANDARD_PARALLEL = "N/A"
  WESTERNMOST_LONGITUDE = -129.713
END_OBJECT = IMAGE_MAP_PROJECTION
END
