PDS_VERSION_ID = PDS3
/* FILE DATA ELEMENTS */
RECORD_TYPE = UNDEFINED
/* POINTERS TO DATA OBJECTS */
^IMAGE = ("HL479_0000_IR4.TIF")
/* IDENTIFICATION DATA ELEMENTS */
DATA_SET_ID = "MEX-M-HRSC-4-REFDR-MAPPROJECT-EXT7-V4.0"
DATA_SET_NAME = "MARS EXPRESS HRSC MAP PROJECTED REFDR EXTENSION7 V4.0"
DETECTOR_ID = MEX_HRSC_IR
EVENT_TYPE = "MARS-TERMINATOR-CALIBRATION-Tc"
INSTRUMENT_HOST_ID = MEX
INSTRUMENT_HOST_NAME = "MARS EXPRESS"
INSTRUMENT_ID = HRSC
INSTRUMENT_NAME = "HIGH RESOLUTION STEREO CAMERA"
MISSION_NAME = "MARS EXPRESS"
MISSION_PHASE_NAME = ME_Phase_43
PROCESSING_LEVEL_ID = 4
PRODUCT_CREATION_TIME = 2023-01-29T17:38:44.000Z
PRODUCT_ID = "HL479_0000_IR4.TIF"
RELEASE_ID = 0005
REVISION_ID = 0000
/* QUALITY DATA ELEMENTS */
DATA_QUALITY_ID = 1
DATA_QUALITY_DESC = "Data calculated based on original SPICE kernels"
/* TIME DATA ELEMENTS */
SPACECRAFT_CLOCK_START_COUNT = "1/0557321372.25083"
SPACECRAFT_CLOCK_STOP_COUNT = "1/0557321835.24331"
START_TIME = 2020-12-29T11:33:47.786Z
STOP_TIME = 2020-12-29T11:37:46.778Z
/* ORBITAL DATA ELEMENTS */
ASCENDING_NODE_LONGITUDE = 172.66
MAXIMUM_RESOLUTION = 0.672
FOOTPRINT_POINT_LATITUDE = (43.6541,43.6171,42.2547,39.833,37.1445 ,32.5158,28.8596,26.4826,27.8416, 28.8891,29.6864,31.3197,32.1689,32.5895 ,32.9197,32.9077,32.7219,32.0903, 31.2667,30.534,29.2144,27.3658,26.0714, 24.7868,22.5767,20.609,18.952,16.2684, 14.0,11.2826,9.17532,7.50803,4.90715, 0.861165,-1.34287,-4.88378,-8.5593, -10.8543,-13.2277,-16.9213,-18.9728, -21.7427,-26.0681,-29.4276,-32.4998, -30.2998,-30.2008,-27.2364,-26.4995, -23.8364,-23.6807,-23.1673,-20.7954, -16.3082,-12.75,-9.86127,-6.87565, -2.90732,-0.890738,1.06197,3.12478, 5.13281,6.74485,10.7096,13.8816,16.103, 18.0835,21.1953,24.1661,26.6061,30.092, 32.5328,35.4034,38.3479,40.3033,42.9379 ,45.1675,48.3024,50.9286,52.9434, 54.5227,56.5805,59.2761,61.0822,62.4243 ,63.4538,64.7877,65.6349,66.3534, 66.4737,65.7961,64.5075,63.3754,62.3477 ,59.1707,56.7711,54.2441,50.6692, 47.9243,43.6541)
FOOTPRINT_POINT_LONGITUDE = (458.866,458.927,457.564,455.404, 454.061,449.87,448.269,448.796,445.391, 442.361,439.793,433.115,428.088,424.325 ,418.369,414.305,410.589,404.698,399.92 ,396.676,391.949,386.716,383.618,380.87 ,376.715,373.446,370.951,367.277, 364.474,361.389,359.173,357.507,355.045 ,351.491,349.666,346.862,344.087, 342.403,340.697,338.089,336.65,334.718, 331.683,329.268,326.788,325.671,322.693 ,319.823,316.708,314.264,313.211, 312.298,310.391,307.674,303.442,300.921 ,298.434,300.936,303.511,305.888,308.31 ,310.592,312.374,316.613,319.901,322.18 ,324.195,327.35,330.375,332.883,336.529 ,339.152,342.335,345.744,348.11,351.465 ,354.479,359.082,363.363,366.996, 370.117,374.648,381.698,387.493,392.675 ,397.431,405.34,412.491,423.421,429.928 ,446.116,456.855,463.196,467.812, 471.756,465.619,466.069,461.678,461.302 ,458.866)
ORBIT_NUMBER = 21479
ORBITAL_ECCENTRICITY = 0.576
ORBITAL_INCLINATION = 86.99
ORBITAL_SEMIMAJOR_AXIS = 8774.69
PERIAPSIS_ALTITUDE = 338.14
PERIAPSIS_ARGUMENT_ANGLE = 240.69
PERIAPSIS_TIME = 2020-12-29T09:41:04.000Z
SPACECRAFT_ORIENTATION = (0.0,-1.0,0.0)
^MEX_ORIENTATION_DESC = "MEX_ORIENTATION_DESC.TXT"
SPACECRAFT_POINTING_MODE = FIXED
^MEX_POINTING_DESC = "MEX_POINTING_DESC.TXT"
RIGHT_ASCENSION = -1e+32
DECLINATION = -1e+32
OFFSET_ANGLE = -1e+32
SPACECRAFT_SOLAR_DISTANCE = 2.25289e+08
TARGET_NAME = MARS
/* CAMERA DATA ELEMENTS */
DETECTOR_TEMPERATURE = 16.7393
FOCAL_PLANE_TEMPERATURE = 8.1755
INST_CMPRS_NAME = "DISCRETE COSINE TRANSFORMATION (DCT)"
INST_CMPRS_RATIO = 5.10532
INST_CMPRS_QUALITY = 0
INST_CMPRS_QUANTZ_TBL_ID = 0
INSTRUMENT_TEMPERATURE = 11.234
LENS_TEMPERATURE = 8.7872
MACROPIXEL_SIZE = 2
MISSING_FRAMES = 0
PIXEL_SUBSAMPLING_FLAG = N
SIGNAL_CHAIN_ID = 1
/* RADIOMETRIC DATA ELEMENTS */
BANDWIDTH = 81.0
CENTER_FILTER_WAVELENGTH = 955.5
RADIANCE_OFFSET = 0.0
RADIANCE_SCALING_FACTOR = 0.0123426
REFLECTANCE_SCALING_FACTOR = 0.00135167
MEX:REFLECTANCE_OFFSET = 0.0
/* IMAGE OBJECT DEFINITIONS */
OBJECT = IMAGE
  INTERCHANGE_FORMAT = BINARY
  LINES = 7397
  LINE_SAMPLES = 10512
  SAMPLE_TYPE = UNSIGNED_INTEGER
  SAMPLE_BITS = 8
  BANDS = 1
  BAND_STORAGE_TYPE = BAND_SEQUENTIAL
  MAXIMUM = 255
  MEAN = 126.9
  MINIMUM = 11
  STANDARD_DEVIATION = 42.9975
END_OBJECT = IMAGE
/* MAP OBJECT DEFINITIONS */
OBJECT = IMAGE_MAP_PROJECTION
  ^DATA_SET_MAP_PROJECTION_CATALOG= "DSMAP.CAT"
  A_AXIS_RADIUS = 3396.0
  B_AXIS_RADIUS = 3396.0
  C_AXIS_RADIUS = 3396.0
  CENTER_LATITUDE = 0.0
  CENTER_LONGITUDE = 5.0
  COORDINATE_SYSTEM_NAME = PLANETOGRAPHIC
  COORDINATE_SYSTEM_TYPE = "BODY-FIXED ROTATING"
  EASTERNMOST_LONGITUDE = 111.756
  FIRST_STANDARD_PARALLEL = "N/A"
  LINE_FIRST_PIXEL = 1
  LINE_LAST_PIXEL = 7397
  LINE_PROJECTION_OFFSET = 4824.0
  MAP_PROJECTION_ROTATION = 0.0
  MAP_PROJECTION_TYPE = SINUSOIDAL
  MAP_RESOLUTION = 74.08922548333329
  MAP_SCALE = 0.8
  MAXIMUM_LATITUDE = 66.47369999999999
  MINIMUM_LATITUDE = -32.4998
  POSITIVE_LONGITUDE_DIRECTION = EAST
  REFERENCE_LATITUDE = "N/A"
  REFERENCE_LONGITUDE = "N/A"
  SAMPLE_FIRST_PIXEL = 1
  SAMPLE_LAST_PIXEL = 10512
  SAMPLE_PROJECTION_OFFSET = 4917.0
  SECOND_STANDARD_PARALLEL = "N/A"
  WESTERNMOST_LONGITUDE = -61.566
END_OBJECT = IMAGE_MAP_PROJECTION
END
