PDS_VERSION_ID = PDS3
/* FILE DATA ELEMENTS */
RECORD_TYPE = UNDEFINED
/* POINTERS TO DATA OBJECTS */
^IMAGE = ("HL478_0000_ND4.TIF")
/* IDENTIFICATION DATA ELEMENTS */
DATA_SET_ID = "MEX-M-HRSC-4-REFDR-MAPPROJECT-EXT7-V4.0"
DATA_SET_NAME = "MARS EXPRESS HRSC MAP PROJECTED REFDR EXTENSION7 V4.0"
DETECTOR_ID = MEX_HRSC_NADIR
EVENT_TYPE = "MARS-TERMINATOR-CALIBRATION-Tc"
INSTRUMENT_HOST_ID = MEX
INSTRUMENT_HOST_NAME = "MARS EXPRESS"
INSTRUMENT_ID = HRSC
INSTRUMENT_NAME = "HIGH RESOLUTION STEREO CAMERA"
MISSION_NAME = "MARS EXPRESS"
MISSION_PHASE_NAME = ME_Phase_43
PROCESSING_LEVEL_ID = 4
PRODUCT_CREATION_TIME = 2023-01-29T17:38:44.000Z
PRODUCT_ID = "HL478_0000_ND4.TIF"
RELEASE_ID = 0005
REVISION_ID = 0000
/* QUALITY DATA ELEMENTS */
DATA_QUALITY_ID = 1
DATA_QUALITY_DESC = "Data calculated based on original SPICE kernels"
/* TIME DATA ELEMENTS */
SPACECRAFT_CLOCK_START_COUNT = "1/0557295137.24877"
SPACECRAFT_CLOCK_STOP_COUNT = "1/0557295627.24258"
START_TIME = 2020-12-29T04:14:43.792Z
STOP_TIME = 2020-12-29T04:19:09.756Z
/* ORBITAL DATA ELEMENTS */
ASCENDING_NODE_LONGITUDE = 172.69
MAXIMUM_RESOLUTION = 0.5883
FOOTPRINT_POINT_LATITUDE = (49.567,49.5462,48.2571,45.1805,42.1701 ,38.3266,35.0081,33.9337,30.5799, 30.8447,31.5713,32.0055,32.146,32.1395, 31.7635,31.0962,30.5261,29.473,28.6041, 27.5125,25.4688,24.1024,22.7007,20.1118 ,18.4806,17.0805,15.179,13.5011,10.631, 8.40905,6.26282,2.67677,-1.31781, -3.76886,-6.23103,-9.665,-12.2194, -15.2864,-19.0821,-24.3566,-28.4042, -31.3305,-34.5545,-37.0222,-40.7728, -37.6618,-37.5689,-34.774,-32.8468, -31.6701,-30.5594,-29.4007,-26.9471, -22.7673,-19.7254,-16.7878,-14.9647, -13.4062,-10.9453,-9.08912,-5.65904, -3.27942,-1.37338,1.27191,4.88081, 6.73303,9.51643,11.6366,13.5085,15.5336 ,18.2439,21.3966,24.2675,28.2992, 30.2077,32.88,35.5355,37.4344,39.8411, 43.0406,45.5044,47.3617,49.3065,51.7416 ,54.2301,57.1429,59.164,60.6357,63.0071 ,64.1413,65.0957,65.5152,65.6526, 65.4732,64.3851,61.539,59.1458,55.5005, 53.0493,49.567)
FOOTPRINT_POINT_LONGITUDE = (196.318,196.372,195.987,193.948, 193.683,190.855,192.097,189.464,190.496 ,187.625,182.819,177.98,174.583,170.692 ,164.532,159.33,156.178,151.615,148.496 ,145.161,139.985,137.039,134.302, 129.803,127.272,125.248,122.688,120.58, 117.247,114.863,112.696,109.354,105.914 ,103.917,101.992,99.4182,97.5649, 95.3907,92.7588,89.1539,86.3691,84.31, 82.0001,80.1561,75.952,73.5028,69.89, 66.7672,64.8684,61.9168,61.4593,60.0722 ,57.9953,55.1372,52.9255,50.8353, 48.0755,50.3156,54.0413,56.6546,61.1406 ,64.0385,66.2593,69.2287,73.1015, 75.0274,77.8482,79.9609,81.8191,83.8182 ,86.4824,89.5856,92.4298,96.4925, 98.4575,101.275,104.17,106.313,109.139, 113.135,116.452,119.127,122.129,126.257 ,131.034,137.656,143.239,148.086, 158.311,165.303,174.123,181.117,187.345 ,196.2,201.178,197.499,196.675,196.525, 196.637,196.318)
ORBIT_NUMBER = 21478
ORBITAL_ECCENTRICITY = 0.576
ORBITAL_INCLINATION = 87.0
ORBITAL_SEMIMAJOR_AXIS = 8772.79
PERIAPSIS_ALTITUDE = 337.91
PERIAPSIS_ARGUMENT_ANGLE = 240.88
PERIAPSIS_TIME = 2020-12-29T02:42:06.000Z
SPACECRAFT_ORIENTATION = (0.0,-1.0,0.0)
^MEX_ORIENTATION_DESC = "MEX_ORIENTATION_DESC.TXT"
SPACECRAFT_POINTING_MODE = FIXED
^MEX_POINTING_DESC = "MEX_POINTING_DESC.TXT"
RIGHT_ASCENSION = -1e+32
DECLINATION = -1e+32
OFFSET_ANGLE = -1e+32
SPACECRAFT_SOLAR_DISTANCE = 2.25232e+08
TARGET_NAME = MARS
/* CAMERA DATA ELEMENTS */
DETECTOR_TEMPERATURE = 17.9627
FOCAL_PLANE_TEMPERATURE = 7.9716
INST_CMPRS_NAME = "DISCRETE COSINE TRANSFORMATION (DCT)"
INST_CMPRS_RATIO = 10.0737
INST_CMPRS_QUALITY = 0
INST_CMPRS_QUANTZ_TBL_ID = 0
INSTRUMENT_TEMPERATURE = 11.234
LENS_TEMPERATURE = 8.1755
MACROPIXEL_SIZE = 2
MISSING_FRAMES = 0
PIXEL_SUBSAMPLING_FLAG = N
SIGNAL_CHAIN_ID = 0
/* RADIOMETRIC DATA ELEMENTS */
BANDWIDTH = 177.0
CENTER_FILTER_WAVELENGTH = 677.5
RADIANCE_OFFSET = 0.0
RADIANCE_SCALING_FACTOR = 0.0511224
REFLECTANCE_SCALING_FACTOR = 0.00137786
MEX:REFLECTANCE_OFFSET = 0.0
/* IMAGE OBJECT DEFINITIONS */
OBJECT = IMAGE
  INTERCHANGE_FORMAT = BINARY
  LINES = 15879
  LINE_SAMPLES = 19269
  SAMPLE_TYPE = UNSIGNED_INTEGER
  SAMPLE_BITS = 8
  BANDS = 1
  BAND_STORAGE_TYPE = BAND_SEQUENTIAL
  MAXIMUM = 255
  MEAN = 150.337
  MINIMUM = 57
  STANDARD_DEVIATION = 33.3959
END_OBJECT = IMAGE
/* MAP OBJECT DEFINITIONS */
OBJECT = IMAGE_MAP_PROJECTION
  ^DATA_SET_MAP_PROJECTION_CATALOG= "DSMAP.CAT"
  A_AXIS_RADIUS = 3396.0
  B_AXIS_RADIUS = 3396.0
  C_AXIS_RADIUS = 3396.0
  CENTER_LATITUDE = 0.0
  CENTER_LONGITUDE = 111.0
  COORDINATE_SYSTEM_NAME = PLANETOGRAPHIC
  COORDINATE_SYSTEM_TYPE = "BODY-FIXED ROTATING"
  EASTERNMOST_LONGITUDE = 201.178
  FIRST_STANDARD_PARALLEL = "N/A"
  LINE_FIRST_PIXEL = 1
  LINE_LAST_PIXEL = 15879
  LINE_PROJECTION_OFFSET = 9728.0
  MAP_PROJECTION_ROTATION = 0.0
  MAP_PROJECTION_TYPE = SINUSOIDAL
  MAP_RESOLUTION = 148.178450966667
  MAP_SCALE = 0.4
  MAXIMUM_LATITUDE = 65.65260000000001
  MINIMUM_LATITUDE = -40.7728
  POSITIVE_LONGITUDE_DIRECTION = EAST
  REFERENCE_LATITUDE = "N/A"
  REFERENCE_LONGITUDE = "N/A"
  SAMPLE_FIRST_PIXEL = 1
  SAMPLE_LAST_PIXEL = 19269
  SAMPLE_PROJECTION_OFFSET = 9061.0
  SECOND_STANDARD_PARALLEL = "N/A"
  WESTERNMOST_LONGITUDE = 48.0755
END_OBJECT = IMAGE_MAP_PROJECTION
END
