PDS_VERSION_ID = PDS3
/* FILE DATA ELEMENTS */
RECORD_TYPE = UNDEFINED
/* POINTERS TO DATA OBJECTS */
^IMAGE = ("HL474_0000_ND4.TIF")
/* IDENTIFICATION DATA ELEMENTS */
DATA_SET_ID = "MEX-M-HRSC-4-REFDR-MAPPROJECT-EXT7-V4.0"
DATA_SET_NAME = "MARS EXPRESS HRSC MAP PROJECTED REFDR EXTENSION7 V4.0"
DETECTOR_ID = MEX_HRSC_NADIR
EVENT_TYPE = "MARS-TERMINATOR-CALIBRATION-Tc"
INSTRUMENT_HOST_ID = MEX
INSTRUMENT_HOST_NAME = "MARS EXPRESS"
INSTRUMENT_ID = HRSC
INSTRUMENT_NAME = "HIGH RESOLUTION STEREO CAMERA"
MISSION_NAME = "MARS EXPRESS"
MISSION_PHASE_NAME = ME_Phase_43
PROCESSING_LEVEL_ID = 4
PRODUCT_CREATION_TIME = 2023-01-29T17:38:44.000Z
PRODUCT_ID = "HL474_0000_ND4.TIF"
RELEASE_ID = 0005
REVISION_ID = 0000
/* QUALITY DATA ELEMENTS */
DATA_QUALITY_ID = 1
DATA_QUALITY_DESC = "Data calculated based on original SPICE kernels"
/* TIME DATA ELEMENTS */
SPACECRAFT_CLOCK_START_COUNT = "1/0557194333.24937"
SPACECRAFT_CLOCK_STOP_COUNT = "1/0557194831.24714"
START_TIME = 2020-12-28T00:14:39.789Z
STOP_TIME = 2020-12-28T00:19:12.779Z
/* ORBITAL DATA ELEMENTS */
ASCENDING_NODE_LONGITUDE = 172.75
MAXIMUM_RESOLUTION = 0.5696
FOOTPRINT_POINT_LATITUDE = (49.8169,49.7996,48.6817,44.7753, 39.8551,36.1352,34.0246,30.8592,31.0839 ,31.6626,31.879,32.0168,31.9952,31.7559 ,31.3803,30.4801,29.4397,28.6793, 27.3601,25.3519,23.938,22.74,21.1712, 19.82,17.5927,15.0536,11.7288,9.49155, 6.85376,5.23926,3.10555,0.923007, -1.1845,-4.06692,-6.06089,-8.14212, -12.0394,-14.5853,-16.4771,-18.6644, -20.725,-22.8567,-24.9272,-28.3712, -30.9131,-33.5669,-36.561,-38.8318, -41.6599,-39.0796,-37.3286,-35.0141, -32.8616,-32.1994,-30.0904,-27.1468, -25.6451,-22.7958,-18.2122,-17.0376, -13.8681,-12.3703,-10.3794,-7.69039, -6.02285,-3.83413,-1.2765,0.445982, 3.06952,6.58239,9.59805,11.5352,15.2879 ,17.7247,20.5377,22.7787,26.2415, 29.1135,31.1011,34.1119,36.0277,39.0291 ,42.9687,45.236,47.7144,51.1885,53.0563 ,55.2917,58.8001,61.1132,62.4431, 63.2433,64.009,64.5813,64.9519,63.8632, 60.7511,58.5298,53.5816,49.8169)
FOOTPRINT_POINT_LONGITUDE = (243.664,243.704,243.015,240.987, 239.087,240.148,238.216,238.895,235.848 ,231.159,228.159,224.288,220.963, 216.451,212.772,207.054,202.382,199.584 ,195.458,190.281,187.161,184.763, 181.889,179.614,176.187,172.673,168.559 ,166.039,163.273,161.674,159.655, 157.687,155.864,153.481,151.894,150.277 ,147.345,145.497,144.143,142.593, 141.141,139.638,138.176,135.724,133.881 ,131.911,129.62,127.79,124.934,124.284, 120.637,115.973,111.943,111.48,109.284, 107.199,105.294,102.889,101.233,98.7339 ,100.412,102.772,105.714,109.411, 111.567,114.274,117.305,119.272,122.146 ,125.883,129.0,130.967,134.742,137.186, 140.016,142.274,145.814,148.767,150.879 ,154.127,156.287,159.813,164.818, 167.912,171.589,177.391,180.94,185.734, 195.086,203.407,209.703,214.491,220.433 ,226.882,235.32,247.225,246.042,243.055 ,244.202,243.664)
ORBIT_NUMBER = 21474
ORBITAL_ECCENTRICITY = 0.576
ORBITAL_INCLINATION = 86.99
ORBITAL_SEMIMAJOR_AXIS = 8774.65
PERIAPSIS_ALTITUDE = 338.34
PERIAPSIS_ARGUMENT_ANGLE = 241.55
PERIAPSIS_TIME = 2020-12-27T22:46:01.000Z
SPACECRAFT_ORIENTATION = (0.0,-1.0,0.0)
^MEX_ORIENTATION_DESC = "MEX_ORIENTATION_DESC.TXT"
SPACECRAFT_POINTING_MODE = FIXED
^MEX_POINTING_DESC = "MEX_POINTING_DESC.TXT"
RIGHT_ASCENSION = -1e+32
DECLINATION = -1e+32
OFFSET_ANGLE = -1e+32
SPACECRAFT_SOLAR_DISTANCE = 2.25005e+08
TARGET_NAME = MARS
/* CAMERA DATA ELEMENTS */
DETECTOR_TEMPERATURE = 17.5549
FOCAL_PLANE_TEMPERATURE = 7.7677
INST_CMPRS_NAME = "DISCRETE COSINE TRANSFORMATION (DCT)"
INST_CMPRS_RATIO = 9.71997
INST_CMPRS_QUALITY = 0
INST_CMPRS_QUANTZ_TBL_ID = 0
INSTRUMENT_TEMPERATURE = 11.0301
LENS_TEMPERATURE = 8.3794
MACROPIXEL_SIZE = 2
MISSING_FRAMES = 0
PIXEL_SUBSAMPLING_FLAG = N
SIGNAL_CHAIN_ID = 0
/* RADIOMETRIC DATA ELEMENTS */
BANDWIDTH = 177.0
CENTER_FILTER_WAVELENGTH = 677.5
RADIANCE_OFFSET = 0.0
RADIANCE_SCALING_FACTOR = 0.0487987
REFLECTANCE_SCALING_FACTOR = 0.00131257
MEX:REFLECTANCE_OFFSET = 0.0
/* IMAGE OBJECT DEFINITIONS */
OBJECT = IMAGE
  INTERCHANGE_FORMAT = BINARY
  LINES = 15842
  LINE_SAMPLES = 18988
  SAMPLE_TYPE = UNSIGNED_INTEGER
  SAMPLE_BITS = 8
  BANDS = 1
  BAND_STORAGE_TYPE = BAND_SEQUENTIAL
  MAXIMUM = 255
  MEAN = 161.579
  MINIMUM = 71
  STANDARD_DEVIATION = 31.2503
END_OBJECT = IMAGE
/* MAP OBJECT DEFINITIONS */
OBJECT = IMAGE_MAP_PROJECTION
  ^DATA_SET_MAP_PROJECTION_CATALOG= "DSMAP.CAT"
  A_AXIS_RADIUS = 3396.0
  B_AXIS_RADIUS = 3396.0
  C_AXIS_RADIUS = 3396.0
  CENTER_LATITUDE = 0.0
  CENTER_LONGITUDE = 160.0
  COORDINATE_SYSTEM_NAME = PLANETOGRAPHIC
  COORDINATE_SYSTEM_TYPE = "BODY-FIXED ROTATING"
  EASTERNMOST_LONGITUDE = 247.225
  FIRST_STANDARD_PARALLEL = "N/A"
  LINE_FIRST_PIXEL = 1
  LINE_LAST_PIXEL = 15842
  LINE_PROJECTION_OFFSET = 9629.0
  MAP_PROJECTION_ROTATION = 0.0
  MAP_PROJECTION_TYPE = SINUSOIDAL
  MAP_RESOLUTION = 148.178450966667
  MAP_SCALE = 0.4
  MAXIMUM_LATITUDE = 64.95189999999999
  MINIMUM_LATITUDE = -41.6599
  POSITIVE_LONGITUDE_DIRECTION = EAST
  REFERENCE_LATITUDE = "N/A"
  REFERENCE_LONGITUDE = "N/A"
  SAMPLE_FIRST_PIXEL = 1
  SAMPLE_LAST_PIXEL = 18988
  SAMPLE_PROJECTION_OFFSET = 8921.0
  SECOND_STANDARD_PARALLEL = "N/A"
  WESTERNMOST_LONGITUDE = 98.73390000000001
END_OBJECT = IMAGE_MAP_PROJECTION
END
