PDS_VERSION_ID = PDS3
/* FILE DATA ELEMENTS */
RECORD_TYPE = UNDEFINED
/* POINTERS TO DATA OBJECTS */
^IMAGE = ("HL411_0000_RE4.TIF")
/* IDENTIFICATION DATA ELEMENTS */
DATA_SET_ID = "MEX-M-HRSC-4-REFDR-MAPPROJECT-EXT7-V4.0"
DATA_SET_NAME = "MARS EXPRESS HRSC MAP PROJECTED REFDR EXTENSION7 V4.0"
DETECTOR_ID = MEX_HRSC_RED
EVENT_TYPE = "MARS-TERMINATOR-CALIBRATION-Tc"
INSTRUMENT_HOST_ID = MEX
INSTRUMENT_HOST_NAME = "MARS EXPRESS"
INSTRUMENT_ID = HRSC
INSTRUMENT_NAME = "HIGH RESOLUTION STEREO CAMERA"
MISSION_NAME = "MARS EXPRESS"
MISSION_PHASE_NAME = ME_Phase_43
PROCESSING_LEVEL_ID = 4
PRODUCT_CREATION_TIME = 2023-01-29T17:38:44.000Z
PRODUCT_ID = "HL411_0000_RE4.TIF"
RELEASE_ID = 0005
REVISION_ID = 0000
/* QUALITY DATA ELEMENTS */
DATA_QUALITY_ID = 1
DATA_QUALITY_DESC = "Data calculated based on original SPICE kernels"
/* TIME DATA ELEMENTS */
SPACECRAFT_CLOCK_START_COUNT = "1/0555609382.23974"
SPACECRAFT_CLOCK_STOP_COUNT = "1/0555609872.23434"
START_TIME = 2020-12-09T16:00:24.707Z
STOP_TIME = 2020-12-09T16:05:03.714Z
/* ORBITAL DATA ELEMENTS */
ASCENDING_NODE_LONGITUDE = 173.88
MAXIMUM_RESOLUTION = 0.4903
FOOTPRINT_POINT_LATITUDE = (-16.9722,-16.998,-17.5598,-20.8255, -22.4879,-24.9625,-26.8362,-29.0149, -26.185,-24.6432,-22.2435,-19.163, -17.1486,-14.1168,-11.5295,-8.19447, -5.87046,-2.71809,0.482275,2.63429, 4.71027,7.0596,8.50829,10.5135,12.0209, 13.3767,15.0367,18.1513,20.1599,21.7205 ,23.3727,24.3463,25.74,26.51,27.2315, 27.9833,28.3702,28.752,28.8079,28.7407, 28.5119,28.2571,27.5951,26.3877,25.381, 26.5847,30.348,32.4604,33.5139,34.6749, 37.143,40.3529,43.8243,46.4667,49.7189, 53.3638,54.8146,55.3165,55.7092,55.807, 55.5993,55.1841,54.1995,53.0624,51.308, 50.0589,49.0747,47.6501,45.3394,43.3578 ,41.9107,39.6158,37.4617,35.7885, 33.8153,32.0422,29.5468,26.518,23.9787, 22.4006,20.361,18.8553,16.176,14.1284, 12.5454,10.6531,8.81996,7.31577,5.17837 ,3.5199,1.72225,0.059229,-1.12701, -2.84183,-3.86129,-6.67976,-8.62396, -10.8125,-14.5247,-16.9722)
FOOTPRINT_POINT_LONGITUDE = (60.1275,60.1077,61.003,63.3832,66.3045 ,67.0438,68.8757,70.6084,74.1499, 75.9049,78.5794,81.8941,84.0132,87.1564 ,89.8213,93.2432,95.6484,98.9372, 102.378,104.758,107.123,109.897,111.692 ,114.287,116.329,118.253,120.74,125.91, 129.722,133.052,137.044,139.717,144.197 ,147.147,150.534,155.079,158.312, 163.911,167.761,170.698,174.512,177.169 ,181.989,188.068,191.989,194.904, 196.111,196.843,197.484,198.2,198.009, 198.62,201.433,200.213,203.391,204.671, 200.918,195.768,188.988,183.416,175.536 ,169.77,161.579,155.094,147.574,143.22, 140.181,136.204,130.583,126.348,123.506 ,119.342,115.728,113.075,110.086, 107.504,103.995,99.8787,96.4992,94.4156 ,91.7284,89.7392,86.1763,83.4147, 81.2462,78.6209,76.034,73.8478,70.6344, 68.0481,65.1359,62.3277,60.2375,57.0851 ,55.1295,54.0974,55.8828,57.1386,59.244 ,60.1275)
ORBIT_NUMBER = 21411
ORBITAL_ECCENTRICITY = 0.576
ORBITAL_INCLINATION = 87.0
ORBITAL_SEMIMAJOR_AXIS = 8759.75
PERIAPSIS_ALTITUDE = 336.89
PERIAPSIS_ARGUMENT_ANGLE = 252.21
PERIAPSIS_TIME = 2020-12-09T14:47:05.000Z
SPACECRAFT_ORIENTATION = (0.0,-1.0,0.0)
^MEX_ORIENTATION_DESC = "MEX_ORIENTATION_DESC.TXT"
SPACECRAFT_POINTING_MODE = FIXED
^MEX_POINTING_DESC = "MEX_POINTING_DESC.TXT"
RIGHT_ASCENSION = -1e+32
DECLINATION = -1e+32
OFFSET_ANGLE = -1e+32
SPACECRAFT_SOLAR_DISTANCE = 2.21458e+08
TARGET_NAME = MARS
/* CAMERA DATA ELEMENTS */
DETECTOR_TEMPERATURE = 18.5744
FOCAL_PLANE_TEMPERATURE = 7.9716
INST_CMPRS_NAME = "DISCRETE COSINE TRANSFORMATION (DCT)"
INST_CMPRS_RATIO = 10.4976
INST_CMPRS_QUALITY = 0
INST_CMPRS_QUANTZ_TBL_ID = 0
INSTRUMENT_TEMPERATURE = 11.234
LENS_TEMPERATURE = 8.5833
MACROPIXEL_SIZE = 2
MISSING_FRAMES = 0
PIXEL_SUBSAMPLING_FLAG = N
SIGNAL_CHAIN_ID = 1
/* RADIOMETRIC DATA ELEMENTS */
BANDWIDTH = 48.0
CENTER_FILTER_WAVELENGTH = 748.0
RADIANCE_OFFSET = 0.0
RADIANCE_SCALING_FACTOR = 0.013591
REFLECTANCE_SCALING_FACTOR = 0.00152123
MEX:REFLECTANCE_OFFSET = 0.0
/* IMAGE OBJECT DEFINITIONS */
OBJECT = IMAGE
  INTERCHANGE_FORMAT = BINARY
  LINES = 12644
  LINE_SAMPLES = 19659
  SAMPLE_TYPE = UNSIGNED_INTEGER
  SAMPLE_BITS = 8
  BANDS = 1
  BAND_STORAGE_TYPE = BAND_SEQUENTIAL
  MAXIMUM = 255
  MEAN = 163.485
  MINIMUM = 57
  STANDARD_DEVIATION = 33.4554
END_OBJECT = IMAGE
/* MAP OBJECT DEFINITIONS */
OBJECT = IMAGE_MAP_PROJECTION
  ^DATA_SET_MAP_PROJECTION_CATALOG= "DSMAP.CAT"
  A_AXIS_RADIUS = 3396.0
  B_AXIS_RADIUS = 3396.0
  C_AXIS_RADIUS = 3396.0
  CENTER_LATITUDE = 0.0
  CENTER_LONGITUDE = 117.0
  COORDINATE_SYSTEM_NAME = PLANETOGRAPHIC
  COORDINATE_SYSTEM_TYPE = "BODY-FIXED ROTATING"
  EASTERNMOST_LONGITUDE = 204.671
  FIRST_STANDARD_PARALLEL = "N/A"
  LINE_FIRST_PIXEL = 1
  LINE_LAST_PIXEL = 12644
  LINE_PROJECTION_OFFSET = 7969.0
  MAP_PROJECTION_ROTATION = 0.0
  MAP_PROJECTION_TYPE = SINUSOIDAL
  MAP_RESOLUTION = 148.178450966667
  MAP_SCALE = 0.4
  MAXIMUM_LATITUDE = 55.807
  MINIMUM_LATITUDE = -29.0149
  POSITIVE_LONGITUDE_DIRECTION = EAST
  REFERENCE_LATITUDE = "N/A"
  REFERENCE_LONGITUDE = "N/A"
  SAMPLE_FIRST_PIXEL = 1
  SAMPLE_LAST_PIXEL = 19659
  SAMPLE_PROJECTION_OFFSET = 9187.0
  SECOND_STANDARD_PARALLEL = "N/A"
  WESTERNMOST_LONGITUDE = 54.0974
END_OBJECT = IMAGE_MAP_PROJECTION
END
