PDS_VERSION_ID = PDS3
/* FILE DATA ELEMENTS */
RECORD_TYPE = UNDEFINED
/* POINTERS TO DATA OBJECTS */
^IMAGE = ("HL401_0000_BL4.TIF")
/* IDENTIFICATION DATA ELEMENTS */
DATA_SET_ID = "MEX-M-HRSC-4-REFDR-MAPPROJECT-EXT7-V4.0"
DATA_SET_NAME = "MARS EXPRESS HRSC MAP PROJECTED REFDR EXTENSION7 V4.0"
DETECTOR_ID = MEX_HRSC_BLUE
EVENT_TYPE = "MARS-TERMINATOR-CALIBRATION-Tc"
INSTRUMENT_HOST_ID = MEX
INSTRUMENT_HOST_NAME = "MARS EXPRESS"
INSTRUMENT_ID = HRSC
INSTRUMENT_NAME = "HIGH RESOLUTION STEREO CAMERA"
MISSION_NAME = "MARS EXPRESS"
MISSION_PHASE_NAME = ME_Phase_43
PROCESSING_LEVEL_ID = 4
PRODUCT_CREATION_TIME = 2023-01-29T17:38:44.000Z
PRODUCT_ID = "HL401_0000_BL4.TIF"
RELEASE_ID = 0005
REVISION_ID = 0000
/* QUALITY DATA ELEMENTS */
DATA_QUALITY_ID = 1
DATA_QUALITY_DESC = "Data calculated based on original SPICE kernels"
/* TIME DATA ELEMENTS */
SPACECRAFT_CLOCK_START_COUNT = "1/0555357614.23976"
SPACECRAFT_CLOCK_STOP_COUNT = "1/0555358118.24815"
START_TIME = 2020-12-06T18:02:54.695Z
STOP_TIME = 2020-12-06T18:07:50.692Z
/* ORBITAL DATA ELEMENTS */
ASCENDING_NODE_LONGITUDE = 174.05
MAXIMUM_RESOLUTION = 0.4469
FOOTPRINT_POINT_LATITUDE = (-16.5902,-16.6178,-16.0542,-19.2471, -22.745,-26.388,-27.0199,-30.0876, -27.5103,-25.6243,-22.6249,-20.3171, -18.371,-16.1222,-12.6173,-10.0962, -7.08339,-4.54129,-2.5435,0.236307, 2.05972,4.78392,6.79844,8.36981,10.1773 ,11.5682,13.2901,15.2778,16.8512, 18.1688,19.6425,21.4673,22.6079,23.8705 ,24.2954,24.8784,25.2879,25.3883, 25.3636,25.1248,24.7084,24.1915,23.1734 ,22.3339,26.1436,30.8682,31.7643, 33.3419,37.8814,41.7844,45.0094,48.7332 ,50.9295,51.8763,52.0126,52.0012, 51.6564,51.128,50.6336,49.8695,48.552, 46.8146,45.7403,44.2977,42.5141,39.9579 ,37.6173,34.7872,32.8044,31.4255, 29.4142,27.5768,25.3092,23.5105,21.2119 ,19.4604,17.4022,15.9867,14.0059, 11.2137,9.1504,7.32856,5.83346,3.70392, 1.96524,-0.157937,-1.26742,-2.47312, -4.36972,-5.45263,-8.07615,-5.69296, -8.25129,-6.05528,-8.5773,-12.2722, -9.41475,-15.5216,-10.3264,-16.5902)
FOOTPRINT_POINT_LONGITUDE = (362.559,362.531,363.213,364.7,368.521, 369.521,372.33,373.947,377.416,379.728, 383.266,385.908,388.091,390.573,394.401 ,397.151,400.431,403.242,405.484, 408.676,410.839,414.202,416.816,418.942 ,421.533,423.631,426.398,429.884, 432.938,435.751,439.274,444.402,448.315 ,453.872,456.28,460.588,465.756,468.998 ,472.528,477.122,481.283,484.898, 490.184,493.659,494.763,496.417,496.471 ,496.933,497.411,497.787,498.529, 500.935,499.581,494.748,490.407,484.912 ,477.478,471.776,467.908,463.161, 456.777,450.174,446.722,442.589,438.066 ,432.396,427.797,422.764,419.489, 417.323,414.255,411.54,408.278,405.757, 402.56,400.127,397.271,395.29,392.509, 388.499,385.462,382.696,380.371,376.947 ,374.038,370.316,368.286,366.003, 362.225,359.945,358.91,359.964,359.111, 360.039,360.039,360.82,359.96,361.933, 360.009,362.559)
ORBIT_NUMBER = 21401
ORBITAL_ECCENTRICITY = 0.576
ORBITAL_INCLINATION = 87.0
ORBITAL_SEMIMAJOR_AXIS = 8758.29
PERIAPSIS_ALTITUDE = 335.91
PERIAPSIS_ARGUMENT_ANGLE = 253.91
PERIAPSIS_TIME = 2020-12-06T16:56:56.000Z
SPACECRAFT_ORIENTATION = (0.0,-1.0,0.0)
^MEX_ORIENTATION_DESC = "MEX_ORIENTATION_DESC.TXT"
SPACECRAFT_POINTING_MODE = FIXED
^MEX_POINTING_DESC = "MEX_POINTING_DESC.TXT"
RIGHT_ASCENSION = -1e+32
DECLINATION = -1e+32
OFFSET_ANGLE = -1e+32
SPACECRAFT_SOLAR_DISTANCE = 2.20904e+08
TARGET_NAME = MARS
/* CAMERA DATA ELEMENTS */
DETECTOR_TEMPERATURE = 17.7588
FOCAL_PLANE_TEMPERATURE = 7.7677
INST_CMPRS_NAME = "DISCRETE COSINE TRANSFORMATION (DCT)"
INST_CMPRS_RATIO = 6.63724
INST_CMPRS_QUALITY = 0
INST_CMPRS_QUANTZ_TBL_ID = 0
INSTRUMENT_TEMPERATURE = 10.8262
LENS_TEMPERATURE = 8.5833
MACROPIXEL_SIZE = 2
MISSING_FRAMES = 0
PIXEL_SUBSAMPLING_FLAG = N
SIGNAL_CHAIN_ID = 2
/* RADIOMETRIC DATA ELEMENTS */
BANDWIDTH = 76.0
CENTER_FILTER_WAVELENGTH = 444.0
RADIANCE_OFFSET = 0.0
RADIANCE_SCALING_FACTOR = 0.0095929
REFLECTANCE_SCALING_FACTOR = 0.000481005
MEX:REFLECTANCE_OFFSET = 0.0
/* IMAGE OBJECT DEFINITIONS */
OBJECT = IMAGE
  INTERCHANGE_FORMAT = BINARY
  LINES = 12229
  LINE_SAMPLES = 19304
  SAMPLE_TYPE = UNSIGNED_INTEGER
  SAMPLE_BITS = 8
  BANDS = 1
  BAND_STORAGE_TYPE = BAND_SEQUENTIAL
  MAXIMUM = 255
  MEAN = 139.504
  MINIMUM = 68
  STANDARD_DEVIATION = 29.3282
END_OBJECT = IMAGE
/* MAP OBJECT DEFINITIONS */
OBJECT = IMAGE_MAP_PROJECTION
  ^DATA_SET_MAP_PROJECTION_CATALOG= "DSMAP.CAT"
  A_AXIS_RADIUS = 3396.0
  B_AXIS_RADIUS = 3396.0
  C_AXIS_RADIUS = 3396.0
  CENTER_LATITUDE = 0.0
  CENTER_LONGITUDE = 59.0
  COORDINATE_SYSTEM_NAME = PLANETOGRAPHIC
  COORDINATE_SYSTEM_TYPE = "BODY-FIXED ROTATING"
  EASTERNMOST_LONGITUDE = 140.935
  FIRST_STANDARD_PARALLEL = "N/A"
  LINE_FIRST_PIXEL = 1
  LINE_LAST_PIXEL = 12229
  LINE_PROJECTION_OFFSET = 7626.0
  MAP_PROJECTION_ROTATION = 0.0
  MAP_PROJECTION_TYPE = SINUSOIDAL
  MAP_RESOLUTION = 148.178450966667
  MAP_SCALE = 0.4
  MAXIMUM_LATITUDE = 52.0126
  MINIMUM_LATITUDE = -30.0876
  POSITIVE_LONGITUDE_DIRECTION = EAST
  REFERENCE_LATITUDE = "N/A"
  REFERENCE_LONGITUDE = "N/A"
  SAMPLE_FIRST_PIXEL = 1
  SAMPLE_LAST_PIXEL = 19304
  SAMPLE_PROJECTION_OFFSET = 8994.0
  SECOND_STANDARD_PARALLEL = "N/A"
  WESTERNMOST_LONGITUDE = -1.09
END_OBJECT = IMAGE_MAP_PROJECTION
END
