PDS_VERSION_ID = PDS3
/* FILE DATA ELEMENTS */
RECORD_TYPE = UNDEFINED
/* POINTERS TO DATA OBJECTS */
^IMAGE = ("HL314_0000_RE4.TIF")
/* IDENTIFICATION DATA ELEMENTS */
DATA_SET_ID = "MEX-M-HRSC-4-REFDR-MAPPROJECT-EXT7-V4.0"
DATA_SET_NAME = "MARS EXPRESS HRSC MAP PROJECTED REFDR EXTENSION7 V4.0"
DETECTOR_ID = MEX_HRSC_RED
EVENT_TYPE = "MARS-REGIONAL-MAPPING-Im-Pf-La"
INSTRUMENT_HOST_ID = MEX
INSTRUMENT_HOST_NAME = "MARS EXPRESS"
INSTRUMENT_ID = HRSC
INSTRUMENT_NAME = "HIGH RESOLUTION STEREO CAMERA"
MISSION_NAME = "MARS EXPRESS"
MISSION_PHASE_NAME = ME_Phase_43
PROCESSING_LEVEL_ID = 4
PRODUCT_CREATION_TIME = 2023-01-29T17:38:44.000Z
PRODUCT_ID = "HL314_0000_RE4.TIF"
RELEASE_ID = 0005
REVISION_ID = 0000
/* QUALITY DATA ELEMENTS */
DATA_QUALITY_ID = 1
DATA_QUALITY_DESC = "Data calculated based on original SPICE kernels"
/* TIME DATA ELEMENTS */
SPACECRAFT_CLOCK_START_COUNT = "1/0553166679.25681"
SPACECRAFT_CLOCK_STOP_COUNT = "1/0553167121.29130"
START_TIME = 2020-11-11T09:26:15.880Z
STOP_TIME = 2020-11-11T09:32:19.349Z
/* ORBITAL DATA ELEMENTS */
ASCENDING_NODE_LONGITUDE = 175.6
MAXIMUM_RESOLUTION = 0.0652
FOOTPRINT_POINT_LATITUDE = (-76.1954,-76.366,-76.4571,-76.459, -76.5493,-76.1952,-75.8421,-75.4891, -75.1369,-74.7854,-74.0842,-73.7257, -73.3673,-73.0084,-72.6449,-72.2817, -71.9174,-71.3602,-70.9882,-70.6125, -70.234,-69.8558,-69.4693,-68.889, -68.4963,-68.106,-67.519,-66.9194, -66.5154,-66.105,-65.6947,-65.0596, -64.6357,-64.214,-63.5766,-63.1418, -62.6972,-62.2634,-61.8115,-61.3616, -60.6806,-60.2223,-59.7554,-59.2936, -58.8172,-58.3288,-57.622,-57.1345, -56.3943,-56.1447,-56.131,-56.1124, -56.0612,-56.0248,-56.0233,-56.0243, -56.5222,-57.0085,-57.4934,-57.9705, -58.4541,-58.9222,-59.3969,-59.858, -60.544,-60.9994,-61.4458,-61.8902, -62.5487,-63.1976,-63.838,-64.4703, -65.094,-65.5144,-65.9222,-66.3296, -66.7273,-67.1275,-67.5199,-67.9157, -68.3047,-68.8874,-69.2693,-69.652, -70.0265,-70.402,-70.7738,-71.1413, -71.6919,-72.0526,-72.4142,-72.9512, -73.4819,-73.8356,-74.5272,-75.3941, -75.7407,-76.0879,-76.2623,-76.1954)
FOOTPRINT_POINT_LONGITUDE = (304.301,307.509,309.653,309.705, 309.791,310.05,310.295,310.527,310.748, 310.957,311.347,311.532,311.709,311.876 ,312.04,312.199,312.351,312.568,312.706 ,312.84,312.97,313.095,313.216,313.388, 313.5,313.609,313.773,313.924,314.019, 314.113,314.202,314.327,314.41,314.492, 314.615,314.692,314.761,314.838,314.906 ,314.974,315.075,315.142,315.203, 315.269,315.328,315.381,315.479,315.536 ,315.621,315.648,315.65,314.534,312.884 ,311.576,311.538,311.525,311.478, 311.435,311.385,311.336,311.274,311.219 ,311.151,311.089,310.988,310.914, 310.842,310.763,310.642,310.513,310.377 ,310.233,310.081,309.967,309.855, 309.739,309.624,309.5,309.374,309.239, 309.099,308.878,308.726,308.566,308.403 ,308.232,308.055,307.872,307.581, 307.379,307.166,306.829,306.474,306.222 ,305.692,304.947,304.622,304.277, 304.096,304.301)
ORBIT_NUMBER = 21314
ORBITAL_ECCENTRICITY = 0.576
ORBITAL_INCLINATION = 87.0
ORBITAL_SEMIMAJOR_AXIS = 8751.99
PERIAPSIS_ALTITUDE = 335.1
PERIAPSIS_ARGUMENT_ANGLE = 268.6
PERIAPSIS_TIME = 2020-11-11T09:22:02.000Z
SPACECRAFT_ORIENTATION = (0.0,-1.0,0.0)
^MEX_ORIENTATION_DESC = "MEX_ORIENTATION_DESC.TXT"
SPACECRAFT_POINTING_MODE = NADIR
^MEX_POINTING_DESC = "MEX_POINTING_DESC.TXT"
RIGHT_ASCENSION = -1e+32
DECLINATION = -1e+32
OFFSET_ANGLE = -1e+32
SPACECRAFT_SOLAR_DISTANCE = 2.16306e+08
TARGET_NAME = MARS
/* CAMERA DATA ELEMENTS */
DETECTOR_TEMPERATURE = 18.1666
FOCAL_PLANE_TEMPERATURE = 7.7677
INST_CMPRS_NAME = "DISCRETE COSINE TRANSFORMATION (DCT)"
INST_CMPRS_RATIO = 16.7956
INST_CMPRS_QUALITY = 0
INST_CMPRS_QUANTZ_TBL_ID = 0
INSTRUMENT_TEMPERATURE = 10.8262
LENS_TEMPERATURE = 7.9716
MACROPIXEL_SIZE = 4
MISSING_FRAMES = 0
PIXEL_SUBSAMPLING_FLAG = N
SIGNAL_CHAIN_ID = 2
/* RADIOMETRIC DATA ELEMENTS */
BANDWIDTH = 48.0
CENTER_FILTER_WAVELENGTH = 748.0
RADIANCE_OFFSET = 1.06896
RADIANCE_SCALING_FACTOR = 0.00793803
REFLECTANCE_SCALING_FACTOR = 0.00084758
MEX:REFLECTANCE_OFFSET = 0.114138
/* IMAGE OBJECT DEFINITIONS */
OBJECT = IMAGE
  INTERCHANGE_FORMAT = BINARY
  LINES = 24368
  LINE_SAMPLES = 4484
  SAMPLE_TYPE = UNSIGNED_INTEGER
  SAMPLE_BITS = 8
  BANDS = 1
  BAND_STORAGE_TYPE = BAND_SEQUENTIAL
  MAXIMUM = 255
  MEAN = 115.197
  MINIMUM = 1
  STANDARD_DEVIATION = 32.0784
END_OBJECT = IMAGE
/* MAP OBJECT DEFINITIONS */
OBJECT = IMAGE_MAP_PROJECTION
  ^DATA_SET_MAP_PROJECTION_CATALOG= "DSMAP.CAT"
  A_AXIS_RADIUS = 3396.0
  B_AXIS_RADIUS = 3396.0
  C_AXIS_RADIUS = 3396.0
  CENTER_LATITUDE = 0.0
  CENTER_LONGITUDE = 312.0
  COORDINATE_SYSTEM_NAME = PLANETOGRAPHIC
  COORDINATE_SYSTEM_TYPE = "BODY-FIXED ROTATING"
  EASTERNMOST_LONGITUDE = 315.65
  FIRST_STANDARD_PARALLEL = "N/A"
  LINE_FIRST_PIXEL = 1
  LINE_LAST_PIXEL = 24368
  LINE_PROJECTION_OFFSET = -66391.875
  MAP_PROJECTION_ROTATION = 0.0
  MAP_PROJECTION_TYPE = SINUSOIDAL
  MAP_RESOLUTION = 1185.42760773333
  MAP_SCALE = 0.05
  MAXIMUM_LATITUDE = -56.0233
  MINIMUM_LATITUDE = -76.5493
  POSITIVE_LONGITUDE_DIRECTION = EAST
  REFERENCE_LATITUDE = "N/A"
  REFERENCE_LONGITUDE = "N/A"
  SAMPLE_FIRST_PIXEL = 1
  SAMPLE_LAST_PIXEL = 4484
  SAMPLE_PROJECTION_OFFSET = 2203.875
  SECOND_STANDARD_PARALLEL = "N/A"
  WESTERNMOST_LONGITUDE = 304.096
END_OBJECT = IMAGE_MAP_PROJECTION
END
