PDS_VERSION_ID = PDS3
/* FILE DATA ELEMENTS */
RECORD_TYPE = UNDEFINED
/* POINTERS TO DATA OBJECTS */
^IMAGE = ("HL314_0000_P24.TIF")
/* IDENTIFICATION DATA ELEMENTS */
DATA_SET_ID = "MEX-M-HRSC-4-REFDR-MAPPROJECT-EXT7-V4.0"
DATA_SET_NAME = "MARS EXPRESS HRSC MAP PROJECTED REFDR EXTENSION7 V4.0"
DETECTOR_ID = MEX_HRSC_P2
EVENT_TYPE = "MARS-REGIONAL-MAPPING-Im-Pf-La"
INSTRUMENT_HOST_ID = MEX
INSTRUMENT_HOST_NAME = "MARS EXPRESS"
INSTRUMENT_ID = HRSC
INSTRUMENT_NAME = "HIGH RESOLUTION STEREO CAMERA"
MISSION_NAME = "MARS EXPRESS"
MISSION_PHASE_NAME = ME_Phase_43
PROCESSING_LEVEL_ID = 4
PRODUCT_CREATION_TIME = 2023-01-29T17:38:44.000Z
PRODUCT_ID = "HL314_0000_P24.TIF"
RELEASE_ID = 0005
REVISION_ID = 0000
/* QUALITY DATA ELEMENTS */
DATA_QUALITY_ID = 1
DATA_QUALITY_DESC = "Data calculated based on original SPICE kernels"
/* TIME DATA ELEMENTS */
SPACECRAFT_CLOCK_START_COUNT = "1/0553166679.25681"
SPACECRAFT_CLOCK_STOP_COUNT = "1/0553167121.29130"
START_TIME = 2020-11-11T09:26:09.569Z
STOP_TIME = 2020-11-11T09:32:06.769Z
/* ORBITAL DATA ELEMENTS */
ASCENDING_NODE_LONGITUDE = 175.6
MAXIMUM_RESOLUTION = 0.0318
FOOTPRINT_POINT_LATITUDE = (-76.2127,-76.3004,-76.4102,-76.4737, -76.4757,-76.549,-76.016,-75.3072, -74.6003,-73.896,-73.1803,-72.8201, -72.2795,-71.9127,-71.546,-71.1748, -70.8001,-70.4274,-70.0471,-69.6662, -69.2811,-68.8936,-68.5065,-68.1127, -67.5291,-67.1294,-66.5243,-66.117, -65.7053,-65.2907,-64.8628,-64.4434, -64.0172,-63.594,-63.1614,-62.7184, -62.2841,-61.8366,-61.3851,-60.7055, -60.2473,-59.7832,-59.319,-58.8447, -58.3598,-57.6483,-56.9085,-56.4198, -56.17,-56.1224,-56.1036,-56.0776, -56.0485,-56.0147,-56.0138,-56.0139, -56.5118,-56.9997,-57.7281,-58.2071, -58.914,-59.3881,-59.8517,-60.3065, -60.762,-61.2131,-61.6584,-62.1011, -62.5382,-62.972,-63.4009,-64.0383, -64.667,-65.0828,-65.498,-65.9077, -66.3121,-66.7122,-67.1094,-67.5043, -67.8957,-68.4808,-68.8658,-69.2501, -69.8158,-70.1934,-70.5627,-70.9329, -71.3007,-71.6631,-72.0263,-72.3866, -72.7424,-73.453,-74.1476,-74.8437, -75.3666,-76.0635,-76.2387,-76.2127)
FOOTPRINT_POINT_LONGITUDE = (304.297,305.842,308.085,309.617, 309.671,309.772,310.156,310.623,311.043 ,311.424,311.774,311.939,312.178,312.33 ,312.475,312.615,312.75,312.881,313.008 ,313.13,313.246,313.362,313.472,313.581 ,313.744,313.845,313.989,314.081, 314.171,314.257,314.334,314.417,314.498 ,314.58,314.656,314.725,314.802,314.87, 314.936,315.036,315.101,315.163,315.228 ,315.287,315.339,315.435,315.515, 315.574,315.601,315.606,314.507,313.489 ,312.71,311.613,311.573,311.559,311.512 ,311.467,311.388,311.334,311.25,311.181 ,311.116,311.054,310.981,310.906, 310.831,310.751,310.669,310.584,310.496 ,310.356,310.209,310.107,309.993, 309.881,309.766,309.649,309.526,309.4, 309.266,309.054,308.906,308.753,308.514 ,308.346,308.175,307.995,307.807, 307.614,307.411,307.2,306.98,306.51, 306.005,305.447,304.988,304.317,304.135 ,304.297)
ORBIT_NUMBER = 21314
ORBITAL_ECCENTRICITY = 0.576
ORBITAL_INCLINATION = 87.0
ORBITAL_SEMIMAJOR_AXIS = 8751.99
PERIAPSIS_ALTITUDE = 335.1
PERIAPSIS_ARGUMENT_ANGLE = 268.6
PERIAPSIS_TIME = 2020-11-11T09:22:02.000Z
SPACECRAFT_ORIENTATION = (0.0,-1.0,0.0)
^MEX_ORIENTATION_DESC = "MEX_ORIENTATION_DESC.TXT"
SPACECRAFT_POINTING_MODE = NADIR
^MEX_POINTING_DESC = "MEX_POINTING_DESC.TXT"
RIGHT_ASCENSION = -1e+32
DECLINATION = -1e+32
OFFSET_ANGLE = -1e+32
SPACECRAFT_SOLAR_DISTANCE = 2.16306e+08
TARGET_NAME = MARS
/* CAMERA DATA ELEMENTS */
DETECTOR_TEMPERATURE = 18.1666
FOCAL_PLANE_TEMPERATURE = 7.7677
INST_CMPRS_NAME = "DISCRETE COSINE TRANSFORMATION (DCT)"
INST_CMPRS_RATIO = 6.71761
INST_CMPRS_QUALITY = 0
INST_CMPRS_QUANTZ_TBL_ID = 0
INSTRUMENT_TEMPERATURE = 10.8262
LENS_TEMPERATURE = 7.9716
MACROPIXEL_SIZE = 2
MISSING_FRAMES = 0
PIXEL_SUBSAMPLING_FLAG = N
SIGNAL_CHAIN_ID = 3
/* RADIOMETRIC DATA ELEMENTS */
BANDWIDTH = 177.0
CENTER_FILTER_WAVELENGTH = 676.5
RADIANCE_OFFSET = 3.72342
RADIANCE_SCALING_FACTOR = 0.0260462
REFLECTANCE_SCALING_FACTOR = 0.00064616
MEX:REFLECTANCE_OFFSET = 0.0923715
/* IMAGE OBJECT DEFINITIONS */
OBJECT = IMAGE
  INTERCHANGE_FORMAT = BINARY
  LINES = 48735
  LINE_SAMPLES = 8967
  SAMPLE_TYPE = UNSIGNED_INTEGER
  SAMPLE_BITS = 8
  BANDS = 1
  BAND_STORAGE_TYPE = BAND_SEQUENTIAL
  MAXIMUM = 255
  MEAN = 114.754
  MINIMUM = 1
  STANDARD_DEVIATION = 33.0583
END_OBJECT = IMAGE
/* MAP OBJECT DEFINITIONS */
OBJECT = IMAGE_MAP_PROJECTION
  ^DATA_SET_MAP_PROJECTION_CATALOG= "DSMAP.CAT"
  A_AXIS_RADIUS = 3396.0
  B_AXIS_RADIUS = 3396.0
  C_AXIS_RADIUS = 3396.0
  CENTER_LATITUDE = 0.0
  CENTER_LONGITUDE = 312.0
  COORDINATE_SYSTEM_NAME = PLANETOGRAPHIC
  COORDINATE_SYSTEM_TYPE = "BODY-FIXED ROTATING"
  EASTERNMOST_LONGITUDE = 315.606
  FIRST_STANDARD_PARALLEL = "N/A"
  LINE_FIRST_PIXEL = 1
  LINE_LAST_PIXEL = 48735
  LINE_PROJECTION_OFFSET = -132783.25
  MAP_PROJECTION_ROTATION = 0.0
  MAP_PROJECTION_TYPE = SINUSOIDAL
  MAP_RESOLUTION = 2370.85521546667
  MAP_SCALE = 0.025
  MAXIMUM_LATITUDE = -56.0138
  MINIMUM_LATITUDE = -76.54900000000001
  POSITIVE_LONGITUDE_DIRECTION = EAST
  REFERENCE_LATITUDE = "N/A"
  REFERENCE_LONGITUDE = "N/A"
  SAMPLE_FIRST_PIXEL = 1
  SAMPLE_LAST_PIXEL = 8967
  SAMPLE_PROJECTION_OFFSET = 4408.25
  SECOND_STANDARD_PARALLEL = "N/A"
  WESTERNMOST_LONGITUDE = 304.135
END_OBJECT = IMAGE_MAP_PROJECTION
END
