PDS_VERSION_ID = PDS3
/* FILE DATA ELEMENTS */
RECORD_TYPE = UNDEFINED
/* POINTERS TO DATA OBJECTS */
^IMAGE = ("HL314_0000_ND4.TIF")
/* IDENTIFICATION DATA ELEMENTS */
DATA_SET_ID = "MEX-M-HRSC-4-REFDR-MAPPROJECT-EXT7-V4.0"
DATA_SET_NAME = "MARS EXPRESS HRSC MAP PROJECTED REFDR EXTENSION7 V4.0"
DETECTOR_ID = MEX_HRSC_NADIR
EVENT_TYPE = "MARS-REGIONAL-MAPPING-Im-Pf-La"
INSTRUMENT_HOST_ID = MEX
INSTRUMENT_HOST_NAME = "MARS EXPRESS"
INSTRUMENT_ID = HRSC
INSTRUMENT_NAME = "HIGH RESOLUTION STEREO CAMERA"
MISSION_NAME = "MARS EXPRESS"
MISSION_PHASE_NAME = ME_Phase_43
PROCESSING_LEVEL_ID = 4
PRODUCT_CREATION_TIME = 2023-01-29T17:38:44.000Z
PRODUCT_ID = "HL314_0000_ND4.TIF"
RELEASE_ID = 0005
REVISION_ID = 0000
/* QUALITY DATA ELEMENTS */
DATA_QUALITY_ID = 1
DATA_QUALITY_DESC = "Data calculated based on original SPICE kernels"
/* TIME DATA ELEMENTS */
SPACECRAFT_CLOCK_START_COUNT = "1/0553166679.25681"
SPACECRAFT_CLOCK_STOP_COUNT = "1/0553167121.29130"
START_TIME = 2020-11-11T09:25:46.048Z
STOP_TIME = 2020-11-11T09:31:23.059Z
/* ORBITAL DATA ELEMENTS */
ASCENDING_NODE_LONGITUDE = 175.6
MAXIMUM_RESOLUTION = 0.015
FOOTPRINT_POINT_LATITUDE = (-76.2934,-76.459,-76.5523,-76.5543, -76.5617,-76.1993,-75.8371,-75.4751, -75.1133,-74.7517,-74.3904,-73.6687, -72.9483,-72.2296,-71.6814,-71.3136, -70.9463,-70.5722,-70.1963,-69.821, -69.2468,-68.8635,-68.4756,-68.0841, -67.6934,-67.2946,-66.8958,-66.2889, -65.8826,-65.4699,-65.0557,-64.6364, -64.2151,-63.7885,-63.3601,-62.9253, -62.2679,-61.8248,-61.3758,-60.925, -60.4674,-60.006,-59.5413,-59.0703, -58.5945,-58.1147,-57.6308,-57.1393, -56.3945,-56.142,-56.1191,-56.091, -56.0597,-56.0084,-56.0068,-56.0063, -56.5053,-56.9995,-57.4886,-57.971, -58.4486,-58.9221,-59.3909,-59.8535, -60.3131,-60.7682,-61.217,-61.6639, -62.1045,-62.7587,-63.1915,-63.6176, -64.0423,-64.4611,-64.8782,-65.2894, -65.6999,-66.1035,-66.7069,-67.1031, -67.4999,-67.8879,-68.2766,-68.6618, -69.0422,-69.6119,-69.984,-70.3566, -70.7277,-71.0916,-71.4558,-71.9988, -72.7098,-73.4215,-74.1338,-74.8465, -75.5592,-76.0934,-76.2713,-76.2934)
FOOTPRINT_POINT_LONGITUDE = (304.281,307.31,309.454,309.507,309.66, 309.925,310.177,310.414,310.64,310.854, 311.058,311.436,311.778,312.095,312.317 ,312.458,312.592,312.724,312.852, 312.973,313.147,313.261,313.37,313.477, 313.584,313.69,313.786,313.926,314.015, 314.101,314.18,314.259,314.339,314.417, 314.496,314.569,314.675,314.741,314.805 ,314.871,314.933,314.995,315.053, 315.117,315.169,315.221,315.287,315.341 ,315.421,315.446,315.448,314.073, 313.036,311.742,311.705,311.687,311.635 ,311.587,311.534,311.48,311.418,311.359 ,311.291,311.225,311.157,311.087, 311.009,310.933,310.852,310.725,310.637 ,310.546,310.451,310.352,310.25,310.142 ,310.029,309.916,309.739,309.616, 309.488,309.354,309.214,309.068,308.919 ,308.684,308.521,308.351,308.174, 307.993,307.804,307.504,307.078,306.607 ,306.09,305.517,304.882,304.358,304.172 ,304.281)
ORBIT_NUMBER = 21314
ORBITAL_ECCENTRICITY = 0.576
ORBITAL_INCLINATION = 87.0
ORBITAL_SEMIMAJOR_AXIS = 8751.99
PERIAPSIS_ALTITUDE = 335.1
PERIAPSIS_ARGUMENT_ANGLE = 268.6
PERIAPSIS_TIME = 2020-11-11T09:22:02.000Z
SPACECRAFT_ORIENTATION = (0.0,-1.0,0.0)
^MEX_ORIENTATION_DESC = "MEX_ORIENTATION_DESC.TXT"
SPACECRAFT_POINTING_MODE = NADIR
^MEX_POINTING_DESC = "MEX_POINTING_DESC.TXT"
RIGHT_ASCENSION = -1e+32
DECLINATION = -1e+32
OFFSET_ANGLE = -1e+32
SPACECRAFT_SOLAR_DISTANCE = 2.16306e+08
TARGET_NAME = MARS
/* CAMERA DATA ELEMENTS */
DETECTOR_TEMPERATURE = 17.7588
FOCAL_PLANE_TEMPERATURE = 7.7677
INST_CMPRS_NAME = "DISCRETE COSINE TRANSFORMATION (DCT)"
INST_CMPRS_RATIO = 6.74232
INST_CMPRS_QUALITY = 0
INST_CMPRS_QUANTZ_TBL_ID = 0
INSTRUMENT_TEMPERATURE = 10.8262
LENS_TEMPERATURE = 7.9716
MACROPIXEL_SIZE = 1
MISSING_FRAMES = 0
PIXEL_SUBSAMPLING_FLAG = N
SIGNAL_CHAIN_ID = 0
/* RADIOMETRIC DATA ELEMENTS */
BANDWIDTH = 177.0
CENTER_FILTER_WAVELENGTH = 677.5
RADIANCE_OFFSET = 3.32193
RADIANCE_SCALING_FACTOR = 0.0260544
REFLECTANCE_SCALING_FACTOR = 0.000647594
MEX:REFLECTANCE_OFFSET = 0.0825683
/* IMAGE OBJECT DEFINITIONS */
OBJECT = IMAGE
  INTERCHANGE_FORMAT = BINARY
  LINES = 97470
  LINE_SAMPLES = 17933
  SAMPLE_TYPE = UNSIGNED_INTEGER
  SAMPLE_BITS = 8
  BANDS = 1
  BAND_STORAGE_TYPE = BAND_SEQUENTIAL
  MAXIMUM = 255
  MEAN = 105.766
  MINIMUM = 1
  STANDARD_DEVIATION = 32.0035
END_OBJECT = IMAGE
/* MAP OBJECT DEFINITIONS */
OBJECT = IMAGE_MAP_PROJECTION
  ^DATA_SET_MAP_PROJECTION_CATALOG= "DSMAP.CAT"
  A_AXIS_RADIUS = 3396.0
  B_AXIS_RADIUS = 3396.0
  C_AXIS_RADIUS = 3396.0
  CENTER_LATITUDE = 0.0
  CENTER_LONGITUDE = 312.0
  COORDINATE_SYSTEM_NAME = PLANETOGRAPHIC
  COORDINATE_SYSTEM_TYPE = "BODY-FIXED ROTATING"
  EASTERNMOST_LONGITUDE = 315.448
  FIRST_STANDARD_PARALLEL = "N/A"
  LINE_FIRST_PIXEL = 1
  LINE_LAST_PIXEL = 97470
  LINE_PROJECTION_OFFSET = -265566.0
  MAP_PROJECTION_ROTATION = 0.0
  MAP_PROJECTION_TYPE = SINUSOIDAL
  MAP_RESOLUTION = 4741.71043093333
  MAP_SCALE = 0.0125
  MAXIMUM_LATITUDE = -56.0063
  MINIMUM_LATITUDE = -76.5617
  POSITIVE_LONGITUDE_DIRECTION = EAST
  REFERENCE_LATITUDE = "N/A"
  REFERENCE_LONGITUDE = "N/A"
  SAMPLE_FIRST_PIXEL = 1
  SAMPLE_LAST_PIXEL = 17933
  SAMPLE_PROJECTION_OFFSET = 8817.0
  SECOND_STANDARD_PARALLEL = "N/A"
  WESTERNMOST_LONGITUDE = 304.172
END_OBJECT = IMAGE_MAP_PROJECTION
END
