PDS_VERSION_ID = PDS3
/* FILE DATA ELEMENTS */
RECORD_TYPE = UNDEFINED
/* POINTERS TO DATA OBJECTS */
^IMAGE = ("HL252_0000_IR4.TIF")
/* IDENTIFICATION DATA ELEMENTS */
DATA_SET_ID = "MEX-M-HRSC-4-REFDR-MAPPROJECT-EXT7-V4.0"
DATA_SET_NAME = "MARS EXPRESS HRSC MAP PROJECTED REFDR EXTENSION7 V4.0"
DETECTOR_ID = MEX_HRSC_IR
EVENT_TYPE = "MARS-REGIONAL-MAPPING-Im-Pf-Eo"
INSTRUMENT_HOST_ID = MEX
INSTRUMENT_HOST_NAME = "MARS EXPRESS"
INSTRUMENT_ID = HRSC
INSTRUMENT_NAME = "HIGH RESOLUTION STEREO CAMERA"
MISSION_NAME = "MARS EXPRESS"
MISSION_PHASE_NAME = ME_Phase_43
PROCESSING_LEVEL_ID = 4
PRODUCT_CREATION_TIME = 2023-01-29T17:38:44.000Z
PRODUCT_ID = "HL252_0000_IR4.TIF"
RELEASE_ID = 0005
REVISION_ID = 0000
/* QUALITY DATA ELEMENTS */
DATA_QUALITY_ID = 1
DATA_QUALITY_DESC = "Data calculated based on original SPICE kernels"
/* TIME DATA ELEMENTS */
SPACECRAFT_CLOCK_START_COUNT = "1/0551607843.25689"
SPACECRAFT_CLOCK_STOP_COUNT = "1/0551608059.26449"
START_TIME = 2020-10-24T08:25:34.657Z
STOP_TIME = 2020-10-24T08:28:03.928Z
/* ORBITAL DATA ELEMENTS */
ASCENDING_NODE_LONGITUDE = 176.7
MAXIMUM_RESOLUTION = 0.0587
FOOTPRINT_POINT_LATITUDE = (-72.4736,-72.4511,-72.4267,-72.4004, -72.3721,-72.3418,-72.288,-72.2858, -72.3414,-71.9396,-71.7783,-71.5367, -71.2144,-70.9724,-70.6521,-70.4899, -70.2469,-69.8432,-69.5641,-69.3724, -69.1804,-68.9894,-68.7987,-68.6082, -68.4171,-68.2276,-68.037,-67.7512, -67.4647,-67.2746,-67.0845,-66.8939, -66.6079,-66.4178,-66.2286,-66.0402, -65.851,-65.6606,-65.4749,-65.2857, -65.097,-64.9087,-64.626,-64.3445, -64.0635,-63.8761,-63.6892,-63.4017, -63.3055,-63.2568,-63.2805,-63.3061, -63.3281,-63.3521,-63.364,-63.3647, -63.3659,-63.655,-63.9409,-64.1295, -64.3184,-64.5072,-64.6963,-64.8859, -65.0755,-65.2655,-65.5506,-65.7408, -65.9313,-66.1224,-66.313,-66.5053, -66.6967,-66.9838,-67.1757,-67.3682, -67.5611,-67.7533,-67.9456,-68.1374, -68.4286,-68.6239,-68.8158,-69.0057, -69.1991,-69.4903,-69.6845,-69.8795, -70.0566,-70.3819,-70.7888,-71.1152, -71.4408,-71.7674,-71.9314,-72.0955, -72.2592,-72.4227,-72.5046,-72.4736)
FOOTPRINT_POINT_LONGITUDE = (160.183,159.606,159.024,158.434, 157.839,157.238,156.245,156.207,155.875 ,156.198,156.326,156.512,156.752, 156.928,157.143,157.258,157.425,157.688 ,157.86,157.975,158.088,158.195,158.299 ,158.4,158.502,158.595,158.692,158.834, 158.975,159.064,159.152,159.24,159.37, 159.454,159.533,159.608,159.685,159.765 ,159.828,159.903,159.974,160.044, 160.148,160.246,160.342,160.404,160.465 ,160.558,160.589,160.605,161.168, 161.883,162.523,163.365,163.838,163.868 ,163.877,163.801,163.723,163.67,163.617 ,163.563,163.507,163.451,163.394, 163.336,163.246,163.186,163.124,163.061 ,162.997,162.93,162.863,162.761,162.691 ,162.619,162.546,162.472,162.397, 162.321,162.2,162.117,162.036,161.956, 161.87,161.737,161.646,161.552,161.466, 161.304,161.093,160.916,160.735,160.545 ,160.446,160.346,160.244,160.14,160.087 ,160.183)
ORBIT_NUMBER = 21252
ORBITAL_ECCENTRICITY = 0.576
ORBITAL_INCLINATION = 86.99
ORBITAL_SEMIMAJOR_AXIS = 8754.98
PERIAPSIS_ALTITUDE = 334.47
PERIAPSIS_ARGUMENT_ANGLE = 279.04
PERIAPSIS_TIME = 2020-10-24T08:23:06.000Z
SPACECRAFT_ORIENTATION = (0.0,1.0,0.0)
^MEX_ORIENTATION_DESC = "MEX_ORIENTATION_DESC.TXT"
SPACECRAFT_POINTING_MODE = ACROSSTRACK
^MEX_POINTING_DESC = "MEX_POINTING_DESC.TXT"
RIGHT_ASCENSION = -1e+32
DECLINATION = -1e+32
OFFSET_ANGLE = 1.06
SPACECRAFT_SOLAR_DISTANCE = 2.1338e+08
TARGET_NAME = MARS
/* CAMERA DATA ELEMENTS */
DETECTOR_TEMPERATURE = 16.9432
FOCAL_PLANE_TEMPERATURE = 7.7677
INST_CMPRS_NAME = "DISCRETE COSINE TRANSFORMATION (DCT)"
INST_CMPRS_RATIO = 12.8091
INST_CMPRS_QUALITY = 0
INST_CMPRS_QUANTZ_TBL_ID = 0
INSTRUMENT_TEMPERATURE = 11.234
LENS_TEMPERATURE = 7.9716
MACROPIXEL_SIZE = 4
MISSING_FRAMES = 0
PIXEL_SUBSAMPLING_FLAG = N
SIGNAL_CHAIN_ID = 2
/* RADIOMETRIC DATA ELEMENTS */
BANDWIDTH = 81.0
CENTER_FILTER_WAVELENGTH = 955.5
RADIANCE_OFFSET = 0.698425
RADIANCE_SCALING_FACTOR = 0.00681816
REFLECTANCE_SCALING_FACTOR = 0.000669736
MEX:REFLECTANCE_OFFSET = 0.068605
/* IMAGE OBJECT DEFINITIONS */
OBJECT = IMAGE
  INTERCHANGE_FORMAT = BINARY
  LINES = 11083
  LINE_SAMPLES = 3480
  SAMPLE_TYPE = UNSIGNED_INTEGER
  SAMPLE_BITS = 8
  BANDS = 1
  BAND_STORAGE_TYPE = BAND_SEQUENTIAL
  MAXIMUM = 255
  MEAN = 175.412
  MINIMUM = 1
  STANDARD_DEVIATION = 32.2124
END_OBJECT = IMAGE
/* MAP OBJECT DEFINITIONS */
OBJECT = IMAGE_MAP_PROJECTION
  ^DATA_SET_MAP_PROJECTION_CATALOG= "DSMAP.CAT"
  A_AXIS_RADIUS = 3396.0
  B_AXIS_RADIUS = 3396.0
  C_AXIS_RADIUS = 3396.0
  CENTER_LATITUDE = 0.0
  CENTER_LONGITUDE = 160.0
  COORDINATE_SYSTEM_NAME = PLANETOGRAPHIC
  COORDINATE_SYSTEM_TYPE = "BODY-FIXED ROTATING"
  EASTERNMOST_LONGITUDE = 163.877
  FIRST_STANDARD_PARALLEL = "N/A"
  LINE_FIRST_PIXEL = 1
  LINE_LAST_PIXEL = 11083
  LINE_PROJECTION_OFFSET = -74968.375
  MAP_PROJECTION_ROTATION = 0.0
  MAP_PROJECTION_TYPE = SINUSOIDAL
  MAP_RESOLUTION = 1185.42760773333
  MAP_SCALE = 0.05
  MAXIMUM_LATITUDE = -63.2568
  MINIMUM_LATITUDE = -72.5046
  POSITIVE_LONGITUDE_DIRECTION = EAST
  REFERENCE_LATITUDE = "N/A"
  REFERENCE_LONGITUDE = "N/A"
  SAMPLE_FIRST_PIXEL = 1
  SAMPLE_LAST_PIXEL = 3480
  SAMPLE_PROJECTION_OFFSET = 1465.125
  SECOND_STANDARD_PARALLEL = "N/A"
  WESTERNMOST_LONGITUDE = 155.875
END_OBJECT = IMAGE_MAP_PROJECTION
END
