PDS_VERSION_ID = PDS3
/* FILE DATA ELEMENTS */
RECORD_TYPE = UNDEFINED
/* POINTERS TO DATA OBJECTS */
^IMAGE = ("HL249_0000_S24.TIF")
/* IDENTIFICATION DATA ELEMENTS */
DATA_SET_ID = "MEX-M-HRSC-4-REFDR-MAPPROJECT-EXT7-V4.0"
DATA_SET_NAME = "MARS EXPRESS HRSC MAP PROJECTED REFDR EXTENSION7 V4.0"
DETECTOR_ID = MEX_HRSC_S2
EVENT_TYPE = "MARS-REGIONAL-MAPPING-Gl-Pf-Eo"
INSTRUMENT_HOST_ID = MEX
INSTRUMENT_HOST_NAME = "MARS EXPRESS"
INSTRUMENT_ID = HRSC
INSTRUMENT_NAME = "HIGH RESOLUTION STEREO CAMERA"
MISSION_NAME = "MARS EXPRESS"
MISSION_PHASE_NAME = ME_Phase_43
PROCESSING_LEVEL_ID = 4
PRODUCT_CREATION_TIME = 2023-01-29T17:38:44.000Z
PRODUCT_ID = "HL249_0000_S24.TIF"
RELEASE_ID = 0005
REVISION_ID = 0000
/* QUALITY DATA ELEMENTS */
DATA_QUALITY_ID = 1
DATA_QUALITY_DESC = "Data calculated based on original SPICE kernels"
/* TIME DATA ELEMENTS */
SPACECRAFT_CLOCK_START_COUNT = "1/0551532562.23978"
SPACECRAFT_CLOCK_STOP_COUNT = "1/0551532866.49258"
START_TIME = 2020-10-23T11:29:55.629Z
STOP_TIME = 2020-10-23T11:33:11.873Z
/* ORBITAL DATA ELEMENTS */
ASCENDING_NODE_LONGITUDE = 176.76
MAXIMUM_RESOLUTION = 0.0321
FOOTPRINT_POINT_LATITUDE = (-62.9653,-62.8823,-62.7897,-62.6659, -62.6624,-62.5594,-62.2081,-61.8485, -61.2612,-60.9077,-60.6714,-60.3167, -59.8439,-59.6057,-59.1351,-58.7728, -58.526,-58.2843,-57.9202,-57.6751, -57.4266,-57.0534,-56.6801,-56.4295, -56.0463,-55.7909,-55.5361,-55.2812, -55.0247,-54.7696,-54.5107,-54.1183, -53.8544,-53.581,-53.3125,-53.0504, -52.7786,-52.5033,-52.0947,-51.8215, -51.5471,-51.267,-50.9803,-50.5525, -50.2683,-49.9803,-49.8361,-49.8272, -49.8888,-49.957,-50.0019,-50.0547, -50.0849,-50.0869,-50.0882,-50.525, -50.808,-51.2322,-51.5054,-51.7827, -52.0623,-52.341,-52.6152,-52.8878, -53.2969,-53.5653,-53.8405,-54.2483, -54.6516,-54.9012,-55.293,-55.5538, -55.8085,-56.0636,-56.3197,-56.7032, -56.9534,-57.2046,-57.4588,-57.7023, -57.9521,-58.2005,-58.4447,-58.6892, -59.0579,-59.3043,-59.7722,-60.0149, -60.2548,-60.493,-60.8495,-61.0879, -61.446,-61.6848,-62.0396,-62.2822, -62.5208,-62.7598,-62.8757,-62.9653)
FOOTPRINT_POINT_LONGITUDE = (109.605,108.735,107.841,106.745, 106.716,106.562,106.683,106.788,106.972 ,107.077,107.144,107.242,107.367, 107.426,107.546,107.629,107.681,107.737 ,107.818,107.868,107.919,107.997, 108.071,108.117,108.187,108.233,108.279 ,108.323,108.37,108.42,108.465,108.526, 108.569,108.602,108.639,108.682,108.721 ,108.756,108.81,108.849,108.888,108.92, 108.946,108.993,109.024,109.054,109.07, 109.071,109.62,110.291,110.765,111.387, 111.771,111.796,111.805,111.758,111.726 ,111.676,111.641,111.607,111.572, 111.538,111.503,111.468,111.413,111.376 ,111.342,111.286,111.231,111.189, 111.129,111.088,111.047,111.006,110.964 ,110.899,110.856,110.813,110.77,110.722 ,110.676,110.632,110.585,110.537, 110.465,110.417,110.314,110.264,110.213 ,110.159,110.077,110.022,109.936, 109.878,109.787,109.727,109.665,109.602 ,109.568,109.605)
ORBIT_NUMBER = 21249
ORBITAL_ECCENTRICITY = 0.576
ORBITAL_INCLINATION = 87.0
ORBITAL_SEMIMAJOR_AXIS = 8755.22
PERIAPSIS_ALTITUDE = 333.26
PERIAPSIS_ARGUMENT_ANGLE = 279.53
PERIAPSIS_TIME = 2020-10-23T11:26:04.000Z
SPACECRAFT_ORIENTATION = (0.0,1.0,0.0)
^MEX_ORIENTATION_DESC = "MEX_ORIENTATION_DESC.TXT"
SPACECRAFT_POINTING_MODE = ACROSSTRACK
^MEX_POINTING_DESC = "MEX_POINTING_DESC.TXT"
RIGHT_ASCENSION = -1e+32
DECLINATION = -1e+32
OFFSET_ANGLE = 1.374
SPACECRAFT_SOLAR_DISTANCE = 2.13248e+08
TARGET_NAME = MARS
/* CAMERA DATA ELEMENTS */
DETECTOR_TEMPERATURE = 18.5744
FOCAL_PLANE_TEMPERATURE = 7.156
INST_CMPRS_NAME = "DISCRETE COSINE TRANSFORMATION (DCT)"
INST_CMPRS_RATIO = 10.4191
INST_CMPRS_QUALITY = 0
INST_CMPRS_QUANTZ_TBL_ID = 0
INSTRUMENT_TEMPERATURE = 10.6223
LENS_TEMPERATURE = 8.3794
MACROPIXEL_SIZE = 2
MISSING_FRAMES = 0
PIXEL_SUBSAMPLING_FLAG = N
SIGNAL_CHAIN_ID = 1
/* RADIOMETRIC DATA ELEMENTS */
BANDWIDTH = 178.0
CENTER_FILTER_WAVELENGTH = 679.0
RADIANCE_OFFSET = 4.84303
RADIANCE_SCALING_FACTOR = 0.0250698
REFLECTANCE_SCALING_FACTOR = 0.000603742
MEX:REFLECTANCE_OFFSET = 0.116632
/* IMAGE OBJECT DEFINITIONS */
OBJECT = IMAGE
  INTERCHANGE_FORMAT = BINARY
  LINES = 30649
  LINE_SAMPLES = 6695
  SAMPLE_TYPE = UNSIGNED_INTEGER
  SAMPLE_BITS = 8
  BANDS = 1
  BAND_STORAGE_TYPE = BAND_SEQUENTIAL
  MAXIMUM = 255
  MEAN = 125.852
  MINIMUM = 1
  STANDARD_DEVIATION = 36.9971
END_OBJECT = IMAGE
/* MAP OBJECT DEFINITIONS */
OBJECT = IMAGE_MAP_PROJECTION
  ^DATA_SET_MAP_PROJECTION_CATALOG= "DSMAP.CAT"
  A_AXIS_RADIUS = 3396.0
  B_AXIS_RADIUS = 3396.0
  C_AXIS_RADIUS = 3396.0
  CENTER_LATITUDE = 0.0
  CENTER_LONGITUDE = 110.0
  COORDINATE_SYSTEM_NAME = PLANETOGRAPHIC
  COORDINATE_SYSTEM_TYPE = "BODY-FIXED ROTATING"
  EASTERNMOST_LONGITUDE = 111.805
  FIRST_STANDARD_PARALLEL = "N/A"
  LINE_FIRST_PIXEL = 1
  LINE_LAST_PIXEL = 30649
  LINE_PROJECTION_OFFSET = -118237.75
  MAP_PROJECTION_ROTATION = 0.0
  MAP_PROJECTION_TYPE = SINUSOIDAL
  MAP_RESOLUTION = 2370.85521546667
  MAP_SCALE = 0.025
  MAXIMUM_LATITUDE = -49.8272
  MINIMUM_LATITUDE = -62.9653
  POSITIVE_LONGITUDE_DIRECTION = EAST
  REFERENCE_LATITUDE = "N/A"
  REFERENCE_LONGITUDE = "N/A"
  SAMPLE_FIRST_PIXEL = 1
  SAMPLE_LAST_PIXEL = 6695
  SAMPLE_PROJECTION_OFFSET = 3788.25
  SECOND_STANDARD_PARALLEL = "N/A"
  WESTERNMOST_LONGITUDE = 106.562
END_OBJECT = IMAGE_MAP_PROJECTION
END
