PDS_VERSION_ID = PDS3
/* FILE DATA ELEMENTS */
RECORD_TYPE = UNDEFINED
/* POINTERS TO DATA OBJECTS */
^IMAGE = ("HL247_0000_S24.TIF")
/* IDENTIFICATION DATA ELEMENTS */
DATA_SET_ID = "MEX-M-HRSC-4-REFDR-MAPPROJECT-EXT7-V4.0"
DATA_SET_NAME = "MARS EXPRESS HRSC MAP PROJECTED REFDR EXTENSION7 V4.0"
DETECTOR_ID = MEX_HRSC_S2
EVENT_TYPE = "MARS-REGIONAL-MAPPING-Te-Im-Gl"
INSTRUMENT_HOST_ID = MEX
INSTRUMENT_HOST_NAME = "MARS EXPRESS"
INSTRUMENT_ID = HRSC
INSTRUMENT_NAME = "HIGH RESOLUTION STEREO CAMERA"
MISSION_NAME = "MARS EXPRESS"
MISSION_PHASE_NAME = ME_Phase_43
PROCESSING_LEVEL_ID = 4
PRODUCT_CREATION_TIME = 2023-01-29T17:38:44.000Z
PRODUCT_ID = "HL247_0000_S24.TIF"
RELEASE_ID = 0005
REVISION_ID = 0000
/* QUALITY DATA ELEMENTS */
DATA_QUALITY_ID = 1
DATA_QUALITY_DESC = "Data calculated based on original SPICE kernels"
/* TIME DATA ELEMENTS */
SPACECRAFT_CLOCK_START_COUNT = "1/0551482116.50694"
SPACECRAFT_CLOCK_STOP_COUNT = "1/0551482511.50694"
START_TIME = 2020-10-22T21:29:10.000Z
STOP_TIME = 2020-10-22T21:34:12.328Z
/* ORBITAL DATA ELEMENTS */
ASCENDING_NODE_LONGITUDE = 176.79
MAXIMUM_RESOLUTION = 0.0285
FOOTPRINT_POINT_LATITUDE = (-73.6821,-73.5484,-73.4533,-73.4506, -73.3403,-72.4912,-71.9607,-71.6064, -71.251,-70.8958,-70.54,-70.1835, -69.8275,-69.4689,-68.7576,-68.4, -67.8637,-67.5027,-67.1348,-66.77, -66.4107,-66.0517,-65.167,-64.6279, -64.2687,-63.8822,-63.4542,-63.0242, -62.5964,-62.1644,-61.7362,-61.3011, -60.874,-60.2342,-59.7977,-59.3668, -58.9488,-58.5255,-58.1065,-57.6548, -57.2249,-56.5581,-56.083,-55.6307, -55.1715,-54.7145,-54.2554,-53.7848, -53.5496,-53.5028,-53.5422,-53.5975, -53.6221,-53.6229,-53.6238,-54.0959, -54.5652,-55.0266,-55.7158,-56.1673, -56.6189,-57.0631,-57.5056,-57.9736, -58.4125,-59.0392,-59.4673,-59.8984, -60.3333,-60.7598,-61.1898,-61.6245, -62.2764,-62.7085,-63.3561,-63.7875, -64.2151,-64.5777,-65.1195,-65.8301, -66.1918,-66.5531,-66.9149,-67.2773, -67.6434,-68.0131,-68.5548,-68.9158, -69.278,-69.8159,-70.1756,-70.536, -70.8951,-71.4345,-71.7937,-72.1528, -72.8588,-73.3783,-73.5512,-73.6821)
FOOTPRINT_POINT_LONGITUDE = (312.804,310.394,308.966,308.928, 308.842,309.461,309.803,310.024,310.236 ,310.44,310.635,310.822,311.002,311.174 ,311.502,311.655,311.875,312.013, 312.141,312.266,312.391,312.511,312.802 ,312.959,313.06,313.162,313.273,313.379 ,313.482,313.578,313.672,313.759, 313.846,313.972,314.045,314.118,314.196 ,314.268,314.339,314.393,314.46,314.545 ,314.589,314.643,314.694,314.747, 314.797,314.846,314.869,314.873,315.574 ,316.788,317.509,317.534,317.544,317.5, 317.456,317.411,317.34,317.292,317.242, 317.191,317.138,317.072,317.014,316.938 ,316.88,316.819,316.753,316.69,316.623, 316.552,316.439,316.363,316.242,316.159 ,316.073,315.996,315.879,315.721, 315.634,315.544,315.45,315.353,315.25, 315.141,314.978,314.865,314.746,314.564 ,314.435,314.301,314.162,313.942, 313.788,313.628,313.291,313.024,312.931 ,312.804)
ORBIT_NUMBER = 21247
ORBITAL_ECCENTRICITY = 0.576
ORBITAL_INCLINATION = 87.0
ORBITAL_SEMIMAJOR_AXIS = 8753.59
PERIAPSIS_ALTITUDE = 333.76
PERIAPSIS_ARGUMENT_ANGLE = 279.89
PERIAPSIS_TIME = 2020-10-22T21:28:05.000Z
SPACECRAFT_ORIENTATION = (0.0,1.0,0.0)
^MEX_ORIENTATION_DESC = "MEX_ORIENTATION_DESC.TXT"
SPACECRAFT_POINTING_MODE = ACROSSTRACK
^MEX_POINTING_DESC = "MEX_POINTING_DESC.TXT"
RIGHT_ASCENSION = -1e+32
DECLINATION = -1e+32
OFFSET_ANGLE = 0.269
SPACECRAFT_SOLAR_DISTANCE = 2.13161e+08
TARGET_NAME = MARS
/* CAMERA DATA ELEMENTS */
DETECTOR_TEMPERATURE = 0.0
FOCAL_PLANE_TEMPERATURE = 0.0
INST_CMPRS_NAME = "DISCRETE COSINE TRANSFORMATION (DCT)"
INST_CMPRS_RATIO = 11.8004
INST_CMPRS_QUALITY = 0
INST_CMPRS_QUANTZ_TBL_ID = 0
INSTRUMENT_TEMPERATURE = 0.0
LENS_TEMPERATURE = 0.0
MACROPIXEL_SIZE = 2
MISSING_FRAMES = 0
PIXEL_SUBSAMPLING_FLAG = N
SIGNAL_CHAIN_ID = 1
/* RADIOMETRIC DATA ELEMENTS */
BANDWIDTH = 178.0
CENTER_FILTER_WAVELENGTH = 679.0
RADIANCE_OFFSET = 4.12474
RADIANCE_SCALING_FACTOR = 0.0239936
REFLECTANCE_SCALING_FACTOR = 0.000577352
MEX:REFLECTANCE_OFFSET = 0.0992526
/* IMAGE OBJECT DEFINITIONS */
OBJECT = IMAGE
  INTERCHANGE_FORMAT = BINARY
  LINES = 47483
  LINE_SAMPLES = 7868
  SAMPLE_TYPE = UNSIGNED_INTEGER
  SAMPLE_BITS = 8
  BANDS = 1
  BAND_STORAGE_TYPE = BAND_SEQUENTIAL
  MAXIMUM = 255
  MEAN = 124.771
  MINIMUM = 1
  STANDARD_DEVIATION = 29.1321
END_OBJECT = IMAGE
/* MAP OBJECT DEFINITIONS */
OBJECT = IMAGE_MAP_PROJECTION
  ^DATA_SET_MAP_PROJECTION_CATALOG= "DSMAP.CAT"
  A_AXIS_RADIUS = 3396.0
  B_AXIS_RADIUS = 3396.0
  C_AXIS_RADIUS = 3396.0
  CENTER_LATITUDE = 0.0
  CENTER_LONGITUDE = 315.0
  COORDINATE_SYSTEM_NAME = PLANETOGRAPHIC
  COORDINATE_SYSTEM_TYPE = "BODY-FIXED ROTATING"
  EASTERNMOST_LONGITUDE = 317.544
  FIRST_STANDARD_PARALLEL = "N/A"
  LINE_FIRST_PIXEL = 1
  LINE_LAST_PIXEL = 47483
  LINE_PROJECTION_OFFSET = -126899.25
  MAP_PROJECTION_ROTATION = 0.0
  MAP_PROJECTION_TYPE = SINUSOIDAL
  MAP_RESOLUTION = 2370.85521546667
  MAP_SCALE = 0.025
  MAXIMUM_LATITUDE = -53.5028
  MINIMUM_LATITUDE = -73.68210000000001
  POSITIVE_LONGITUDE_DIRECTION = EAST
  REFERENCE_LATITUDE = "N/A"
  REFERENCE_LONGITUDE = "N/A"
  SAMPLE_FIRST_PIXEL = 1
  SAMPLE_LAST_PIXEL = 7868
  SAMPLE_PROJECTION_OFFSET = 4194.75
  SECOND_STANDARD_PARALLEL = "N/A"
  WESTERNMOST_LONGITUDE = 308.842
END_OBJECT = IMAGE_MAP_PROJECTION
END
