PDS_VERSION_ID = PDS3
/* FILE DATA ELEMENTS */
RECORD_TYPE = UNDEFINED
/* POINTERS TO DATA OBJECTS */
^IMAGE = ("HL245_0000_S14.TIF")
/* IDENTIFICATION DATA ELEMENTS */
DATA_SET_ID = "MEX-M-HRSC-4-REFDR-MAPPROJECT-EXT7-V4.0"
DATA_SET_NAME = "MARS EXPRESS HRSC MAP PROJECTED REFDR EXTENSION7 V4.0"
DETECTOR_ID = MEX_HRSC_S1
EVENT_TYPE = "MARS-REGIONAL-MAPPING-Im-Pf-Eo"
INSTRUMENT_HOST_ID = MEX
INSTRUMENT_HOST_NAME = "MARS EXPRESS"
INSTRUMENT_ID = HRSC
INSTRUMENT_NAME = "HIGH RESOLUTION STEREO CAMERA"
MISSION_NAME = "MARS EXPRESS"
MISSION_PHASE_NAME = ME_Phase_43
PROCESSING_LEVEL_ID = 4
PRODUCT_CREATION_TIME = 2023-01-29T17:38:44.000Z
PRODUCT_ID = "HL245_0000_S14.TIF"
RELEASE_ID = 0005
REVISION_ID = 0000
/* QUALITY DATA ELEMENTS */
DATA_QUALITY_ID = 1
DATA_QUALITY_DESC = "Data calculated based on original SPICE kernels"
/* TIME DATA ELEMENTS */
SPACECRAFT_CLOCK_START_COUNT = "1/0551431862.23989"
SPACECRAFT_CLOCK_STOP_COUNT = "1/0551432070.62681"
START_TIME = 2020-10-22T07:32:38.226Z
STOP_TIME = 2020-10-22T07:35:02.233Z
/* ORBITAL DATA ELEMENTS */
ASCENDING_NODE_LONGITUDE = 176.83
MAXIMUM_RESOLUTION = 0.0299
FOOTPRINT_POINT_LATITUDE = (-71.3678,-71.338,-71.316,-71.2797, -71.2526,-71.2055,-71.2036,-71.2896, -71.1287,-70.8874,-70.7262,-70.5653, -70.3234,-70.003,-69.7633,-69.44, -69.1273,-68.8067,-68.6424,-68.4052, -68.0088,-67.7307,-67.5415,-67.3517, -67.1626,-66.8821,-66.6938,-66.5057, -66.3173,-66.0356,-65.8478,-65.6601, -65.4728,-65.2858,-65.0987,-64.9114, -64.7242,-64.538,-64.3513,-64.1668, -63.9808,-63.7031,-63.5179,-63.2407, -63.0556,-62.8707,-62.5942,-62.5017, -62.4782,-62.5218,-62.5475,-62.5628, -62.576,-62.581,-62.5924,-62.5933, -62.594,-62.8735,-63.1515,-63.3368, -63.5223,-63.7085,-63.8943,-64.0806, -64.267,-64.4535,-64.6404,-64.9201, -65.1996,-65.3898,-65.6688,-65.8573, -66.046,-66.2345,-66.4254,-66.7102, -66.8973,-67.0871,-67.2739,-67.4649, -67.6556,-67.9416,-68.1294,-68.2962, -68.4579,-68.7737,-68.9348,-69.1756, -69.498,-69.6597,-69.8224,-70.0658, -70.31,-70.4754,-70.6396,-70.9554, -71.1993,-71.3614,-71.443,-71.3678)
FOOTPRINT_POINT_LONGITUDE = (159.087,158.305,157.774,156.962,156.4, 155.487,155.452,155.304,155.389,155.513 ,155.594,155.674,155.791,155.939, 156.047,156.19,156.315,156.446,156.515, 156.604,156.75,156.849,156.914,156.98, 157.043,157.132,157.192,157.25,157.308, 157.391,157.446,157.5,157.552,157.603, 157.653,157.703,157.752,157.799,157.846 ,157.89,157.934,157.999,158.041,158.102 ,158.143,158.183,158.241,158.26,158.265 ,159.221,159.759,160.151,160.573, 160.932,161.324,161.354,161.365,161.32, 161.273,161.241,161.209,161.176,161.142 ,161.108,161.073,161.038,161.002, 160.946,160.888,160.851,160.79,160.749, 160.708,160.666,160.625,160.56,160.514, 160.468,160.42,160.374,160.326,160.252, 160.201,160.161,160.118,160.026,159.98, 159.909,159.812,159.762,159.713,159.635 ,159.557,159.504,159.45,159.331,159.243 ,159.182,159.152,159.087)
ORBIT_NUMBER = 21245
ORBITAL_ECCENTRICITY = 0.576
ORBITAL_INCLINATION = 86.99
ORBITAL_SEMIMAJOR_AXIS = 8755.78
PERIAPSIS_ALTITUDE = 334.46
PERIAPSIS_ARGUMENT_ANGLE = 280.22
PERIAPSIS_TIME = 2020-10-22T07:30:03.000Z
SPACECRAFT_ORIENTATION = (0.0,1.0,0.0)
^MEX_ORIENTATION_DESC = "MEX_ORIENTATION_DESC.TXT"
SPACECRAFT_POINTING_MODE = NADIR
^MEX_POINTING_DESC = "MEX_POINTING_DESC.TXT"
RIGHT_ASCENSION = -1e+32
DECLINATION = -1e+32
OFFSET_ANGLE = -1e+32
SPACECRAFT_SOLAR_DISTANCE = 2.13074e+08
TARGET_NAME = MARS
/* CAMERA DATA ELEMENTS */
DETECTOR_TEMPERATURE = 16.5354
FOCAL_PLANE_TEMPERATURE = 7.9716
INST_CMPRS_NAME = "DISCRETE COSINE TRANSFORMATION (DCT)"
INST_CMPRS_RATIO = 10.7763
INST_CMPRS_QUALITY = 0
INST_CMPRS_QUANTZ_TBL_ID = 0
INSTRUMENT_TEMPERATURE = 11.0301
LENS_TEMPERATURE = 8.1755
MACROPIXEL_SIZE = 2
MISSING_FRAMES = 0
PIXEL_SUBSAMPLING_FLAG = N
SIGNAL_CHAIN_ID = 1
/* RADIOMETRIC DATA ELEMENTS */
BANDWIDTH = 180.0
CENTER_FILTER_WAVELENGTH = 677.0
RADIANCE_OFFSET = 4.13622
RADIANCE_SCALING_FACTOR = 0.0254267
REFLECTANCE_SCALING_FACTOR = 0.000602272
MEX:REFLECTANCE_OFFSET = 0.097973
/* IMAGE OBJECT DEFINITIONS */
OBJECT = IMAGE
  INTERCHANGE_FORMAT = BINARY
  LINES = 21301
  LINE_SAMPLES = 5268
  SAMPLE_TYPE = UNSIGNED_INTEGER
  SAMPLE_BITS = 8
  BANDS = 1
  BAND_STORAGE_TYPE = BAND_SEQUENTIAL
  MAXIMUM = 255
  MEAN = 157.98
  MINIMUM = 1
  STANDARD_DEVIATION = 37.002
END_OBJECT = IMAGE
/* MAP OBJECT DEFINITIONS */
OBJECT = IMAGE_MAP_PROJECTION
  ^DATA_SET_MAP_PROJECTION_CATALOG= "DSMAP.CAT"
  A_AXIS_RADIUS = 3396.0
  B_AXIS_RADIUS = 3396.0
  C_AXIS_RADIUS = 3396.0
  CENTER_LATITUDE = 0.0
  CENTER_LONGITUDE = 159.0
  COORDINATE_SYSTEM_NAME = PLANETOGRAPHIC
  COORDINATE_SYSTEM_TYPE = "BODY-FIXED ROTATING"
  EASTERNMOST_LONGITUDE = 161.365
  FIRST_STANDARD_PARALLEL = "N/A"
  LINE_FIRST_PIXEL = 1
  LINE_LAST_PIXEL = 21301
  LINE_PROJECTION_OFFSET = -148191.25
  MAP_PROJECTION_ROTATION = 0.0
  MAP_PROJECTION_TYPE = SINUSOIDAL
  MAP_RESOLUTION = 2370.85521546667
  MAP_SCALE = 0.025
  MAXIMUM_LATITUDE = -62.4782
  MINIMUM_LATITUDE = -71.443
  POSITIVE_LONGITUDE_DIRECTION = EAST
  REFERENCE_LATITUDE = "N/A"
  REFERENCE_LONGITUDE = "N/A"
  SAMPLE_FIRST_PIXEL = 1
  SAMPLE_LAST_PIXEL = 5268
  SAMPLE_PROJECTION_OFFSET = 2790.75
  SECOND_STANDARD_PARALLEL = "N/A"
  WESTERNMOST_LONGITUDE = 155.304
END_OBJECT = IMAGE_MAP_PROJECTION
END
