PDS_VERSION_ID = PDS3
/* FILE DATA ELEMENTS */
RECORD_TYPE = UNDEFINED
/* POINTERS TO DATA OBJECTS */
^IMAGE = ("HL240_0000_P14.TIF")
/* IDENTIFICATION DATA ELEMENTS */
DATA_SET_ID = "MEX-M-HRSC-4-REFDR-MAPPROJECT-EXT7-V4.0"
DATA_SET_NAME = "MARS EXPRESS HRSC MAP PROJECTED REFDR EXTENSION7 V4.0"
DETECTOR_ID = MEX_HRSC_P1
EVENT_TYPE = "MARS-REGIONAL-MAPPING-Te-Im-Gl"
INSTRUMENT_HOST_ID = MEX
INSTRUMENT_HOST_NAME = "MARS EXPRESS"
INSTRUMENT_ID = HRSC
INSTRUMENT_NAME = "HIGH RESOLUTION STEREO CAMERA"
MISSION_NAME = "MARS EXPRESS"
MISSION_PHASE_NAME = ME_Phase_43
PROCESSING_LEVEL_ID = 4
PRODUCT_CREATION_TIME = 2023-01-29T17:38:44.000Z
PRODUCT_ID = "HL240_0000_P14.TIF"
RELEASE_ID = 0005
REVISION_ID = 0000
/* QUALITY DATA ELEMENTS */
DATA_QUALITY_ID = 1
DATA_QUALITY_DESC = "Data calculated based on original SPICE kernels"
/* TIME DATA ELEMENTS */
SPACECRAFT_CLOCK_START_COUNT = "1/0551306073.50924"
SPACECRAFT_CLOCK_STOP_COUNT = "1/0551306472.31263"
START_TIME = 2020-10-20T20:35:56.464Z
STOP_TIME = 2020-10-20T20:36:19.803Z
/* ORBITAL DATA ELEMENTS */
ASCENDING_NODE_LONGITUDE = 176.92
MAXIMUM_RESOLUTION = 0.0274 <m/pixel>
FOOTPRINT_POINT_LATITUDE = (-76.2215,-76.2034,-76.1903,-76.1788, -76.171,-76.163,-76.155,-76.1468, -76.1321,-76.1236,-76.1084,-76.0996, -76.0906,-76.0815,-76.0723,-76.063, -76.0536,-76.044,-76.0344,-76.0246, -76.0147,-76.0021,-75.9996,-76.0532, -75.9801,-75.9218,-75.8489,-75.7906, -75.7469,-75.6887,-75.6016,-75.5435, -75.4562,-75.3833,-75.3396,-75.2959, -75.2376,-75.1938,-75.1207,-75.0623, -75.0039,-74.9164,-74.8727,-74.7852, -74.7268,-74.6684,-74.5954,-74.5808, -74.5768,-74.591,-74.6006,-74.6099, -74.6169,-74.626,-74.6351,-74.644, -74.6592,-74.6678,-74.6763,-74.6847, -74.695,-74.7031,-74.7112,-74.719, -74.7267,-74.7343,-74.7472,-74.758, -74.7651,-74.7703,-74.7771,-74.7854, -74.7871,-74.7881,-74.8473,-74.8917, -74.951,-75.0104,-75.0549,-75.1142, -75.1735,-75.2624,-75.3216,-75.3661, -75.4404,-75.5146,-75.5739,-75.6481, -75.7074,-75.7666,-75.8259,-75.8852, -75.9594,-76.0188,-76.0781,-76.1374, -76.1967,-76.2708,-76.2857,-76.2215)
FOOTPRINT_POINT_LONGITUDE = (307.184,306.74,306.429,306.164,305.987 ,305.81,305.634,305.457,305.149,304.974 ,304.667,304.492,304.317,304.143, 303.968,303.794,303.62,303.446,303.272, 303.099,302.926,302.709,302.666,302.469 ,302.545,302.604,302.677,302.735, 302.778,302.835,302.918,302.973,303.055 ,303.123,303.164,303.204,303.257, 303.297,303.363,303.415,303.466,303.542 ,303.58,303.655,303.704,303.753,303.814 ,303.826,303.829,304.08,304.248,304.417 ,304.543,304.712,304.881,305.05,305.346 ,305.516,305.685,305.855,306.068, 306.238,306.409,306.579,306.75,306.921, 307.221,307.478,307.65,307.779,307.951, 308.166,308.209,308.224,308.19,308.164, 308.13,308.095,308.069,308.033,307.998, 307.943,307.907,307.879,307.833,307.787 ,307.749,307.701,307.663,307.624, 307.585,307.545,307.495,307.455,307.414 ,307.373,307.332,307.279,307.269, 307.184)
ORBIT_NUMBER = 21240
ORBITAL_ECCENTRICITY = 0.576
ORBITAL_INCLINATION = 87.0
ORBITAL_SEMIMAJOR_AXIS = 8754.4
PERIAPSIS_ALTITUDE = 333.72
PERIAPSIS_ARGUMENT_ANGLE = 281.07
PERIAPSIS_TIME = 2020-10-20T20:35:01.000Z
SPACECRAFT_ORIENTATION = (0.0,1.0,0.0)
^MEX_ORIENTATION_DESC = "MEX_ORIENTATION_DESC.TXT"
SPACECRAFT_POINTING_MODE = NADIR
^MEX_POINTING_DESC = "MEX_POINTING_DESC.TXT"
RIGHT_ASCENSION = -1e+32
DECLINATION = -1e+32
OFFSET_ANGLE = -1e+32
SPACECRAFT_SOLAR_DISTANCE = 2.12858e+08
TARGET_NAME = MARS
/* CAMERA DATA ELEMENTS */
DETECTOR_TEMPERATURE = 0.0 <degC>
FOCAL_PLANE_TEMPERATURE = 0.0 <degC>
INST_CMPRS_NAME = "DISCRETE COSINE TRANSFORMATION (DCT)"
INST_CMPRS_RATIO = 8.24107
INST_CMPRS_QUALITY = 0
INST_CMPRS_QUANTZ_TBL_ID = 0
INSTRUMENT_TEMPERATURE = 0.0 <degC>
LENS_TEMPERATURE = 0.0 <degC>
MACROPIXEL_SIZE = 2
MISSING_FRAMES = 0
PIXEL_SUBSAMPLING_FLAG = N
SIGNAL_CHAIN_ID = 3
/* RADIOMETRIC DATA ELEMENTS */
BANDWIDTH = 174.0 <nm>
CENTER_FILTER_WAVELENGTH = 675.0 <nm>
RADIANCE_OFFSET = 5.56703 <W*m**-2*sr**-1>
RADIANCE_SCALING_FACTOR = 0.00661561 <W*m**-2*sr**-1>
REFLECTANCE_SCALING_FACTOR = 0.000161227
MEX:REFLECTANCE_OFFSET = 0.135672
/* IMAGE OBJECT DEFINITIONS */
OBJECT = IMAGE
  INTERCHANGE_FORMAT = BINARY
  LINES = 7063
  LINE_SAMPLES = 3947
  SAMPLE_TYPE = UNSIGNED_INTEGER
  SAMPLE_BITS = 8
  BANDS = 1
  BAND_STORAGE_TYPE = BAND_SEQUENTIAL
  MAXIMUM = 255
  MEAN = 148.869
  MINIMUM = 1
  STANDARD_DEVIATION = 28.929
END_OBJECT = IMAGE
/* MAP OBJECT DEFINITIONS */
OBJECT = IMAGE_MAP_PROJECTION
  ^DATA_SET_MAP_PROJECTION_CATALOG= "DSMAP.CAT"
  A_AXIS_RADIUS = 3396.0 <km>
  B_AXIS_RADIUS = 3396.0 <km>
  C_AXIS_RADIUS = 3396.0 <km>
  CENTER_LATITUDE = 0.0
  CENTER_LONGITUDE = 306.0
  COORDINATE_SYSTEM_NAME = PLANETOGRAPHIC
  COORDINATE_SYSTEM_TYPE = "BODY-FIXED ROTATING"
  EASTERNMOST_LONGITUDE = 308.224
  FIRST_STANDARD_PARALLEL = "N/A"
  LINE_FIRST_PIXEL = 1
  LINE_LAST_PIXEL = 7063
  LINE_PROJECTION_OFFSET = -173828.75
  MAP_PROJECTION_ROTATION = 0.0
  MAP_PROJECTION_TYPE = SINUSOIDAL
  MAP_RESOLUTION = 2370.85521546667 <pixel/degree>
  MAP_SCALE = 0.025 <km/pixel>
  MAXIMUM_LATITUDE = -74.57680000000001
  MINIMUM_LATITUDE = -76.28570000000001
  POSITIVE_LONGITUDE_DIRECTION = EAST
  REFERENCE_LATITUDE = "N/A"
  REFERENCE_LONGITUDE = "N/A"
  SAMPLE_FIRST_PIXEL = 1
  SAMPLE_LAST_PIXEL = 3947
  SAMPLE_PROJECTION_OFFSET = 2018.75
  SECOND_STANDARD_PARALLEL = "N/A"
  WESTERNMOST_LONGITUDE = 302.469
END_OBJECT = IMAGE_MAP_PROJECTION
END
