PDS_VERSION_ID = PDS3
/* FILE DATA ELEMENTS */
RECORD_TYPE = UNDEFINED
/* POINTERS TO DATA OBJECTS */
^IMAGE = ("HL238_0000_RE4.TIF")
/* IDENTIFICATION DATA ELEMENTS */
DATA_SET_ID = "MEX-M-HRSC-4-REFDR-MAPPROJECT-EXT7-V4.0"
DATA_SET_NAME = "MARS EXPRESS HRSC MAP PROJECTED REFDR EXTENSION7 V4.0"
DETECTOR_ID = MEX_HRSC_RED
EVENT_TYPE = "MARS-REGIONAL-MAPPING-Im-Pf-Eo"
INSTRUMENT_HOST_ID = MEX
INSTRUMENT_HOST_NAME = "MARS EXPRESS"
INSTRUMENT_ID = HRSC
INSTRUMENT_NAME = "HIGH RESOLUTION STEREO CAMERA"
MISSION_NAME = "MARS EXPRESS"
MISSION_PHASE_NAME = ME_Phase_43
PROCESSING_LEVEL_ID = 4
PRODUCT_CREATION_TIME = 2023-01-29T17:38:44.000Z
PRODUCT_ID = "HL238_0000_RE4.TIF"
RELEASE_ID = 0005
REVISION_ID = 0000
/* QUALITY DATA ELEMENTS */
DATA_QUALITY_ID = 1
DATA_QUALITY_DESC = "Data calculated based on original SPICE kernels"
/* TIME DATA ELEMENTS */
SPACECRAFT_CLOCK_START_COUNT = "1/0551255861.24951"
SPACECRAFT_CLOCK_STOP_COUNT = "1/0551256069.65449"
START_TIME = 2020-10-20T06:38:19.860Z
STOP_TIME = 2020-10-20T06:40:35.711Z
/* ORBITAL DATA ELEMENTS */
ASCENDING_NODE_LONGITUDE = 176.95
MAXIMUM_RESOLUTION = 0.0563
FOOTPRINT_POINT_LATITUDE = (-71.5059,-71.4831,-71.4583,-71.4274, -71.4263,-71.346,-71.1727,-70.9126, -70.7393,-70.4794,-70.1311,-69.8701, -69.6967,-69.5213,-69.1801,-69.0054, -68.8305,-68.6573,-68.483,-68.3085, -68.0451,-67.8691,-67.695,-67.522, -67.3481,-67.1735,-66.9989,-66.7371, -66.5625,-66.3012,-66.1266,-65.9522, -65.6907,-65.4286,-65.2542,-65.08, -64.9058,-64.7317,-64.4706,-64.2971, -64.1233,-63.8629,-63.6887,-63.5149, -63.2106,-62.8995,-62.5874,-62.4843, -62.4115,-62.4215,-62.4284,-62.4352, -62.4398,-62.4408,-62.4408,-62.4419, -62.6498,-62.8583,-63.0668,-63.3793, -63.5764,-63.8383,-64.0136,-64.1884, -64.3636,-64.626,-64.8009,-65.0634, -65.2384,-65.4135,-65.5887,-65.8513, -66.0264,-66.2021,-66.3769,-66.552, -66.7274,-66.9905,-67.167,-67.4301, -67.6934,-67.8691,-68.0445,-68.2187, -68.396,-68.6597,-69.0062,-69.1834, -69.4494,-69.624,-69.7987,-69.9725, -70.2337,-70.4956,-70.6709,-70.8448, -71.02,-71.2804,-71.368,-71.5059)
FOOTPRINT_POINT_LONGITUDE = (156.157,154.715,153.643,152.593,152.56 ,152.611,152.682,152.787,152.854, 152.953,153.081,153.173,153.233,153.292 ,153.402,153.458,153.512,153.565, 153.617,153.668,153.744,153.793,153.84, 153.886,153.932,153.977,154.021,154.086 ,154.128,154.189,154.229,154.268, 154.326,154.382,154.418,154.454,154.489 ,154.523,154.573,154.605,154.637, 154.684,154.715,154.745,154.796,154.847 ,154.896,154.912,154.923,155.467, 155.887,156.498,157.252,157.743,157.77, 157.779,157.76,157.739,157.718,157.687, 157.665,157.638,157.618,157.598,157.578 ,157.548,157.527,157.495,157.474, 157.451,157.429,157.394,157.371,157.346 ,157.322,157.297,157.272,157.232, 157.203,157.162,157.119,157.089,157.059 ,157.032,156.997,156.948,156.894, 156.856,156.798,156.764,156.73,156.698, 156.646,156.591,156.552,156.515,156.474 ,156.418,156.397,156.157)
ORBIT_NUMBER = 21238
ORBITAL_ECCENTRICITY = 0.576
ORBITAL_INCLINATION = 86.99
ORBITAL_SEMIMAJOR_AXIS = 8756.67
PERIAPSIS_ALTITUDE = 334.4
PERIAPSIS_ARGUMENT_ANGLE = 281.4
PERIAPSIS_TIME = 2020-10-20T06:36:58.000Z
SPACECRAFT_ORIENTATION = (0.0,1.0,0.0)
^MEX_ORIENTATION_DESC = "MEX_ORIENTATION_DESC.TXT"
SPACECRAFT_POINTING_MODE = ACROSSTRACK
^MEX_POINTING_DESC = "MEX_POINTING_DESC.TXT"
RIGHT_ASCENSION = -1e+32
DECLINATION = -1e+32
OFFSET_ANGLE = -0.7
SPACECRAFT_SOLAR_DISTANCE = 2.12773e+08
TARGET_NAME = MARS
/* CAMERA DATA ELEMENTS */
DETECTOR_TEMPERATURE = 17.9627
FOCAL_PLANE_TEMPERATURE = 7.3599
INST_CMPRS_NAME = "DISCRETE COSINE TRANSFORMATION (DCT)"
INST_CMPRS_RATIO = 18.8845
INST_CMPRS_QUALITY = 0
INST_CMPRS_QUANTZ_TBL_ID = 0
INSTRUMENT_TEMPERATURE = 10.8262
LENS_TEMPERATURE = 8.3794
MACROPIXEL_SIZE = 4
MISSING_FRAMES = 0
PIXEL_SUBSAMPLING_FLAG = N
SIGNAL_CHAIN_ID = 2
/* RADIOMETRIC DATA ELEMENTS */
BANDWIDTH = 48.0
CENTER_FILTER_WAVELENGTH = 748.0
RADIANCE_OFFSET = 1.00514
RADIANCE_SCALING_FACTOR = 0.00718414
REFLECTANCE_SCALING_FACTOR = 0.000742224
MEX:REFLECTANCE_OFFSET = 0.103846
/* IMAGE OBJECT DEFINITIONS */
OBJECT = IMAGE
  INTERCHANGE_FORMAT = BINARY
  LINES = 10757
  LINE_SAMPLES = 2286
  SAMPLE_TYPE = UNSIGNED_INTEGER
  SAMPLE_BITS = 8
  BANDS = 1
  BAND_STORAGE_TYPE = BAND_SEQUENTIAL
  MAXIMUM = 255
  MEAN = 122.118
  MINIMUM = 1
  STANDARD_DEVIATION = 42.3022
END_OBJECT = IMAGE
/* MAP OBJECT DEFINITIONS */
OBJECT = IMAGE_MAP_PROJECTION
  ^DATA_SET_MAP_PROJECTION_CATALOG= "DSMAP.CAT"
  A_AXIS_RADIUS = 3396.0
  B_AXIS_RADIUS = 3396.0
  C_AXIS_RADIUS = 3396.0
  CENTER_LATITUDE = 0.0
  CENTER_LONGITUDE = 156.0
  COORDINATE_SYSTEM_NAME = PLANETOGRAPHIC
  COORDINATE_SYSTEM_TYPE = "BODY-FIXED ROTATING"
  EASTERNMOST_LONGITUDE = 157.779
  FIRST_STANDARD_PARALLEL = "N/A"
  LINE_FIRST_PIXEL = 1
  LINE_LAST_PIXEL = 10757
  LINE_PROJECTION_OFFSET = -73929.125
  MAP_PROJECTION_ROTATION = 0.0
  MAP_PROJECTION_TYPE = SINUSOIDAL
  MAP_RESOLUTION = 1185.42760773333
  MAP_SCALE = 0.05
  MAXIMUM_LATITUDE = -62.4115
  MINIMUM_LATITUDE = -71.5059
  POSITIVE_LONGITUDE_DIRECTION = EAST
  REFERENCE_LATITUDE = "N/A"
  REFERENCE_LONGITUDE = "N/A"
  SAMPLE_FIRST_PIXEL = 1
  SAMPLE_LAST_PIXEL = 2286
  SAMPLE_PROJECTION_OFFSET = 1296.625
  SECOND_STANDARD_PARALLEL = "N/A"
  WESTERNMOST_LONGITUDE = 152.56
END_OBJECT = IMAGE_MAP_PROJECTION
END
