PDS_VERSION_ID = PDS3
/* FILE DATA ELEMENTS */
RECORD_TYPE = UNDEFINED
/* POINTERS TO DATA OBJECTS */
^IMAGE = ("HL233_0000_GR4.TIF")
/* IDENTIFICATION DATA ELEMENTS */
DATA_SET_ID = "MEX-M-HRSC-4-REFDR-MAPPROJECT-EXT7-V4.0"
DATA_SET_NAME = "MARS EXPRESS HRSC MAP PROJECTED REFDR EXTENSION7 V4.0"
DETECTOR_ID = MEX_HRSC_GREEN
EVENT_TYPE = "MARS-REGIONAL-MAPPING-Te-Im-Gl"
INSTRUMENT_HOST_ID = MEX
INSTRUMENT_HOST_NAME = "MARS EXPRESS"
INSTRUMENT_ID = HRSC
INSTRUMENT_NAME = "HIGH RESOLUTION STEREO CAMERA"
MISSION_NAME = "MARS EXPRESS"
MISSION_PHASE_NAME = ME_Phase_43
PROCESSING_LEVEL_ID = 4
PRODUCT_CREATION_TIME = 2023-01-29T17:38:44.000Z
PRODUCT_ID = "HL233_0000_GR4.TIF"
RELEASE_ID = 0005
REVISION_ID = 0000
/* QUALITY DATA ELEMENTS */
DATA_QUALITY_ID = 1
DATA_QUALITY_DESC = "Data calculated based on original SPICE kernels"
/* TIME DATA ELEMENTS */
SPACECRAFT_CLOCK_START_COUNT = "1/0551130077.24883"
SPACECRAFT_CLOCK_STOP_COUNT = "1/0551130440.24043"
START_TIME = 2020-10-18T19:42:25.487Z
STOP_TIME = 2020-10-18T19:47:17.250Z
/* ORBITAL DATA ELEMENTS */
ASCENDING_NODE_LONGITUDE = 177.04
MAXIMUM_RESOLUTION = 0.053
FOOTPRINT_POINT_LATITUDE = (-75.8285,-75.7666,-75.6152,-75.6128, -75.6192,-75.1101,-74.7702,-74.0894, -73.4075,-72.7249,-72.0417,-71.6931, -71.34,-70.9868,-70.6268,-70.2734, -69.9204,-69.3907,-69.0376,-68.685, -68.1559,-67.8035,-67.451,-67.0989, -66.7469,-66.3951,-66.0437,-65.6932, -65.1667,-64.6413,-64.1163,-63.7198, -63.3032,-62.8871,-62.4716,-62.0568, -61.6424,-61.2287,-60.6087,-60.1966, -59.7855,-59.1689,-58.555,-57.9367, -57.309,-57.1013,-57.0873,-57.1184, -57.1466,-57.1739,-57.1745,-57.1757, -57.8048,-58.2281,-58.6384,-59.2532, -59.8719,-60.2852,-60.6992,-61.1141, -61.529,-61.9448,-62.3614,-62.7787, -63.1964,-63.615,-64.225,-64.5764, -64.9283,-65.2806,-65.6332,-65.9864, -66.3397,-66.6934,-67.0473,-67.4017, -67.7563,-68.1112,-68.4664,-68.8216, -69.1771,-69.5329,-69.8889,-70.2448, -70.6011,-71.1429,-71.4997,-71.8566, -72.2092,-72.9003,-73.2458,-73.5913, -73.9369,-74.2825,-74.628,-74.9735, -75.3189,-75.664,-75.8364,-75.8285)
FOOTPRINT_POINT_LONGITUDE = (302.333,300.896,298.022,297.982, 297.843,298.317,298.614,299.166,299.669 ,300.128,300.549,300.75,300.945,301.131 ,301.313,301.485,301.649,301.883, 302.032,302.173,302.376,302.505,302.63, 302.749,302.865,302.976,303.082,303.181 ,303.329,303.467,303.599,303.695,303.79 ,303.882,303.969,304.053,304.133,304.21 ,304.322,304.391,304.456,304.554,304.64 ,304.725,304.806,304.827,304.828, 305.631,306.43,307.479,307.504,307.512, 307.444,307.407,307.359,307.279,307.203 ,307.149,307.094,307.038,306.977, 306.915,306.851,306.785,306.716,306.646 ,306.537,306.471,306.404,306.334, 306.261,306.187,306.11,306.031,305.948, 305.863,305.775,305.684,305.589,305.49, 305.388,305.282,305.172,305.057,304.938 ,304.749,304.618,304.481,304.34,304.046 ,303.889,303.724,303.553,303.373, 303.185,302.988,302.782,302.563,302.45, 302.333)
ORBIT_NUMBER = 21233
ORBITAL_ECCENTRICITY = 0.576
ORBITAL_INCLINATION = 86.99
ORBITAL_SEMIMAJOR_AXIS = 8755.28
PERIAPSIS_ALTITUDE = 333.63
PERIAPSIS_ARGUMENT_ANGLE = 282.26
PERIAPSIS_TIME = 2020-10-18T19:41:56.000Z
SPACECRAFT_ORIENTATION = (0.0,1.0,0.0)
^MEX_ORIENTATION_DESC = "MEX_ORIENTATION_DESC.TXT"
SPACECRAFT_POINTING_MODE = NADIR
^MEX_POINTING_DESC = "MEX_POINTING_DESC.TXT"
RIGHT_ASCENSION = -1e+32
DECLINATION = -1e+32
OFFSET_ANGLE = -1e+32
SPACECRAFT_SOLAR_DISTANCE = 2.12562e+08
TARGET_NAME = MARS
/* CAMERA DATA ELEMENTS */
DETECTOR_TEMPERATURE = 18.1666
FOCAL_PLANE_TEMPERATURE = 7.9716
INST_CMPRS_NAME = "DISCRETE COSINE TRANSFORMATION (DCT)"
INST_CMPRS_RATIO = 20.0767
INST_CMPRS_QUALITY = 0
INST_CMPRS_QUANTZ_TBL_ID = 0
INSTRUMENT_TEMPERATURE = 10.8262
LENS_TEMPERATURE = 8.3794
MACROPIXEL_SIZE = 4
MISSING_FRAMES = 1
PIXEL_SUBSAMPLING_FLAG = N
SIGNAL_CHAIN_ID = 2
/* RADIOMETRIC DATA ELEMENTS */
BANDWIDTH = 88.0
CENTER_FILTER_WAVELENGTH = 538.0
RADIANCE_OFFSET = 1.62319
RADIANCE_SCALING_FACTOR = 0.0049781
REFLECTANCE_SCALING_FACTOR = 0.000193652
MEX:REFLECTANCE_OFFSET = 0.0631433
/* IMAGE OBJECT DEFINITIONS */
OBJECT = IMAGE
  INTERCHANGE_FORMAT = BINARY
  LINES = 22229
  LINE_SAMPLES = 4069
  SAMPLE_TYPE = UNSIGNED_INTEGER
  SAMPLE_BITS = 8
  BANDS = 1
  BAND_STORAGE_TYPE = BAND_SEQUENTIAL
  MAXIMUM = 255
  MEAN = 116.884
  MINIMUM = 1
  STANDARD_DEVIATION = 34.8908
END_OBJECT = IMAGE
/* MAP OBJECT DEFINITIONS */
OBJECT = IMAGE_MAP_PROJECTION
  ^DATA_SET_MAP_PROJECTION_CATALOG= "DSMAP.CAT"
  A_AXIS_RADIUS = 3396.0
  B_AXIS_RADIUS = 3396.0
  C_AXIS_RADIUS = 3396.0
  CENTER_LATITUDE = 0.0
  CENTER_LONGITUDE = 304.0
  COORDINATE_SYSTEM_NAME = PLANETOGRAPHIC
  COORDINATE_SYSTEM_TYPE = "BODY-FIXED ROTATING"
  EASTERNMOST_LONGITUDE = 307.512
  FIRST_STANDARD_PARALLEL = "N/A"
  LINE_FIRST_PIXEL = 1
  LINE_LAST_PIXEL = 22229
  LINE_PROJECTION_OFFSET = -67683.875
  MAP_PROJECTION_ROTATION = 0.0
  MAP_PROJECTION_TYPE = SINUSOIDAL
  MAP_RESOLUTION = 1185.42760773333
  MAP_SCALE = 0.05
  MAXIMUM_LATITUDE = -57.0873
  MINIMUM_LATITUDE = -75.8364
  POSITIVE_LONGITUDE_DIRECTION = EAST
  REFERENCE_LATITUDE = "N/A"
  REFERENCE_LONGITUDE = "N/A"
  SAMPLE_FIRST_PIXEL = 1
  SAMPLE_LAST_PIXEL = 4069
  SAMPLE_PROJECTION_OFFSET = 1819.125
  SECOND_STANDARD_PARALLEL = "N/A"
  WESTERNMOST_LONGITUDE = 297.843
END_OBJECT = IMAGE_MAP_PROJECTION
END
