PDS_VERSION_ID = PDS3
/* FILE DATA ELEMENTS */
RECORD_TYPE = UNDEFINED
/* POINTERS TO DATA OBJECTS */
^IMAGE = ("HL224_0000_P24.TIF")
/* IDENTIFICATION DATA ELEMENTS */
DATA_SET_ID = "MEX-M-HRSC-4-REFDR-MAPPROJECT-EXT7-V4.0"
DATA_SET_NAME = "MARS EXPRESS HRSC MAP PROJECTED REFDR EXTENSION7 V4.0"
DETECTOR_ID = MEX_HRSC_P2
EVENT_TYPE = "MARS-REGIONAL-MAPPING-Te-Im"
INSTRUMENT_HOST_ID = MEX
INSTRUMENT_HOST_NAME = "MARS EXPRESS"
INSTRUMENT_ID = HRSC
INSTRUMENT_NAME = "HIGH RESOLUTION STEREO CAMERA"
MISSION_NAME = "MARS EXPRESS"
MISSION_PHASE_NAME = ME_Phase_43
PROCESSING_LEVEL_ID = 4
PRODUCT_CREATION_TIME = 2023-01-29T17:38:44.000Z
PRODUCT_ID = "HL224_0000_P24.TIF"
RELEASE_ID = 0005
REVISION_ID = 0000
/* QUALITY DATA ELEMENTS */
DATA_QUALITY_ID = 1
DATA_QUALITY_DESC = "Data calculated based on original SPICE kernels"
/* TIME DATA ELEMENTS */
SPACECRAFT_CLOCK_START_COUNT = "1/0550903978.23931"
SPACECRAFT_CLOCK_STOP_COUNT = "1/0550904264.28932"
START_TIME = 2020-10-16T04:53:42.357Z
STOP_TIME = 2020-10-16T04:56:58.704Z
/* ORBITAL DATA ELEMENTS */
ASCENDING_NODE_LONGITUDE = 177.2
MAXIMUM_RESOLUTION = 0.0294
FOOTPRINT_POINT_LATITUDE = (-63.1337,-63.1207,-63.1037,-63.0816, -63.0808,-63.0261,-62.5918,-62.1585, -61.9395,-61.7214,-61.3976,-60.9285, -60.6689,-60.4099,-60.151,-59.8923, -59.6339,-59.2464,-58.9882,-58.7302, -58.4723,-58.0857,-57.8278,-57.5703, -57.3131,-57.0562,-56.6707,-56.4144, -56.1582,-55.7744,-55.3898,-55.1336, -54.8761,-54.613,-54.3496,-54.0869, -53.6929,-53.4249,-53.1562,-52.8881, -52.6192,-52.347,-52.0727,-51.6613, -51.3878,-50.9668,-50.6862,-50.4086, -50.2679,-50.2644,-50.2692,-50.2728, -50.2753,-50.2766,-50.2742,-50.274, -50.2745,-50.6978,-51.1199,-51.4017, -51.6768,-51.9524,-52.2258,-52.5015, -52.7747,-53.0428,-53.3127,-53.7168, -53.98,-54.2432,-54.5066,-54.7698, -55.0311,-55.2879,-55.545,-55.9311, -56.1892,-56.5751,-56.9591,-57.3464, -57.6044,-57.8621,-58.1207,-58.3793, -58.7672,-59.026,-59.2846,-59.5445, -59.8033,-60.0624,-60.3219,-60.5819, -60.8424,-61.2269,-61.6624,-61.9886, -62.5304,-62.9685,-63.0774,-63.1337)
FOOTPRINT_POINT_LONGITUDE = (147.122,146.114,145.28,144.459,144.434 ,144.435,144.509,144.58,144.615,144.648 ,144.697,144.765,144.801,144.836,144.87 ,144.903,144.935,144.982,145.012, 145.041,145.069,145.111,145.137,145.163 ,145.188,145.212,145.248,145.27,145.292 ,145.324,145.355,145.375,145.394, 145.413,145.431,145.449,145.474,145.491 ,145.508,145.523,145.539,145.553, 145.568,145.589,145.602,145.621,145.634 ,145.646,145.652,145.652,146.124,146.53 ,146.962,147.349,148.106,148.131, 148.139,148.122,148.103,148.09,148.077, 148.064,148.053,148.04,148.022,148.01, 147.995,147.974,147.959,147.944,147.929 ,147.915,147.9,147.884,147.868,147.844, 147.826,147.802,147.78,147.752,147.734, 147.717,147.697,147.677,147.647,147.627 ,147.606,147.583,147.562,147.54,147.516 ,147.492,147.466,147.428,147.385, 147.353,147.301,147.248,147.236, 147.122)
ORBIT_NUMBER = 21224
ORBITAL_ECCENTRICITY = 0.576
ORBITAL_INCLINATION = 86.99
ORBITAL_SEMIMAJOR_AXIS = 8758.61
PERIAPSIS_ALTITUDE = 334.0
PERIAPSIS_ARGUMENT_ANGLE = 283.76
PERIAPSIS_TIME = 2020-10-16T04:50:45.000Z
SPACECRAFT_ORIENTATION = (0.0,1.0,0.0)
^MEX_ORIENTATION_DESC = "MEX_ORIENTATION_DESC.TXT"
SPACECRAFT_POINTING_MODE = ACROSSTRACK
^MEX_POINTING_DESC = "MEX_POINTING_DESC.TXT"
RIGHT_ASCENSION = -1e+32
DECLINATION = -1e+32
OFFSET_ANGLE = -0.58
SPACECRAFT_SOLAR_DISTANCE = 2.12188e+08
TARGET_NAME = MARS
/* CAMERA DATA ELEMENTS */
DETECTOR_TEMPERATURE = 18.3705
FOCAL_PLANE_TEMPERATURE = 7.9716
INST_CMPRS_NAME = "DISCRETE COSINE TRANSFORMATION (DCT)"
INST_CMPRS_RATIO = 7.58018
INST_CMPRS_QUALITY = 0
INST_CMPRS_QUANTZ_TBL_ID = 0
INSTRUMENT_TEMPERATURE = 10.4184
LENS_TEMPERATURE = 8.7872
MACROPIXEL_SIZE = 2
MISSING_FRAMES = 0
PIXEL_SUBSAMPLING_FLAG = N
SIGNAL_CHAIN_ID = 3
/* RADIOMETRIC DATA ELEMENTS */
BANDWIDTH = 177.0
CENTER_FILTER_WAVELENGTH = 676.5
RADIANCE_OFFSET = 4.23484
RADIANCE_SCALING_FACTOR = 0.0167938
REFLECTANCE_SCALING_FACTOR = 0.000400913
MEX:REFLECTANCE_OFFSET = 0.101097
/* IMAGE OBJECT DEFINITIONS */
OBJECT = IMAGE
  INTERCHANGE_FORMAT = BINARY
  LINES = 30434
  LINE_SAMPLES = 5008
  SAMPLE_TYPE = UNSIGNED_INTEGER
  SAMPLE_BITS = 8
  BANDS = 1
  BAND_STORAGE_TYPE = BAND_SEQUENTIAL
  MAXIMUM = 255
  MEAN = 124.825
  MINIMUM = 1
  STANDARD_DEVIATION = 28.2651
END_OBJECT = IMAGE
/* MAP OBJECT DEFINITIONS */
OBJECT = IMAGE_MAP_PROJECTION
  ^DATA_SET_MAP_PROJECTION_CATALOG= "DSMAP.CAT"
  A_AXIS_RADIUS = 3396.0
  B_AXIS_RADIUS = 3396.0
  C_AXIS_RADIUS = 3396.0
  CENTER_LATITUDE = 0.0
  CENTER_LONGITUDE = 146.0
  COORDINATE_SYSTEM_NAME = PLANETOGRAPHIC
  COORDINATE_SYSTEM_TYPE = "BODY-FIXED ROTATING"
  EASTERNMOST_LONGITUDE = 148.139
  FIRST_STANDARD_PARALLEL = "N/A"
  LINE_FIRST_PIXEL = 1
  LINE_LAST_PIXEL = 30434
  LINE_PROJECTION_OFFSET = -119113.75
  MAP_PROJECTION_ROTATION = 0.0
  MAP_PROJECTION_TYPE = SINUSOIDAL
  MAP_RESOLUTION = 2370.85521546667
  MAP_SCALE = 0.025
  MAXIMUM_LATITUDE = -50.2644
  MINIMUM_LATITUDE = -63.1337
  POSITIVE_LONGITUDE_DIRECTION = EAST
  REFERENCE_LATITUDE = "N/A"
  REFERENCE_LONGITUDE = "N/A"
  SAMPLE_FIRST_PIXEL = 1
  SAMPLE_LAST_PIXEL = 5008
  SAMPLE_PROJECTION_OFFSET = 1709.75
  SECOND_STANDARD_PARALLEL = "N/A"
  WESTERNMOST_LONGITUDE = 144.434
END_OBJECT = IMAGE_MAP_PROJECTION
END
