PDS_VERSION_ID = PDS3
/* FILE DATA ELEMENTS */
RECORD_TYPE = UNDEFINED
/* POINTERS TO DATA OBJECTS */
^IMAGE = ("HL223_0000_S14.TIF")
/* IDENTIFICATION DATA ELEMENTS */
DATA_SET_ID = "MEX-M-HRSC-4-REFDR-MAPPROJECT-EXT7-V4.0"
DATA_SET_NAME = "MARS EXPRESS HRSC MAP PROJECTED REFDR EXTENSION7 V4.0"
DETECTOR_ID = MEX_HRSC_S1
EVENT_TYPE = "MARS-REGIONAL-MAPPING-Te-Im-Gl"
INSTRUMENT_HOST_ID = MEX
INSTRUMENT_HOST_NAME = "MARS EXPRESS"
INSTRUMENT_ID = HRSC
INSTRUMENT_NAME = "HIGH RESOLUTION STEREO CAMERA"
MISSION_NAME = "MARS EXPRESS"
MISSION_PHASE_NAME = ME_Phase_43
PROCESSING_LEVEL_ID = 4
PRODUCT_CREATION_TIME = 2023-01-29T17:38:44.000Z
PRODUCT_ID = "HL223_0000_S14.TIF"
RELEASE_ID = 0005
REVISION_ID = 0000
/* QUALITY DATA ELEMENTS */
DATA_QUALITY_ID = 1
DATA_QUALITY_DESC = "Data calculated based on original SPICE kernels"
/* TIME DATA ELEMENTS */
SPACECRAFT_CLOCK_START_COUNT = "1/0550878699.51482"
SPACECRAFT_CLOCK_STOP_COUNT = "1/0550879011.44928"
START_TIME = 2020-10-15T21:53:12.901Z
STOP_TIME = 2020-10-15T21:54:36.621Z
/* ORBITAL DATA ELEMENTS */
ASCENDING_NODE_LONGITUDE = 177.22
MAXIMUM_RESOLUTION = 0.0286
FOOTPRINT_POINT_LATITUDE = (-71.7739,-71.7444,-71.7227,-71.687, -71.6606,-71.638,-71.6145,-71.6127, -71.696,-71.4917,-71.387,-71.2811, -71.1221,-71.0167,-70.9105,-70.8044, -70.6985,-70.5934,-70.489,-70.3308, -70.1727,-70.0671,-69.909,-69.8034, -69.6974,-69.5919,-69.4336,-69.3282, -69.2228,-69.1176,-69.0119,-68.8542, -68.7485,-68.6436,-68.4359,-68.2319, -68.0751,-67.9704,-67.8133,-67.6562, -67.5513,-67.4463,-67.3419,-67.2359, -67.0744,-66.8627,-66.7064,-66.4984, -66.4464,-66.4143,-66.4353,-66.4576, -66.4749,-66.4936,-66.5096,-66.5223, -66.5411,-66.5422,-66.5429,-66.708, -66.8689,-67.0272,-67.1829,-67.3371, -67.5409,-67.75,-67.8565,-67.9619, -68.068,-68.1739,-68.279,-68.385, -68.4916,-68.651,-68.7567,-68.915, -69.0214,-69.1262,-69.2323,-69.3913, -69.497,-69.6581,-69.7663,-69.9751, -70.081,-70.241,-70.4012,-70.5078, -70.6678,-70.7744,-70.9346,-71.0407, -71.1477,-71.2549,-71.3618,-71.4685, -71.5756,-71.784,-71.8356,-71.7739)
FOOTPRINT_POINT_LONGITUDE = (245.77,245.009,244.492,243.702,243.154 ,242.71,242.266,242.232,242.084,242.198 ,242.255,242.312,242.397,242.452, 242.507,242.562,242.615,242.667,242.717 ,242.793,242.868,242.917,242.989, 243.037,243.085,243.132,243.201,243.246 ,243.291,243.335,243.379,243.443, 243.486,243.528,243.606,243.679,243.737 ,243.775,243.832,243.888,243.925, 243.962,243.998,244.035,244.093,244.165 ,244.215,244.28,244.296,244.306,244.724 ,245.234,245.654,246.135,246.496, 246.827,247.37,247.401,247.411,247.38, 247.346,247.309,247.271,247.231,247.175 ,247.122,247.095,247.068,247.041, 247.014,246.985,246.957,246.929,246.886 ,246.857,246.812,246.782,246.75,246.719 ,246.672,246.64,246.593,246.561,246.492 ,246.458,246.407,246.354,246.319, 246.265,246.228,246.172,246.134,246.096 ,246.058,246.019,245.979,245.939, 245.859,245.838,245.77)
ORBIT_NUMBER = 21223
ORBITAL_ECCENTRICITY = 0.576
ORBITAL_INCLINATION = 87.0
ORBITAL_SEMIMAJOR_AXIS = 8756.61
PERIAPSIS_ALTITUDE = 332.63
PERIAPSIS_ARGUMENT_ANGLE = 283.91
PERIAPSIS_TIME = 2020-10-15T21:51:42.000Z
SPACECRAFT_ORIENTATION = (0.0,1.0,0.0)
^MEX_ORIENTATION_DESC = "MEX_ORIENTATION_DESC.TXT"
SPACECRAFT_POINTING_MODE = NADIR
^MEX_POINTING_DESC = "MEX_POINTING_DESC.TXT"
RIGHT_ASCENSION = -1e+32
DECLINATION = -1e+32
OFFSET_ANGLE = -1e+32
SPACECRAFT_SOLAR_DISTANCE = 2.12148e+08
TARGET_NAME = MARS
/* CAMERA DATA ELEMENTS */
DETECTOR_TEMPERATURE = 0.0
FOCAL_PLANE_TEMPERATURE = 0.0
INST_CMPRS_NAME = "DISCRETE COSINE TRANSFORMATION (DCT)"
INST_CMPRS_RATIO = 10.5913
INST_CMPRS_QUALITY = 0
INST_CMPRS_QUANTZ_TBL_ID = 0
INSTRUMENT_TEMPERATURE = 0.0
LENS_TEMPERATURE = 0.0
MACROPIXEL_SIZE = 2
MISSING_FRAMES = 0
PIXEL_SUBSAMPLING_FLAG = N
SIGNAL_CHAIN_ID = 1
/* RADIOMETRIC DATA ELEMENTS */
BANDWIDTH = 180.0
CENTER_FILTER_WAVELENGTH = 677.0
RADIANCE_OFFSET = 4.90148
RADIANCE_SCALING_FACTOR = 0.0170036
REFLECTANCE_SCALING_FACTOR = 0.000399262
MEX:REFLECTANCE_OFFSET = 0.115092
/* IMAGE OBJECT DEFINITIONS */
OBJECT = IMAGE
  INTERCHANGE_FORMAT = BINARY
  LINES = 17851
  LINE_SAMPLES = 5004
  SAMPLE_TYPE = UNSIGNED_INTEGER
  SAMPLE_BITS = 8
  BANDS = 1
  BAND_STORAGE_TYPE = BAND_SEQUENTIAL
  MAXIMUM = 255
  MEAN = 135.866
  MINIMUM = 1
  STANDARD_DEVIATION = 34.8068
END_OBJECT = IMAGE
/* MAP OBJECT DEFINITIONS */
OBJECT = IMAGE_MAP_PROJECTION
  ^DATA_SET_MAP_PROJECTION_CATALOG= "DSMAP.CAT"
  A_AXIS_RADIUS = 3396.0
  B_AXIS_RADIUS = 3396.0
  C_AXIS_RADIUS = 3396.0
  CENTER_LATITUDE = 0.0
  CENTER_LONGITUDE = 245.0
  COORDINATE_SYSTEM_NAME = PLANETOGRAPHIC
  COORDINATE_SYSTEM_TYPE = "BODY-FIXED ROTATING"
  EASTERNMOST_LONGITUDE = 247.411
  FIRST_STANDARD_PARALLEL = "N/A"
  LINE_FIRST_PIXEL = 1
  LINE_LAST_PIXEL = 17851
  LINE_PROJECTION_OFFSET = -152585.75
  MAP_PROJECTION_ROTATION = 0.0
  MAP_PROJECTION_TYPE = SINUSOIDAL
  MAP_RESOLUTION = 2370.85521546667
  MAP_SCALE = 0.025
  MAXIMUM_LATITUDE = -66.4143
  MINIMUM_LATITUDE = -71.8356
  POSITIVE_LONGITUDE_DIRECTION = EAST
  REFERENCE_LATITUDE = "N/A"
  REFERENCE_LONGITUDE = "N/A"
  SAMPLE_FIRST_PIXEL = 1
  SAMPLE_LAST_PIXEL = 5004
  SAMPLE_PROJECTION_OFFSET = 2165.75
  SECOND_STANDARD_PARALLEL = "N/A"
  WESTERNMOST_LONGITUDE = 242.084
END_OBJECT = IMAGE_MAP_PROJECTION
END
