PDS_VERSION_ID = PDS3
/* FILE DATA ELEMENTS */
RECORD_TYPE = UNDEFINED
/* POINTERS TO DATA OBJECTS */
^IMAGE = ("HL219_0000_BL4.TIF")
/* IDENTIFICATION DATA ELEMENTS */
DATA_SET_ID = "MEX-M-HRSC-4-REFDR-MAPPROJECT-EXT7-V4.0"
DATA_SET_NAME = "MARS EXPRESS HRSC MAP PROJECTED REFDR EXTENSION7 V4.0"
DETECTOR_ID = MEX_HRSC_BLUE
EVENT_TYPE = "MARS-REGIONAL-MAPPING-Te-Im-Gl"
INSTRUMENT_HOST_ID = MEX
INSTRUMENT_HOST_NAME = "MARS EXPRESS"
INSTRUMENT_ID = HRSC
INSTRUMENT_NAME = "HIGH RESOLUTION STEREO CAMERA"
MISSION_NAME = "MARS EXPRESS"
MISSION_PHASE_NAME = ME_Phase_43
PROCESSING_LEVEL_ID = 4
PRODUCT_CREATION_TIME = 2023-01-29T17:38:44.000Z
PRODUCT_ID = "HL219_0000_BL4.TIF"
RELEASE_ID = 0005
REVISION_ID = 0000
/* QUALITY DATA ELEMENTS */
DATA_QUALITY_ID = 1
DATA_QUALITY_DESC = "Data calculated based on original SPICE kernels"
/* TIME DATA ELEMENTS */
SPACECRAFT_CLOCK_START_COUNT = "1/0550778141.24911"
SPACECRAFT_CLOCK_STOP_COUNT = "1/0550778541.08913"
START_TIME = 2020-10-14T17:56:39.549Z
STOP_TIME = 2020-10-14T18:01:58.220Z
/* ORBITAL DATA ELEMENTS */
ASCENDING_NODE_LONGITUDE = 177.29
MAXIMUM_RESOLUTION = 0.0533
FOOTPRINT_POINT_LATITUDE = (-71.0475,-70.9557,-70.8681,-70.8661, -70.8381,-69.7592,-69.039,-68.667, -68.2946,-67.7359,-67.1769,-66.8042, -66.4316,-66.059,-65.6863,-65.3137, -64.9414,-64.5694,-64.1975,-63.8263, -63.2679,-62.8948,-62.5231,-61.7807, -61.0395,-60.6156,-60.1738,-59.7325, -59.2923,-58.6326,-58.1931,-57.7545, -57.3165,-56.6594,-56.0059,-55.5699, -55.1348,-54.693,-54.2476,-53.802, -53.1194,-52.664,-52.1981,-51.7331, -51.2622,-50.7879,-50.5506,-50.4907, -50.5265,-50.556,-50.5745,-50.575, -50.5758,-51.2908,-51.7637,-52.2297, -52.9267,-53.3828,-53.8399,-54.2852, -54.7331,-55.1796,-55.8345,-56.2706, -56.7097,-57.3692,-57.8088,-58.2488, -58.6898,-59.1319,-59.5738,-60.0165, -60.4597,-61.116,-61.4884,-61.8611, -62.2341,-62.607,-62.9804,-63.3542, -63.7283,-64.1023,-64.4767,-64.8513, -65.226,-65.6008,-65.9759,-66.351, -66.7263,-67.1016,-67.4772,-67.8528, -68.2284,-68.6039,-68.9796,-69.7138, -70.2595,-70.8043,-70.986,-71.0475)
FOOTPRINT_POINT_LONGITUDE = (293.399,291.558,290.084,290.052, 289.914,290.498,290.849,291.019,291.183 ,291.417,291.637,291.777,291.912, 292.041,292.166,292.285,292.401,292.514 ,292.623,292.73,292.876,292.965,293.055 ,293.227,293.389,293.476,293.562, 293.645,293.727,293.842,293.914,293.984 ,294.051,294.143,294.236,294.292, 294.346,294.399,294.45,294.495,294.564, 294.605,294.644,294.683,294.723,294.759 ,294.778,294.782,295.661,296.513, 297.219,297.242,297.25,297.193,297.155, 297.115,297.051,297.009,296.966,296.924 ,296.877,296.828,296.758,296.711, 296.659,296.578,296.523,296.467,296.408 ,296.346,296.283,296.217,296.149, 296.044,295.982,295.917,295.851,295.783 ,295.713,295.64,295.565,295.488,295.408 ,295.325,295.239,295.151,295.059, 294.965,294.867,294.765,294.66,294.55, 294.437,294.32,294.197,293.945,293.743, 293.531,293.457,293.399)
ORBIT_NUMBER = 21219
ORBITAL_ECCENTRICITY = 0.576
ORBITAL_INCLINATION = 86.99
ORBITAL_SEMIMAJOR_AXIS = 8757.24
PERIAPSIS_ALTITUDE = 333.36
PERIAPSIS_ARGUMENT_ANGLE = 284.61
PERIAPSIS_TIME = 2020-10-14T17:55:42.000Z
SPACECRAFT_ORIENTATION = (0.0,1.0,0.0)
^MEX_ORIENTATION_DESC = "MEX_ORIENTATION_DESC.TXT"
SPACECRAFT_POINTING_MODE = ACROSSTRACK
^MEX_POINTING_DESC = "MEX_POINTING_DESC.TXT"
RIGHT_ASCENSION = -1e+32
DECLINATION = -1e+32
OFFSET_ANGLE = 0.35
SPACECRAFT_SOLAR_DISTANCE = 2.11985e+08
TARGET_NAME = MARS
/* CAMERA DATA ELEMENTS */
DETECTOR_TEMPERATURE = 18.1666
FOCAL_PLANE_TEMPERATURE = 7.9716
INST_CMPRS_NAME = "DISCRETE COSINE TRANSFORMATION (DCT)"
INST_CMPRS_RATIO = 6.57925
INST_CMPRS_QUALITY = 0
INST_CMPRS_QUANTZ_TBL_ID = 0
INSTRUMENT_TEMPERATURE = 11.0301
LENS_TEMPERATURE = 8.7872
MACROPIXEL_SIZE = 4
MISSING_FRAMES = 0
PIXEL_SUBSAMPLING_FLAG = N
SIGNAL_CHAIN_ID = 2
/* RADIOMETRIC DATA ELEMENTS */
BANDWIDTH = 76.0
CENTER_FILTER_WAVELENGTH = 444.0
RADIANCE_OFFSET = 0.736633
RADIANCE_SCALING_FACTOR = 0.00143137
REFLECTANCE_SCALING_FACTOR = 6.60873e-05
MEX:REFLECTANCE_OFFSET = 0.034011
/* IMAGE OBJECT DEFINITIONS */
OBJECT = IMAGE
  INTERCHANGE_FORMAT = BINARY
  LINES = 24352
  LINE_SAMPLES = 3694
  SAMPLE_TYPE = UNSIGNED_INTEGER
  SAMPLE_BITS = 8
  BANDS = 1
  BAND_STORAGE_TYPE = BAND_SEQUENTIAL
  MAXIMUM = 255
  MEAN = 119.469
  MINIMUM = 1
  STANDARD_DEVIATION = 40.3572
END_OBJECT = IMAGE
/* MAP OBJECT DEFINITIONS */
OBJECT = IMAGE_MAP_PROJECTION
  ^DATA_SET_MAP_PROJECTION_CATALOG= "DSMAP.CAT"
  A_AXIS_RADIUS = 3396.0
  B_AXIS_RADIUS = 3396.0
  C_AXIS_RADIUS = 3396.0
  CENTER_LATITUDE = 0.0
  CENTER_LONGITUDE = 295.0
  COORDINATE_SYSTEM_NAME = PLANETOGRAPHIC
  COORDINATE_SYSTEM_TYPE = "BODY-FIXED ROTATING"
  EASTERNMOST_LONGITUDE = 297.25
  FIRST_STANDARD_PARALLEL = "N/A"
  LINE_FIRST_PIXEL = 1
  LINE_LAST_PIXEL = 24352
  LINE_PROJECTION_OFFSET = -59845.125
  MAP_PROJECTION_ROTATION = 0.0
  MAP_PROJECTION_TYPE = SINUSOIDAL
  MAP_RESOLUTION = 1185.42760773333
  MAP_SCALE = 0.05
  MAXIMUM_LATITUDE = -50.4907
  MINIMUM_LATITUDE = -71.0475
  POSITIVE_LONGITUDE_DIRECTION = EAST
  REFERENCE_LATITUDE = "N/A"
  REFERENCE_LONGITUDE = "N/A"
  SAMPLE_FIRST_PIXEL = 1
  SAMPLE_LAST_PIXEL = 3694
  SAMPLE_PROJECTION_OFFSET = 1988.625
  SECOND_STANDARD_PARALLEL = "N/A"
  WESTERNMOST_LONGITUDE = 289.914
END_OBJECT = IMAGE_MAP_PROJECTION
END
