PDS_VERSION_ID = PDS3
/* FILE DATA ELEMENTS */
RECORD_TYPE = UNDEFINED
/* POINTERS TO DATA OBJECTS */
^IMAGE = ("HL204_0000_RE4.TIF")
/* IDENTIFICATION DATA ELEMENTS */
DATA_SET_ID = "MEX-M-HRSC-4-REFDR-MAPPROJECT-EXT7-V4.0"
DATA_SET_NAME = "MARS EXPRESS HRSC MAP PROJECTED REFDR EXTENSION7 V4.0"
DETECTOR_ID = MEX_HRSC_RED
EVENT_TYPE = "MARS-REGIONAL-MAPPING-Vo-Te-Pf"
INSTRUMENT_HOST_ID = MEX
INSTRUMENT_HOST_NAME = "MARS EXPRESS"
INSTRUMENT_ID = HRSC
INSTRUMENT_NAME = "HIGH RESOLUTION STEREO CAMERA"
MISSION_NAME = "MARS EXPRESS"
MISSION_PHASE_NAME = ME_Phase_43
PROCESSING_LEVEL_ID = 4
PRODUCT_CREATION_TIME = 2023-01-29T17:38:44.000Z
PRODUCT_ID = "HL204_0000_RE4.TIF"
RELEASE_ID = 0005
REVISION_ID = 0000
/* QUALITY DATA ELEMENTS */
DATA_QUALITY_ID = 1
DATA_QUALITY_DESC = "Data calculated based on original SPICE kernels"
/* TIME DATA ELEMENTS */
SPACECRAFT_CLOCK_START_COUNT = "1/0550401067.25705"
SPACECRAFT_CLOCK_STOP_COUNT = "1/0550401283.56282"
START_TIME = 2020-10-10T09:11:45.741Z
STOP_TIME = 2020-10-10T09:14:09.375Z
/* ORBITAL DATA ELEMENTS */
ASCENDING_NODE_LONGITUDE = 177.56
MAXIMUM_RESOLUTION = 0.0559
FOOTPRINT_POINT_LATITUDE = (-65.9641,-65.918,-65.8664,-65.7899, -65.7879,-65.7075,-65.3464,-65.1617, -64.9766,-64.7913,-64.606,-64.3279, -64.1423,-63.957,-63.7708,-63.5849, -63.3998,-63.1227,-62.9374,-62.7525, -62.5673,-62.3832,-62.199,-62.0132, -61.8261,-61.6397,-61.4517,-61.1729, -60.987,-60.8011,-60.5223,-60.2444, -59.9653,-59.779,-59.5933,-59.3143, -59.0357,-58.8499,-58.5709,-58.2019, -58.0162,-57.8309,-57.6445,-57.365, -57.1793,-56.8625,-56.6403,-56.4206, -56.3095,-56.291,-56.3165,-56.3503, -56.3942,-56.4246,-56.4256,-56.427, -56.7611,-56.9836,-57.2056,-57.3966, -57.5836,-57.7703,-58.0473,-58.2327, -58.4208,-58.6084,-58.7956,-59.0742, -59.2606,-59.4474,-59.6346,-59.8222, -60.009,-60.1956,-60.3826,-60.6625, -60.849,-61.2205,-61.4094,-61.5956, -61.7821,-62.0622,-62.3422,-62.5291, -62.7153,-62.9955,-63.1824,-63.369, -63.5557,-63.7426,-63.9292,-64.1161, -64.3959,-64.5827,-64.863,-65.1428, -65.4214,-65.7889,-65.8792,-65.9641)
FOOTPRINT_POINT_LONGITUDE = (26.6009,25.7918,24.9754,23.8924, 23.8664,23.7692,23.8933,23.9556,24.0163 ,24.0759,24.1345,24.2203,24.2762, 24.3315,24.3849,24.4378,24.4906,24.5689 ,24.6194,24.6695,24.7185,24.7679, 24.8163,24.8624,24.9062,24.9501,24.9917 ,25.0559,25.0979,25.1392,25.1998,25.26, 25.3174,25.3548,25.392,25.4463,25.4997, 25.5344,25.5852,25.6539,25.6862,25.7183 ,25.7489,25.7939,25.8238,25.8726, 25.9061,25.9412,25.9574,25.9602,26.3578 ,26.8875,27.6531,28.2813,28.3028, 28.3099,28.269,28.2412,28.213,28.1884, 28.1639,28.1392,28.1021,28.0769,28.0506 ,28.024,27.9972,27.9569,27.9293,27.9013 ,27.8727,27.8437,27.8144,27.7848, 27.7546,27.7087,27.6776,27.6143,27.5811 ,27.5481,27.5146,27.4632,27.4107,27.375 ,27.3389,27.2834,27.2457,27.2075, 27.1686,27.1291,27.089,27.0482,26.9859, 26.9434,26.8784,26.8119,26.7441,26.652, 26.6289,26.6009)
ORBIT_NUMBER = 21204
ORBITAL_ECCENTRICITY = 0.576
ORBITAL_INCLINATION = 86.99
ORBITAL_SEMIMAJOR_AXIS = 8760.88
PERIAPSIS_ALTITUDE = 333.09
PERIAPSIS_ARGUMENT_ANGLE = 287.12
PERIAPSIS_TIME = 2020-10-10T09:10:27.000Z
SPACECRAFT_ORIENTATION = (0.0,1.0,0.0)
^MEX_ORIENTATION_DESC = "MEX_ORIENTATION_DESC.TXT"
SPACECRAFT_POINTING_MODE = ACROSSTRACK
^MEX_POINTING_DESC = "MEX_POINTING_DESC.TXT"
RIGHT_ASCENSION = -1e+32
DECLINATION = -1e+32
OFFSET_ANGLE = 0.5
SPACECRAFT_SOLAR_DISTANCE = 2.11395e+08
TARGET_NAME = MARS
/* CAMERA DATA ELEMENTS */
DETECTOR_TEMPERATURE = 18.3705
FOCAL_PLANE_TEMPERATURE = 8.1755
INST_CMPRS_NAME = "DISCRETE COSINE TRANSFORMATION (DCT)"
INST_CMPRS_RATIO = 13.7541
INST_CMPRS_QUALITY = 0
INST_CMPRS_QUANTZ_TBL_ID = 0
INSTRUMENT_TEMPERATURE = 11.0301
LENS_TEMPERATURE = 8.7872
MACROPIXEL_SIZE = 4
MISSING_FRAMES = 0
PIXEL_SUBSAMPLING_FLAG = N
SIGNAL_CHAIN_ID = 2
/* RADIOMETRIC DATA ELEMENTS */
BANDWIDTH = 48.0
CENTER_FILTER_WAVELENGTH = 748.0
RADIANCE_OFFSET = 1.15368
RADIANCE_SCALING_FACTOR = 0.00558876
REFLECTANCE_SCALING_FACTOR = 0.00056994
MEX:REFLECTANCE_OFFSET = 0.117652
/* IMAGE OBJECT DEFINITIONS */
OBJECT = IMAGE
  INTERCHANGE_FORMAT = BINARY
  LINES = 11340
  LINE_SAMPLES = 2637
  SAMPLE_TYPE = UNSIGNED_INTEGER
  SAMPLE_BITS = 8
  BANDS = 1
  BAND_STORAGE_TYPE = BAND_SEQUENTIAL
  MAXIMUM = 255
  MEAN = 143.653
  MINIMUM = 1
  STANDARD_DEVIATION = 31.1571
END_OBJECT = IMAGE
/* MAP OBJECT DEFINITIONS */
OBJECT = IMAGE_MAP_PROJECTION
  ^DATA_SET_MAP_PROJECTION_CATALOG= "DSMAP.CAT"
  A_AXIS_RADIUS = 3396.0
  B_AXIS_RADIUS = 3396.0
  C_AXIS_RADIUS = 3396.0
  CENTER_LATITUDE = 0.0
  CENTER_LONGITUDE = 26.0
  COORDINATE_SYSTEM_NAME = PLANETOGRAPHIC
  COORDINATE_SYSTEM_TYPE = "BODY-FIXED ROTATING"
  EASTERNMOST_LONGITUDE = 28.3099
  FIRST_STANDARD_PARALLEL = "N/A"
  LINE_FIRST_PIXEL = 1
  LINE_LAST_PIXEL = 11340
  LINE_PROJECTION_OFFSET = -66733.375
  MAP_PROJECTION_ROTATION = 0.0
  MAP_PROJECTION_TYPE = SINUSOIDAL
  MAP_RESOLUTION = 1185.42760773333
  MAP_SCALE = 0.05
  MAXIMUM_LATITUDE = -56.291
  MINIMUM_LATITUDE = -65.9641
  POSITIVE_LONGITUDE_DIRECTION = EAST
  REFERENCE_LATITUDE = "N/A"
  REFERENCE_LONGITUDE = "N/A"
  SAMPLE_FIRST_PIXEL = 1
  SAMPLE_LAST_PIXEL = 2637
  SAMPLE_PROJECTION_OFFSET = 1095.625
  SECOND_STANDARD_PARALLEL = "N/A"
  WESTERNMOST_LONGITUDE = 23.7692
END_OBJECT = IMAGE_MAP_PROJECTION
END
