PDS_VERSION_ID = PDS3
/* FILE DATA ELEMENTS */
RECORD_TYPE = UNDEFINED
/* POINTERS TO DATA OBJECTS */
^IMAGE = ("HL204_0000_BL4.TIF")
/* IDENTIFICATION DATA ELEMENTS */
DATA_SET_ID = "MEX-M-HRSC-4-REFDR-MAPPROJECT-EXT7-V4.0"
DATA_SET_NAME = "MARS EXPRESS HRSC MAP PROJECTED REFDR EXTENSION7 V4.0"
DETECTOR_ID = MEX_HRSC_BLUE
EVENT_TYPE = "MARS-REGIONAL-MAPPING-Vo-Te-Pf"
INSTRUMENT_HOST_ID = MEX
INSTRUMENT_HOST_NAME = "MARS EXPRESS"
INSTRUMENT_ID = HRSC
INSTRUMENT_NAME = "HIGH RESOLUTION STEREO CAMERA"
MISSION_NAME = "MARS EXPRESS"
MISSION_PHASE_NAME = ME_Phase_43
PROCESSING_LEVEL_ID = 4
PRODUCT_CREATION_TIME = 2023-01-29T17:38:44.000Z
PRODUCT_ID = "HL204_0000_BL4.TIF"
RELEASE_ID = 0005
REVISION_ID = 0000
/* QUALITY DATA ELEMENTS */
DATA_QUALITY_ID = 1
DATA_QUALITY_DESC = "Data calculated based on original SPICE kernels"
/* TIME DATA ELEMENTS */
SPACECRAFT_CLOCK_START_COUNT = "1/0550401067.25705"
SPACECRAFT_CLOCK_STOP_COUNT = "1/0550401283.56282"
START_TIME = 2020-10-10T09:12:05.713Z
STOP_TIME = 2020-10-10T09:14:31.856Z
/* ORBITAL DATA ELEMENTS */
ASCENDING_NODE_LONGITUDE = 177.56
MAXIMUM_RESOLUTION = 0.0539
FOOTPRINT_POINT_LATITUDE = (-65.8815,-65.8434,-65.8005,-65.7363, -65.7347,-65.7107,-65.5292,-65.3476, -65.1662,-64.9847,-64.8031,-64.6216, -64.4401,-64.2584,-64.0769,-63.8955, -63.7137,-63.5323,-63.351,-63.0792, -62.8073,-62.626,-62.3546,-62.1737, -61.9018,-61.7205,-61.5389,-61.3575, -61.1765,-60.9955,-60.8145,-60.4527, -60.001,-59.6396,-59.2786,-58.9178, -58.5573,-58.2435,-57.9213,-57.5992, -57.3844,-57.17,-56.9556,-56.6338, -56.4204,-56.3134,-56.2912,-56.3191, -56.3375,-56.3537,-56.3763,-56.3963, -56.397,-56.3983,-56.6129,-56.8279, -57.0428,-57.258,-57.4735,-57.6889, -57.9046,-58.1193,-58.3353,-58.5515, -58.7455,-59.1071,-59.4697,-59.6512, -59.8327,-60.0141,-60.2864,-60.4681, -60.6497,-60.8314,-61.1946,-61.3771, -61.5589,-61.7409,-61.9229,-62.105, -62.2872,-62.4695,-62.6516,-62.8339, -63.0164,-63.29,-63.4725,-63.655, -63.8375,-64.1115,-64.2941,-64.4768, -64.7509,-64.9336,-65.1164,-65.3904, -65.5732,-65.756,-65.8474,-65.8815)
FOOTPRINT_POINT_LONGITUDE = (26.632,25.8214,25.003,23.9168,23.8908, 23.7752,23.8377,23.899,23.9598,24.019, 24.077,24.1341,24.1904,24.2448,24.2988, 24.3526,24.4033,24.4549,24.5061,24.5819 ,24.655,24.7023,24.7741,24.8208,24.8869 ,24.9298,24.9701,25.011,25.0522,25.0929 ,25.1327,25.2104,25.305,25.3768,25.4468 ,25.5144,25.5798,25.6379,25.6933, 25.7466,25.7807,25.8149,25.848,25.8953, 25.9294,25.9451,25.9482,26.4878,26.8693 ,27.2265,27.7595,28.3097,28.3316, 28.3388,28.3125,28.2856,28.2584,28.2306 ,28.2023,28.1737,28.1445,28.1156, 28.0853,28.0545,28.0265,27.9737,27.919, 27.8909,27.8626,27.8339,27.79,27.7603, 27.7302,27.6995,27.6372,27.6049,27.5726 ,27.5397,27.5062,27.4723,27.4378, 27.4028,27.3674,27.3314,27.2947,27.2388 ,27.2008,27.1621,27.1229,27.0628,27.022 ,26.9805,26.917,26.8739,26.83,26.763, 26.7174,26.6709,26.6474,26.632)
ORBIT_NUMBER = 21204
ORBITAL_ECCENTRICITY = 0.576
ORBITAL_INCLINATION = 86.99
ORBITAL_SEMIMAJOR_AXIS = 8760.88
PERIAPSIS_ALTITUDE = 333.09
PERIAPSIS_ARGUMENT_ANGLE = 287.12
PERIAPSIS_TIME = 2020-10-10T09:10:27.000Z
SPACECRAFT_ORIENTATION = (0.0,1.0,0.0)
^MEX_ORIENTATION_DESC = "MEX_ORIENTATION_DESC.TXT"
SPACECRAFT_POINTING_MODE = ACROSSTRACK
^MEX_POINTING_DESC = "MEX_POINTING_DESC.TXT"
RIGHT_ASCENSION = -1e+32
DECLINATION = -1e+32
OFFSET_ANGLE = 0.5
SPACECRAFT_SOLAR_DISTANCE = 2.11395e+08
TARGET_NAME = MARS
/* CAMERA DATA ELEMENTS */
DETECTOR_TEMPERATURE = 17.9627
FOCAL_PLANE_TEMPERATURE = 8.1755
INST_CMPRS_NAME = "DISCRETE COSINE TRANSFORMATION (DCT)"
INST_CMPRS_RATIO = 5.96483
INST_CMPRS_QUALITY = 0
INST_CMPRS_QUANTZ_TBL_ID = 0
INSTRUMENT_TEMPERATURE = 11.0301
LENS_TEMPERATURE = 8.7872
MACROPIXEL_SIZE = 4
MISSING_FRAMES = 0
PIXEL_SUBSAMPLING_FLAG = N
SIGNAL_CHAIN_ID = 2
/* RADIOMETRIC DATA ELEMENTS */
BANDWIDTH = 76.0
CENTER_FILTER_WAVELENGTH = 444.0
RADIANCE_OFFSET = 0.763178
RADIANCE_SCALING_FACTOR = 0.00109304
REFLECTANCE_SCALING_FACTOR = 5.01859e-05
MEX:REFLECTANCE_OFFSET = 0.0350405
/* IMAGE OBJECT DEFINITIONS */
OBJECT = IMAGE
  INTERCHANGE_FORMAT = BINARY
  LINES = 11340
  LINE_SAMPLES = 2637
  SAMPLE_TYPE = UNSIGNED_INTEGER
  SAMPLE_BITS = 8
  BANDS = 1
  BAND_STORAGE_TYPE = BAND_SEQUENTIAL
  MAXIMUM = 255
  MEAN = 134.987
  MINIMUM = 1
  STANDARD_DEVIATION = 31.109
END_OBJECT = IMAGE
/* MAP OBJECT DEFINITIONS */
OBJECT = IMAGE_MAP_PROJECTION
  ^DATA_SET_MAP_PROJECTION_CATALOG= "DSMAP.CAT"
  A_AXIS_RADIUS = 3396.0
  B_AXIS_RADIUS = 3396.0
  C_AXIS_RADIUS = 3396.0
  CENTER_LATITUDE = 0.0
  CENTER_LONGITUDE = 26.0
  COORDINATE_SYSTEM_NAME = PLANETOGRAPHIC
  COORDINATE_SYSTEM_TYPE = "BODY-FIXED ROTATING"
  EASTERNMOST_LONGITUDE = 28.3388
  FIRST_STANDARD_PARALLEL = "N/A"
  LINE_FIRST_PIXEL = 1
  LINE_LAST_PIXEL = 11340
  LINE_PROJECTION_OFFSET = -66733.375
  MAP_PROJECTION_ROTATION = 0.0
  MAP_PROJECTION_TYPE = SINUSOIDAL
  MAP_RESOLUTION = 1185.42760773333
  MAP_SCALE = 0.05
  MAXIMUM_LATITUDE = -56.2912
  MINIMUM_LATITUDE = -65.8815
  POSITIVE_LONGITUDE_DIRECTION = EAST
  REFERENCE_LATITUDE = "N/A"
  REFERENCE_LONGITUDE = "N/A"
  SAMPLE_FIRST_PIXEL = 1
  SAMPLE_LAST_PIXEL = 2637
  SAMPLE_PROJECTION_OFFSET = 1095.625
  SECOND_STANDARD_PARALLEL = "N/A"
  WESTERNMOST_LONGITUDE = 23.7752
END_OBJECT = IMAGE_MAP_PROJECTION
END
