PDS_VERSION_ID = PDS3
/* FILE DATA ELEMENTS */
RECORD_TYPE = UNDEFINED
/* POINTERS TO DATA OBJECTS */
^IMAGE = ("HL193_0000_ND4.TIF")
/* IDENTIFICATION DATA ELEMENTS */
DATA_SET_ID = "MEX-M-HRSC-4-REFDR-MAPPROJECT-EXT7-V4.0"
DATA_SET_NAME = "MARS EXPRESS HRSC MAP PROJECTED REFDR EXTENSION7 V4.0"
DETECTOR_ID = MEX_HRSC_NADIR
EVENT_TYPE = "MARS-REGIONAL-MAPPING-Vo-Pf"
INSTRUMENT_HOST_ID = MEX
INSTRUMENT_HOST_NAME = "MARS EXPRESS"
INSTRUMENT_ID = HRSC
INSTRUMENT_NAME = "HIGH RESOLUTION STEREO CAMERA"
MISSION_NAME = "MARS EXPRESS"
MISSION_PHASE_NAME = ME_Phase_43
PROCESSING_LEVEL_ID = 4
PRODUCT_CREATION_TIME = 2023-01-29T17:38:44.000Z
PRODUCT_ID = "HL193_0000_ND4.TIF"
RELEASE_ID = 0005
REVISION_ID = 0000
/* QUALITY DATA ELEMENTS */
DATA_QUALITY_ID = 1
DATA_QUALITY_DESC = "Data calculated based on original SPICE kernels"
/* TIME DATA ELEMENTS */
SPACECRAFT_CLOCK_START_COUNT = "1/0550124534.23982"
SPACECRAFT_CLOCK_STOP_COUNT = "1/0550124761.63061"
START_TIME = 2020-10-07T04:23:17.726Z
STOP_TIME = 2020-10-07T04:25:55.713Z
/* ORBITAL DATA ELEMENTS */
ASCENDING_NODE_LONGITUDE = 177.75
MAXIMUM_RESOLUTION = 0.0135 <m/pixel>
FOOTPRINT_POINT_LATITUDE = (-63.8445,-63.8106,-63.7818,-63.7595, -63.7585,-63.7554,-63.463,-63.2682, -63.0734,-62.8787,-62.684,-62.4893, -62.2947,-62.1001,-61.9057,-61.7112, -61.5134,-61.3191,-61.1248,-60.9306, -60.7365,-60.5424,-60.3484,-60.1545, -59.9606,-59.7668,-59.3795,-58.9925, -58.6058,-58.2195,-57.8335,-57.448, -57.0628,-56.678,-56.4519,-56.2227, -55.9935,-55.7646,-55.5358,-55.3071, -55.0787,-54.8504,-54.6162,-54.3883, -54.1605,-53.9329,-53.7055,-53.5919, -53.5753,-53.5895,-53.5991,-53.6125, -53.62,-53.6295,-53.6299,-53.6303, -53.8582,-54.0863,-54.3146,-54.543, -54.8921,-55.1211,-55.3502,-55.5794, -55.8089,-56.0385,-56.2683,-56.4982, -56.7276,-57.1135,-57.4999,-57.8867, -58.2738,-58.6614,-59.0494,-59.2435, -59.4377,-59.632,-59.8264,-60.0208, -60.2154,-60.41,-60.6047,-60.7995, -60.9944,-61.1893,-61.3843,-61.5794, -61.8757,-62.0709,-62.2663,-62.4617, -62.6571,-62.8526,-63.0482,-63.2439, -63.4395,-63.7332,-63.8311,-63.8445)
FOOTPRINT_POINT_LONGITUDE = (72.5952,71.4134,70.6046,70.0538, 70.0289,70.0004,70.0602,70.0991,70.1372 ,70.1745,70.2113,70.2472,70.2823, 70.3168,70.351,70.3841,70.4173,70.4493, 70.4803,70.5109,70.541,70.5703,70.5992, 70.6275,70.6552,70.6823,70.735,70.7856, 70.8343,70.881,70.9259,70.969,71.0102, 71.0498,71.0724,71.0948,71.1164,71.1378 ,71.1583,71.1783,71.1981,71.2173, 71.2364,71.2546,71.2721,71.2894,71.3062 ,71.3144,71.3157,71.7692,72.1111, 72.6611,73.0309,73.6123,73.6357,73.6471 ,73.6313,73.6155,73.5986,73.5875, 73.5625,73.5427,73.5275,73.5112,73.4942 ,73.4778,73.4605,73.4435,73.4253, 73.3946,73.3639,73.3309,73.2978,73.2642 ,73.2291,73.2109,73.1927,73.1743, 73.1555,73.1366,73.1171,73.0975,73.078, 73.0574,73.0369,73.0152,72.9949,72.9742 ,72.942,72.9198,72.8968,72.8734,72.8501 ,72.8262,72.8018,72.7772,72.7518, 72.7128,72.7003,72.5952)
ORBIT_NUMBER = 21193
ORBITAL_ECCENTRICITY = 0.577
ORBITAL_INCLINATION = 87.0
ORBITAL_SEMIMAJOR_AXIS = 8762.58
PERIAPSIS_ALTITUDE = 331.95
PERIAPSIS_ARGUMENT_ANGLE = 288.99
PERIAPSIS_TIME = 2020-10-07T04:21:31.000Z
SPACECRAFT_ORIENTATION = (0.0,1.0,0.0)
^MEX_ORIENTATION_DESC = "MEX_ORIENTATION_DESC.TXT"
SPACECRAFT_POINTING_MODE = ACROSSTRACK
^MEX_POINTING_DESC = "MEX_POINTING_DESC.TXT"
RIGHT_ASCENSION = -1e+32
DECLINATION = -1e+32
OFFSET_ANGLE = -0.4
SPACECRAFT_SOLAR_DISTANCE = 2.1098e+08
TARGET_NAME = MARS
/* CAMERA DATA ELEMENTS */
DETECTOR_TEMPERATURE = 18.3705 <degC>
FOCAL_PLANE_TEMPERATURE = 8.5833 <degC>
INST_CMPRS_NAME = "DISCRETE COSINE TRANSFORMATION (DCT)"
INST_CMPRS_RATIO = 6.94904
INST_CMPRS_QUALITY = 0
INST_CMPRS_QUANTZ_TBL_ID = 0
INSTRUMENT_TEMPERATURE = 11.234 <degC>
LENS_TEMPERATURE = 8.5833 <degC>
MACROPIXEL_SIZE = 1
MISSING_FRAMES = 5
PIXEL_SUBSAMPLING_FLAG = N
SIGNAL_CHAIN_ID = 0
/* RADIOMETRIC DATA ELEMENTS */
BANDWIDTH = 177.0 <nm>
CENTER_FILTER_WAVELENGTH = 677.5 <nm>
RADIANCE_OFFSET = 6.09182 <W*m**-2*sr**-1>
RADIANCE_SCALING_FACTOR = 0.0162009 <W*m**-2*sr**-1>
REFLECTANCE_SCALING_FACTOR = 0.000383095
MEX:REFLECTANCE_OFFSET = 0.14405
/* IMAGE OBJECT DEFINITIONS */
OBJECT = IMAGE
  INTERCHANGE_FORMAT = BINARY
  LINES = 48698
  LINE_SAMPLES = 8824
  SAMPLE_TYPE = UNSIGNED_INTEGER
  SAMPLE_BITS = 8
  BANDS = 1
  BAND_STORAGE_TYPE = BAND_SEQUENTIAL
  MAXIMUM = 255
  MEAN = 113.248
  MINIMUM = 1
  STANDARD_DEVIATION = 38.9531
END_OBJECT = IMAGE
/* MAP OBJECT DEFINITIONS */
OBJECT = IMAGE_MAP_PROJECTION
  ^DATA_SET_MAP_PROJECTION_CATALOG= "DSMAP.CAT"
  A_AXIS_RADIUS = 3396.0 <km>
  B_AXIS_RADIUS = 3396.0 <km>
  C_AXIS_RADIUS = 3396.0 <km>
  CENTER_LATITUDE = 0.0
  CENTER_LONGITUDE = 72.0
  COORDINATE_SYSTEM_NAME = PLANETOGRAPHIC
  COORDINATE_SYSTEM_TYPE = "BODY-FIXED ROTATING"
  EASTERNMOST_LONGITUDE = 73.64709999999999
  FIRST_STANDARD_PARALLEL = "N/A"
  LINE_FIRST_PIXEL = 1
  LINE_LAST_PIXEL = 48698
  LINE_PROJECTION_OFFSET = -254040.0
  MAP_PROJECTION_ROTATION = 0.0
  MAP_PROJECTION_TYPE = SINUSOIDAL
  MAP_RESOLUTION = 4741.71043093333 <pixel/degree>
  MAP_SCALE = 0.0125 <km/pixel>
  MAXIMUM_LATITUDE = -53.5753
  MINIMUM_LATITUDE = -63.8445
  POSITIVE_LONGITUDE_DIRECTION = EAST
  REFERENCE_LATITUDE = "N/A"
  REFERENCE_LONGITUDE = "N/A"
  SAMPLE_FIRST_PIXEL = 1
  SAMPLE_LAST_PIXEL = 8824
  SAMPLE_PROJECTION_OFFSET = 4193.0
  SECOND_STANDARD_PARALLEL = "N/A"
  WESTERNMOST_LONGITUDE = 70.0004
END_OBJECT = IMAGE_MAP_PROJECTION
END
