PDS_VERSION_ID = PDS3
/* FILE DATA ELEMENTS */
RECORD_TYPE = UNDEFINED
/* POINTERS TO DATA OBJECTS */
^IMAGE = ("HL183_0000_P14.TIF")
/* IDENTIFICATION DATA ELEMENTS */
DATA_SET_ID = "MEX-M-HRSC-4-REFDR-MAPPROJECT-EXT7-V4.0"
DATA_SET_NAME = "MARS EXPRESS HRSC MAP PROJECTED REFDR EXTENSION7 V4.0"
DETECTOR_ID = MEX_HRSC_P1
EVENT_TYPE = "MARS-REGIONAL-MAPPING-Gl-Pf"
INSTRUMENT_HOST_ID = MEX
INSTRUMENT_HOST_NAME = "MARS EXPRESS"
INSTRUMENT_ID = HRSC
INSTRUMENT_NAME = "HIGH RESOLUTION STEREO CAMERA"
MISSION_NAME = "MARS EXPRESS"
MISSION_PHASE_NAME = ME_Phase_43
PROCESSING_LEVEL_ID = 4
PRODUCT_CREATION_TIME = 2023-01-29T17:38:44.000Z
PRODUCT_ID = "HL183_0000_P14.TIF"
RELEASE_ID = 0005
REVISION_ID = 0000
/* QUALITY DATA ELEMENTS */
DATA_QUALITY_ID = 1
DATA_QUALITY_DESC = "Data calculated based on original SPICE kernels"
/* TIME DATA ELEMENTS */
SPACECRAFT_CLOCK_START_COUNT = "1/0549872998.52819"
SPACECRAFT_CLOCK_STOP_COUNT = "1/0549873218.59373"
START_TIME = 2020-10-04T06:31:21.755Z
STOP_TIME = 2020-10-04T06:31:59.941Z
/* ORBITAL DATA ELEMENTS */
ASCENDING_NODE_LONGITUDE = 177.94
MAXIMUM_RESOLUTION = 0.0271
FOOTPRINT_POINT_LATITUDE = (-71.015,-71.0028,-70.9939,-70.986, -70.9753,-70.9641,-70.9541,-70.9379, -70.9258,-70.9132,-70.9004,-70.8872, -70.8737,-70.8651,-70.8633,-70.9165, -70.8189,-70.7457,-70.648,-70.599, -70.5013,-70.4035,-70.3546,-70.2812, -70.1835,-70.0858,-69.988,-69.8902, -69.7923,-69.743,-69.6453,-69.5479, -69.4256,-69.3279,-69.2546,-69.1081, -69.0102,-68.9124,-68.8392,-68.7414, -68.6192,-68.5459,-68.4726,-68.4482, -68.4453,-68.4594,-68.4715,-68.4891, -68.4989,-68.5102,-68.517,-68.5271, -68.5328,-68.5405,-68.5461,-68.5539, -68.5601,-68.5668,-68.578,-68.5788, -68.5796,-68.6532,-68.7535,-68.8032, -68.853,-68.903,-68.9771,-69.0757, -69.1497,-69.2483,-69.347,-69.3964, -69.495,-69.569,-69.6183,-69.6677, -69.717,-69.7663,-69.8156,-69.8896, -69.939,-69.9884,-70.0379,-70.0874, -70.1367,-70.1862,-70.2356,-70.3096, -70.3836,-70.4332,-70.5073,-70.6056, -70.6792,-70.7775,-70.8511,-70.9253, -70.9747,-71.0489,-71.0736,-71.015)
FOOTPRINT_POINT_LONGITUDE = (11.1615,10.8352,10.6072,10.412,10.1519 ,9.8919,9.66466,9.30836,9.04953,8.79121 ,8.53297,8.27473,8.01688,7.85596, 7.82379,7.69909,7.75012,7.78801,7.83814 ,7.86339,7.91277,7.96167,7.9859,8.02209 ,8.06955,8.11657,8.16309,8.20927, 8.25499,8.27826,8.32281,8.3664,8.42118, 8.46429,8.49627,8.55928,8.60108,8.64224 ,8.67278,8.71321,8.76298,8.79264, 8.82203,8.83166,8.83281,9.1043,9.34719, 9.71167,9.92427,10.1673,10.3195,10.5632 ,10.7156,10.929,11.0812,11.2642,11.4169 ,11.6297,11.9354,11.9657,11.9766, 11.9567,11.9321,11.9193,11.9064,11.8937 ,11.8736,11.8464,11.8258,11.7981, 11.7702,11.7561,11.7276,11.7061,11.6917 ,11.6771,11.6625,11.6478,11.633,11.6107 ,11.5958,11.5808,11.5658,11.5508, 11.5354,11.5202,11.5048,11.4815,11.4579 ,11.4423,11.4186,11.3859,11.3612, 11.3279,11.3027,11.2779,11.2611,11.2359 ,11.2274,11.1615)
ORBIT_NUMBER = 21183
ORBITAL_ECCENTRICITY = 0.576
ORBITAL_INCLINATION = 86.99
ORBITAL_SEMIMAJOR_AXIS = 8763.91
PERIAPSIS_ALTITUDE = 332.9
PERIAPSIS_ARGUMENT_ANGLE = 290.66
PERIAPSIS_TIME = 2020-10-04T06:31:32.000Z
SPACECRAFT_ORIENTATION = (0.0,1.0,0.0)
^MEX_ORIENTATION_DESC = "MEX_ORIENTATION_DESC.TXT"
SPACECRAFT_POINTING_MODE = NADIR
^MEX_POINTING_DESC = "MEX_POINTING_DESC.TXT"
RIGHT_ASCENSION = -1e+32
DECLINATION = -1e+32
OFFSET_ANGLE = -1e+32
SPACECRAFT_SOLAR_DISTANCE = 2.10617e+08
TARGET_NAME = MARS
/* CAMERA DATA ELEMENTS */
DETECTOR_TEMPERATURE = 0.0
FOCAL_PLANE_TEMPERATURE = 0.0
INST_CMPRS_NAME = "DISCRETE COSINE TRANSFORMATION (DCT)"
INST_CMPRS_RATIO = 10.2465
INST_CMPRS_QUALITY = 0
INST_CMPRS_QUANTZ_TBL_ID = 0
INSTRUMENT_TEMPERATURE = 0.0
LENS_TEMPERATURE = 0.0
MACROPIXEL_SIZE = 2
MISSING_FRAMES = 0
PIXEL_SUBSAMPLING_FLAG = N
SIGNAL_CHAIN_ID = 3
/* RADIOMETRIC DATA ELEMENTS */
BANDWIDTH = 174.0
CENTER_FILTER_WAVELENGTH = 675.0
RADIANCE_OFFSET = 4.17528
RADIANCE_SCALING_FACTOR = 0.0163736
REFLECTANCE_SCALING_FACTOR = 0.000390677
MEX:REFLECTANCE_OFFSET = 0.0996227
/* IMAGE OBJECT DEFINITIONS */
OBJECT = IMAGE
  INTERCHANGE_FORMAT = BINARY
  LINES = 9282
  LINE_SAMPLES = 3884
  SAMPLE_TYPE = UNSIGNED_INTEGER
  SAMPLE_BITS = 8
  BANDS = 1
  BAND_STORAGE_TYPE = BAND_SEQUENTIAL
  MAXIMUM = 255
  MEAN = 168.124
  MINIMUM = 1
  STANDARD_DEVIATION = 17.3768
END_OBJECT = IMAGE
/* MAP OBJECT DEFINITIONS */
OBJECT = IMAGE_MAP_PROJECTION
  ^DATA_SET_MAP_PROJECTION_CATALOG= "DSMAP.CAT"
  A_AXIS_RADIUS = 3396.0
  B_AXIS_RADIUS = 3396.0
  C_AXIS_RADIUS = 3396.0
  CENTER_LATITUDE = 0.0
  CENTER_LONGITUDE = 10.0
  COORDINATE_SYSTEM_NAME = PLANETOGRAPHIC
  COORDINATE_SYSTEM_TYPE = "BODY-FIXED ROTATING"
  EASTERNMOST_LONGITUDE = 11.9766
  FIRST_STANDARD_PARALLEL = "N/A"
  LINE_FIRST_PIXEL = 1
  LINE_LAST_PIXEL = 9282
  LINE_PROJECTION_OFFSET = -159286.75
  MAP_PROJECTION_ROTATION = 0.0
  MAP_PROJECTION_TYPE = SINUSOIDAL
  MAP_RESOLUTION = 2370.85521546667
  MAP_SCALE = 0.025
  MAXIMUM_LATITUDE = -68.4453
  MINIMUM_LATITUDE = -71.0736
  POSITIVE_LONGITUDE_DIRECTION = EAST
  REFERENCE_LATITUDE = "N/A"
  REFERENCE_LONGITUDE = "N/A"
  SAMPLE_FIRST_PIXEL = 1
  SAMPLE_LAST_PIXEL = 3884
  SAMPLE_PROJECTION_OFFSET = 1797.25
  SECOND_STANDARD_PARALLEL = "N/A"
  WESTERNMOST_LONGITUDE = 7.69909
END_OBJECT = IMAGE_MAP_PROJECTION
END
