PDS_VERSION_ID = PDS3
/* FILE DATA ELEMENTS */
RECORD_TYPE = UNDEFINED
/* POINTERS TO DATA OBJECTS */
^IMAGE = ("HL174_0000_ND4.TIF")
/* IDENTIFICATION DATA ELEMENTS */
DATA_SET_ID = "MEX-M-HRSC-4-REFDR-MAPPROJECT-EXT7-V4.0"
DATA_SET_NAME = "MARS EXPRESS HRSC MAP PROJECTED REFDR EXTENSION7 V4.0"
DETECTOR_ID = MEX_HRSC_NADIR
EVENT_TYPE = "MARS-REGIONAL-MAPPING-Te-Im-Gl"
INSTRUMENT_HOST_ID = MEX
INSTRUMENT_HOST_NAME = "MARS EXPRESS"
INSTRUMENT_ID = HRSC
INSTRUMENT_NAME = "HIGH RESOLUTION STEREO CAMERA"
MISSION_NAME = "MARS EXPRESS"
MISSION_PHASE_NAME = ME_Phase_43
PROCESSING_LEVEL_ID = 4
PRODUCT_CREATION_TIME = 2023-01-29T17:38:44.000Z
PRODUCT_ID = "HL174_0000_ND4.TIF"
RELEASE_ID = 0005
REVISION_ID = 0000
/* QUALITY DATA ELEMENTS */
DATA_QUALITY_ID = 1
DATA_QUALITY_DESC = "Data calculated based on original SPICE kernels"
/* TIME DATA ELEMENTS */
SPACECRAFT_CLOCK_START_COUNT = "1/0549646930.23954"
SPACECRAFT_CLOCK_STOP_COUNT = "1/0549647157.22379"
START_TIME = 2020-10-01T15:43:14.573Z
STOP_TIME = 2020-10-01T15:45:47.567Z
/* ORBITAL DATA ELEMENTS */
ASCENDING_NODE_LONGITUDE = 178.1
MAXIMUM_RESOLUTION = 0.0139
FOOTPRINT_POINT_LATITUDE = (-57.0919,-57.0723,-57.054,-57.0407, -57.0201,-57.0192,-57.0162,-56.8387, -56.6614,-56.3068,-55.9526,-55.5986, -55.2449,-54.8915,-54.5385,-54.0973, -53.7451,-53.3933,-53.19,-52.9803, -52.7706,-52.5611,-52.3518,-52.1426, -51.9335,-51.7246,-51.5159,-51.3072, -51.0988,-50.8904,-50.6823,-50.4743, -50.2664,-50.0588,-49.8512,-49.6438, -49.4366,-49.2296,-49.0227,-48.816, -48.6095,-48.4031,-48.1969,-47.991, -47.7851,-47.5795,-47.3695,-47.2641, -47.2595,-47.2707,-47.2786,-47.2904, -47.2966,-47.3017,-47.3063,-47.3066, -47.307,-47.6233,-47.8295,-48.0359, -48.2424,-48.4491,-48.656,-48.8631, -49.0704,-49.2778,-49.4854,-49.6931, -49.9011,-50.1092,-50.3174,-50.5259, -50.7344,-50.9432,-51.1521,-51.3611, -51.5703,-51.7797,-51.9892,-52.1988, -52.4086,-52.6185,-52.8286,-53.0388, -53.2492,-53.542,-53.8951,-54.2486, -54.6024,-54.9565,-55.311,-55.6658, -56.0209,-56.1986,-56.3764,-56.5542, -56.7321,-56.999,-57.0881,-57.0919)
FOOTPRINT_POINT_LONGITUDE = (212.941,212.234,211.678,211.315, 210.802,210.78,210.735,210.757,210.78, 210.823,210.866,210.906,210.946,210.984 ,211.022,211.061,211.098,211.133, 211.151,211.171,211.189,211.206,211.223 ,211.241,211.257,211.274,211.29,211.306 ,211.322,211.337,211.352,211.366, 211.381,211.395,211.408,211.421,211.434 ,211.447,211.459,211.471,211.482, 211.494,211.505,211.516,211.527,211.537 ,211.547,211.553,211.553,211.928, 212.219,212.718,213.03,213.321,213.634, 213.655,213.665,213.65,213.639,213.629, 213.618,213.608,213.596,213.587,213.575 ,213.565,213.553,213.539,213.526, 213.514,213.502,213.489,213.476,213.463 ,213.449,213.436,213.423,213.409, 213.395,213.381,213.367,213.352,213.337 ,213.321,213.305,213.283,213.258,213.23 ,213.204,213.174,213.143,213.111,213.08 ,213.063,213.047,213.03,213.014,212.988 ,212.98,212.941)
ORBIT_NUMBER = 21174
ORBITAL_ECCENTRICITY = 0.577
ORBITAL_INCLINATION = 87.01
ORBITAL_SEMIMAJOR_AXIS = 8763.8
PERIAPSIS_ALTITUDE = 332.07
PERIAPSIS_ARGUMENT_ANGLE = 292.2
PERIAPSIS_TIME = 2020-10-01T15:40:33.000Z
SPACECRAFT_ORIENTATION = (0.0,1.0,0.0)
^MEX_ORIENTATION_DESC = "MEX_ORIENTATION_DESC.TXT"
SPACECRAFT_POINTING_MODE = NADIR
^MEX_POINTING_DESC = "MEX_POINTING_DESC.TXT"
RIGHT_ASCENSION = -1e+32
DECLINATION = -1e+32
OFFSET_ANGLE = -1e+32
SPACECRAFT_SOLAR_DISTANCE = 2.10302e+08
TARGET_NAME = MARS
/* CAMERA DATA ELEMENTS */
DETECTOR_TEMPERATURE = 18.1666
FOCAL_PLANE_TEMPERATURE = 8.5833
INST_CMPRS_NAME = "DISCRETE COSINE TRANSFORMATION (DCT)"
INST_CMPRS_RATIO = 6.08195
INST_CMPRS_QUALITY = 0
INST_CMPRS_QUANTZ_TBL_ID = 0
INSTRUMENT_TEMPERATURE = 11.4379
LENS_TEMPERATURE = 8.9911
MACROPIXEL_SIZE = 1
MISSING_FRAMES = 0
PIXEL_SUBSAMPLING_FLAG = N
SIGNAL_CHAIN_ID = 0
/* RADIOMETRIC DATA ELEMENTS */
BANDWIDTH = 177.0
CENTER_FILTER_WAVELENGTH = 677.5
RADIANCE_OFFSET = 4.40005
RADIANCE_SCALING_FACTOR = 0.0223166
REFLECTANCE_SCALING_FACTOR = 0.000524325
MEX:REFLECTANCE_OFFSET = 0.103378
/* IMAGE OBJECT DEFINITIONS */
OBJECT = IMAGE
  INTERCHANGE_FORMAT = BINARY
  LINES = 46623
  LINE_SAMPLES = 8623
  SAMPLE_TYPE = UNSIGNED_INTEGER
  SAMPLE_BITS = 8
  BANDS = 1
  BAND_STORAGE_TYPE = BAND_SEQUENTIAL
  MAXIMUM = 255
  MEAN = 132.628
  MINIMUM = 1
  STANDARD_DEVIATION = 35.0563
END_OBJECT = IMAGE
/* MAP OBJECT DEFINITIONS */
OBJECT = IMAGE_MAP_PROJECTION
  ^DATA_SET_MAP_PROJECTION_CATALOG= "DSMAP.CAT"
  A_AXIS_RADIUS = 3396.0
  B_AXIS_RADIUS = 3396.0
  C_AXIS_RADIUS = 3396.0
  CENTER_LATITUDE = 0.0
  CENTER_LONGITUDE = 212.0
  COORDINATE_SYSTEM_NAME = PLANETOGRAPHIC
  COORDINATE_SYSTEM_TYPE = "BODY-FIXED ROTATING"
  EASTERNMOST_LONGITUDE = 213.665
  FIRST_STANDARD_PARALLEL = "N/A"
  LINE_FIRST_PIXEL = 1
  LINE_LAST_PIXEL = 46623
  LINE_PROJECTION_OFFSET = -224092.0
  MAP_PROJECTION_ROTATION = 0.0
  MAP_PROJECTION_TYPE = SINUSOIDAL
  MAP_RESOLUTION = 4741.71043093333
  MAP_SCALE = 0.0125
  MAXIMUM_LATITUDE = -47.2595
  MINIMUM_LATITUDE = -57.0919
  POSITIVE_LONGITUDE_DIRECTION = EAST
  REFERENCE_LATITUDE = "N/A"
  REFERENCE_LONGITUDE = "N/A"
  SAMPLE_FIRST_PIXEL = 1
  SAMPLE_LAST_PIXEL = 8623
  SAMPLE_PROJECTION_OFFSET = 3266.0
  SECOND_STANDARD_PARALLEL = "N/A"
  WESTERNMOST_LONGITUDE = 210.735
END_OBJECT = IMAGE_MAP_PROJECTION
END
