PDS_VERSION_ID = PDS3
/* FILE DATA ELEMENTS */
RECORD_TYPE = UNDEFINED
/* POINTERS TO DATA OBJECTS */
^IMAGE = ("HL168_0000_GR4.TIF")
/* IDENTIFICATION DATA ELEMENTS */
DATA_SET_ID = "MEX-M-HRSC-4-REFDR-MAPPROJECT-EXT7-V4.0"
DATA_SET_NAME = "MARS EXPRESS HRSC MAP PROJECTED REFDR EXTENSION7 V4.0"
DETECTOR_ID = MEX_HRSC_GREEN
EVENT_TYPE = "MARS-REGIONAL-MAPPING-Im-Gl-Pf"
INSTRUMENT_HOST_ID = MEX
INSTRUMENT_HOST_NAME = "MARS EXPRESS"
INSTRUMENT_ID = HRSC
INSTRUMENT_NAME = "HIGH RESOLUTION STEREO CAMERA"
MISSION_NAME = "MARS EXPRESS"
MISSION_PHASE_NAME = ME_Phase_43
PROCESSING_LEVEL_ID = 4
PRODUCT_CREATION_TIME = 2023-01-29T17:38:44.000Z
PRODUCT_ID = "HL168_0000_GR4.TIF"
RELEASE_ID = 0005
REVISION_ID = 0000
/* QUALITY DATA ELEMENTS */
DATA_QUALITY_ID = 1
DATA_QUALITY_DESC = "Data calculated based on original SPICE kernels"
/* TIME DATA ELEMENTS */
SPACECRAFT_CLOCK_START_COUNT = "1/0549496045.24918"
SPACECRAFT_CLOCK_STOP_COUNT = "1/0549496367.47666"
START_TIME = 2020-09-29T21:48:33.998Z
STOP_TIME = 2020-09-29T21:52:41.727Z
/* ORBITAL DATA ELEMENTS */
ASCENDING_NODE_LONGITUDE = 178.2
MAXIMUM_RESOLUTION = 0.0543
FOOTPRINT_POINT_LATITUDE = (-59.1707,-59.1487,-59.0918,-59.0909, -59.1,-58.6709,-58.242,-57.9564, -57.6711,-57.3864,-57.1007,-56.8157, -56.5303,-56.245,-55.9605,-55.6765, -55.2447,-54.9611,-54.6771,-54.3937, -54.1112,-53.6872,-53.264,-52.7005, -52.1999,-51.8649,-51.3622,-51.0285, -50.5282,-50.0284,-49.6949,-49.3635, -49.0321,-48.701,-48.1988,-47.8682, -47.5365,-47.2111,-46.8817,-46.5452, -46.2091,-45.8737,-45.3614,-45.0181, -44.6761,-44.3263,-43.9767,-43.6275, -43.449,-43.4383,-43.4565,-43.4692, -43.4756,-43.4758,-43.4769,-43.831, -44.1812,-44.5313,-45.0502,-45.3942, -45.908,-46.4116,-46.7485,-47.0827, -47.4123,-47.7422,-48.0725,-48.4118, -48.9095,-49.2415,-49.5742,-49.9067, -50.2425,-50.5765,-50.9111,-51.2459, -51.7465,-52.0841,-52.4192,-52.8959, -53.1776,-53.6031,-54.0282,-54.4533, -54.8797,-55.3065,-55.5982,-55.8829, -56.1674,-56.4525,-56.7382,-57.1665, -57.4529,-57.7395,-58.0261,-58.4556, -58.7423,-59.0293,-59.1732,-59.1707)
FOOTPRINT_POINT_LONGITUDE = (105.46,104.736,103.269,103.249,103.196 ,103.264,103.329,103.371,103.411, 103.448,103.489,103.526,103.566,103.604 ,103.639,103.672,103.718,103.749, 103.781,103.812,103.839,103.881,103.92, 103.97,104.014,104.04,104.081,104.105, 104.14,104.174,104.199,104.218,104.237, 104.256,104.28,104.299,104.323,104.328, 104.344,104.358,104.372,104.386,104.406 ,104.419,104.43,104.441,104.452,104.462 ,104.467,104.467,105.257,106.008, 106.562,106.582,106.589,106.575,106.56, 106.543,106.521,106.507,106.483,106.456 ,106.439,106.422,106.406,106.388, 106.371,106.354,106.327,106.308,106.289 ,106.268,106.254,106.233,106.213, 106.191,106.15,106.132,106.105,106.073, 106.05,106.021,105.989,105.953,105.919, 105.884,105.859,105.833,105.805,105.778 ,105.752,105.709,105.682,105.654, 105.625,105.577,105.546,105.513,105.498 ,105.46)
ORBIT_NUMBER = 21168
ORBITAL_ECCENTRICITY = 0.577
ORBITAL_INCLINATION = 87.0
ORBITAL_SEMIMAJOR_AXIS = 8768.46
PERIAPSIS_ALTITUDE = 331.98
PERIAPSIS_ARGUMENT_ANGLE = 293.21
PERIAPSIS_TIME = 2020-09-29T21:46:35.000Z
SPACECRAFT_ORIENTATION = (0.0,1.0,0.0)
^MEX_ORIENTATION_DESC = "MEX_ORIENTATION_DESC.TXT"
SPACECRAFT_POINTING_MODE = NADIR
^MEX_POINTING_DESC = "MEX_POINTING_DESC.TXT"
RIGHT_ASCENSION = -1e+32
DECLINATION = -1e+32
OFFSET_ANGLE = -1e+32
SPACECRAFT_SOLAR_DISTANCE = 2.10098e+08
TARGET_NAME = MARS
/* CAMERA DATA ELEMENTS */
DETECTOR_TEMPERATURE = 18.3705
FOCAL_PLANE_TEMPERATURE = 8.7872
INST_CMPRS_NAME = "DISCRETE COSINE TRANSFORMATION (DCT)"
INST_CMPRS_RATIO = 21.6115
INST_CMPRS_QUALITY = 0
INST_CMPRS_QUANTZ_TBL_ID = 0
INSTRUMENT_TEMPERATURE = 11.0301
LENS_TEMPERATURE = 8.7872
MACROPIXEL_SIZE = 4
PIXEL_SUBSAMPLING_FLAG = N
SIGNAL_CHAIN_ID = 2
/* RADIOMETRIC DATA ELEMENTS */
BANDWIDTH = 88.0
CENTER_FILTER_WAVELENGTH = 538.0
RADIANCE_OFFSET = 2.24892
RADIANCE_SCALING_FACTOR = 0.0059182
REFLECTANCE_SCALING_FACTOR = 0.000224918
MEX:REFLECTANCE_OFFSET = 0.0854688
/* IMAGE OBJECT DEFINITIONS */
OBJECT = IMAGE
  INTERCHANGE_FORMAT = BINARY
  LINES = 18679
  LINE_SAMPLES = 2462
  SAMPLE_TYPE = UNSIGNED_INTEGER
  SAMPLE_BITS = 8
  BANDS = 1
  BAND_STORAGE_TYPE = BAND_SEQUENTIAL
  MAXIMUM = 255
  MEAN = 104.617
  MINIMUM = 1
  STANDARD_DEVIATION = 33.1227
END_OBJECT = IMAGE
/* MAP OBJECT DEFINITIONS */
OBJECT = IMAGE_MAP_PROJECTION
  ^DATA_SET_MAP_PROJECTION_CATALOG= "DSMAP.CAT"
  A_AXIS_RADIUS = 3396.0
  B_AXIS_RADIUS = 3396.0
  C_AXIS_RADIUS = 3396.0
  CENTER_LATITUDE = 0.0
  CENTER_LONGITUDE = 105.0
  COORDINATE_SYSTEM_NAME = PLANETOGRAPHIC
  COORDINATE_SYSTEM_TYPE = "BODY-FIXED ROTATING"
  EASTERNMOST_LONGITUDE = 106.589
  FIRST_STANDARD_PARALLEL = "N/A"
  LINE_FIRST_PIXEL = 1
  LINE_LAST_PIXEL = 18679
  LINE_PROJECTION_OFFSET = -51480.375
  MAP_PROJECTION_ROTATION = 0.0
  MAP_PROJECTION_TYPE = SINUSOIDAL
  MAP_RESOLUTION = 1185.42760773333
  MAP_SCALE = 0.05
  MAXIMUM_LATITUDE = -43.4383
  MINIMUM_LATITUDE = -59.1732
  POSITIVE_LONGITUDE_DIRECTION = EAST
  REFERENCE_LATITUDE = "N/A"
  REFERENCE_LONGITUDE = "N/A"
  SAMPLE_FIRST_PIXEL = 1
  SAMPLE_LAST_PIXEL = 2462
  SAMPLE_PROJECTION_OFFSET = 1102.625
  SECOND_STANDARD_PARALLEL = "N/A"
  WESTERNMOST_LONGITUDE = 103.196
END_OBJECT = IMAGE_MAP_PROJECTION
END
