PDS_VERSION_ID = PDS3
/* FILE DATA ELEMENTS */
RECORD_TYPE = UNDEFINED
/* POINTERS TO DATA OBJECTS */
^IMAGE = ("HL163_0000_GR4.TIF")
/* IDENTIFICATION DATA ELEMENTS */
DATA_SET_ID = "MEX-M-HRSC-4-REFDR-MAPPROJECT-EXT7-V4.0"
DATA_SET_NAME = "MARS EXPRESS HRSC MAP PROJECTED REFDR EXTENSION7 V4.0"
DETECTOR_ID = MEX_HRSC_GREEN
EVENT_TYPE = "MARS-REGIONAL-MAPPING-Te-Gl-Pf"
INSTRUMENT_HOST_ID = MEX
INSTRUMENT_HOST_NAME = "MARS EXPRESS"
INSTRUMENT_ID = HRSC
INSTRUMENT_NAME = "HIGH RESOLUTION STEREO CAMERA"
MISSION_NAME = "MARS EXPRESS"
MISSION_PHASE_NAME = ME_Phase_43
PROCESSING_LEVEL_ID = 4
PRODUCT_CREATION_TIME = 2023-01-29T17:38:44.000Z
PRODUCT_ID = "HL163_0000_GR4.TIF"
RELEASE_ID = 0005
REVISION_ID = 0000
/* QUALITY DATA ELEMENTS */
DATA_QUALITY_ID = 1
DATA_QUALITY_DESC = "Data calculated based on original SPICE kernels"
/* TIME DATA ELEMENTS */
SPACECRAFT_CLOCK_START_COUNT = "1/0549370353.24918"
SPACECRAFT_CLOCK_STOP_COUNT = "1/0549370559.63778"
START_TIME = 2020-09-28T10:53:42.066Z
STOP_TIME = 2020-09-28T10:55:59.939Z
/* ORBITAL DATA ELEMENTS */
ASCENDING_NODE_LONGITUDE = 178.3
MAXIMUM_RESOLUTION = 0.0547
FOOTPRINT_POINT_LATITUDE = (-57.6199,-57.5995,-57.5889,-57.567, -57.5466,-57.5457,-57.5537,-57.3021, -57.0507,-56.8832,-56.7157,-56.5483, -56.381,-56.2136,-56.0464,-55.8724, -55.7052,-55.5381,-55.3711,-55.2042, -55.0374,-54.7813,-54.6146,-54.4472, -54.2807,-54.0312,-53.8649,-53.6987, -53.5326,-53.3665,-53.0345,-52.7031, -52.2892,-51.9586,-51.7765,-51.5795, -51.3824,-51.0867,-50.8902,-50.6937, -50.4973,-50.3011,-50.105,-49.909, -49.7132,-49.4199,-49.2243,-48.9315, -48.8341,-48.7386,-48.7552,-48.7647, -48.7749,-48.7807,-48.789,-48.7893, -48.7904,-48.9859,-49.1815,-49.3773, -49.5732,-49.7693,-49.9656,-50.162, -50.3586,-50.5553,-50.7523,-50.9491, -51.1465,-51.4422,-51.7385,-52.02, -52.3515,-52.6836,-53.016,-53.2655, -53.432,-53.6819,-53.8486,-54.0155, -54.1823,-54.4328,-54.5997,-54.7669, -54.934,-55.1081,-55.3593,-55.6107, -55.7782,-55.9459,-56.1205,-56.3721, -56.5402,-56.7081,-56.8762,-57.0442, -57.2124,-57.4647,-57.5488,-57.6199)
FOOTPRINT_POINT_LONGITUDE = (256.266,255.567,255.247,254.649, 254.151,254.131,254.086,254.121,254.155 ,254.177,254.199,254.221,254.242, 254.263,254.283,254.305,254.325,254.345 ,254.364,254.383,254.401,254.426, 254.444,254.466,254.483,254.508,254.524 ,254.541,254.557,254.572,254.604, 254.633,254.669,254.696,254.709,254.724 ,254.74,254.765,254.779,254.794,254.808 ,254.822,254.835,254.849,254.862, 254.881,254.894,254.912,254.917,254.923 ,255.454,255.797,256.216,256.482,256.94 ,256.959,256.965,256.954,256.943, 256.932,256.921,256.909,256.898,256.886 ,256.874,256.862,256.851,256.838, 256.826,256.806,256.786,256.768,256.744 ,256.721,256.697,256.679,256.667, 256.648,256.635,256.623,256.61,256.59, 256.576,256.563,256.549,256.534,256.513 ,256.492,256.477,256.462,256.447, 256.424,256.409,256.393,256.377,256.361 ,256.345,256.32,256.311,256.266)
ORBIT_NUMBER = 21163
ORBITAL_ECCENTRICITY = 0.577
ORBITAL_INCLINATION = 86.99
ORBITAL_SEMIMAJOR_AXIS = 8767.26
PERIAPSIS_ALTITUDE = 332.15
PERIAPSIS_ARGUMENT_ANGLE = 294.05
PERIAPSIS_TIME = 2020-09-28T10:51:32.000Z
SPACECRAFT_ORIENTATION = (0.0,1.0,0.0)
^MEX_ORIENTATION_DESC = "MEX_ORIENTATION_DESC.TXT"
SPACECRAFT_POINTING_MODE = NADIR
^MEX_POINTING_DESC = "MEX_POINTING_DESC.TXT"
RIGHT_ASCENSION = -1e+32
DECLINATION = -1e+32
OFFSET_ANGLE = -1e+32
SPACECRAFT_SOLAR_DISTANCE = 2.09932e+08
TARGET_NAME = MARS
/* CAMERA DATA ELEMENTS */
DETECTOR_TEMPERATURE = 18.5744
FOCAL_PLANE_TEMPERATURE = 10.6223
INST_CMPRS_NAME = "DISCRETE COSINE TRANSFORMATION (DCT)"
INST_CMPRS_RATIO = 9.81262
INST_CMPRS_QUALITY = 0
INST_CMPRS_QUANTZ_TBL_ID = 0
INSTRUMENT_TEMPERATURE = 12.0496
LENS_TEMPERATURE = 9.6028
MACROPIXEL_SIZE = 4
PIXEL_SUBSAMPLING_FLAG = N
SIGNAL_CHAIN_ID = 2
/* RADIOMETRIC DATA ELEMENTS */
BANDWIDTH = 88.0
CENTER_FILTER_WAVELENGTH = 538.0
RADIANCE_OFFSET = 1.97064
RADIANCE_SCALING_FACTOR = 0.00332017
REFLECTANCE_SCALING_FACTOR = 0.000125982
MEX:REFLECTANCE_OFFSET = 0.0747747
/* IMAGE OBJECT DEFINITIONS */
OBJECT = IMAGE
  INTERCHANGE_FORMAT = BINARY
  LINES = 10537
  LINE_SAMPLES = 1971
  SAMPLE_TYPE = UNSIGNED_INTEGER
  SAMPLE_BITS = 8
  BANDS = 1
  BAND_STORAGE_TYPE = BAND_SEQUENTIAL
  MAXIMUM = 255
  MEAN = 114.329
  MINIMUM = 1
  STANDARD_DEVIATION = 33.3355
END_OBJECT = IMAGE
/* MAP OBJECT DEFINITIONS */
OBJECT = IMAGE_MAP_PROJECTION
  ^DATA_SET_MAP_PROJECTION_CATALOG= "DSMAP.CAT"
  A_AXIS_RADIUS = 3396.0
  B_AXIS_RADIUS = 3396.0
  C_AXIS_RADIUS = 3396.0
  CENTER_LATITUDE = 0.0
  CENTER_LONGITUDE = 256.0
  COORDINATE_SYSTEM_NAME = PLANETOGRAPHIC
  COORDINATE_SYSTEM_TYPE = "BODY-FIXED ROTATING"
  EASTERNMOST_LONGITUDE = 256.965
  FIRST_STANDARD_PARALLEL = "N/A"
  LINE_FIRST_PIXEL = 1
  LINE_LAST_PIXEL = 10537
  LINE_PROJECTION_OFFSET = -57774.875
  MAP_PROJECTION_ROTATION = 0.0
  MAP_PROJECTION_TYPE = SINUSOIDAL
  MAP_RESOLUTION = 1185.42760773333
  MAP_SCALE = 0.05
  MAXIMUM_LATITUDE = -48.7386
  MINIMUM_LATITUDE = -57.6199
  POSITIVE_LONGITUDE_DIRECTION = EAST
  REFERENCE_LATITUDE = "N/A"
  REFERENCE_LONGITUDE = "N/A"
  SAMPLE_FIRST_PIXEL = 1
  SAMPLE_LAST_PIXEL = 1971
  SAMPLE_PROJECTION_OFFSET = 1221.875
  SECOND_STANDARD_PARALLEL = "N/A"
  WESTERNMOST_LONGITUDE = 254.086
END_OBJECT = IMAGE_MAP_PROJECTION
END
