PDS_VERSION_ID = PDS3
/* FILE DATA ELEMENTS */
RECORD_TYPE = UNDEFINED
/* POINTERS TO DATA OBJECTS */
^IMAGE = ("HL158_0000_P14.TIF")
/* IDENTIFICATION DATA ELEMENTS */
DATA_SET_ID = "MEX-M-HRSC-4-REFDR-MAPPROJECT-EXT7-V4.0"
DATA_SET_NAME = "MARS EXPRESS HRSC MAP PROJECTED REFDR EXTENSION7 V4.0"
DETECTOR_ID = MEX_HRSC_P1
EVENT_TYPE = "MARS-REGIONAL-MAPPING-Vo-Im-Pf"
INSTRUMENT_HOST_ID = MEX
INSTRUMENT_HOST_NAME = "MARS EXPRESS"
INSTRUMENT_ID = HRSC
INSTRUMENT_NAME = "HIGH RESOLUTION STEREO CAMERA"
MISSION_NAME = "MARS EXPRESS"
MISSION_PHASE_NAME = ME_Phase_43
PROCESSING_LEVEL_ID = 4
PRODUCT_CREATION_TIME = 2023-01-29T17:38:44.000Z
PRODUCT_ID = "HL158_0000_P14.TIF"
RELEASE_ID = 0005
REVISION_ID = 0000
/* QUALITY DATA ELEMENTS */
DATA_QUALITY_ID = 1
DATA_QUALITY_DESC = "Data calculated based on original SPICE kernels"
/* TIME DATA ELEMENTS */
SPACECRAFT_CLOCK_START_COUNT = "1/0549244527.25667"
SPACECRAFT_CLOCK_STOP_COUNT = "1/0549244745.65417"
START_TIME = 2020-09-26T23:56:47.495Z
STOP_TIME = 2020-09-26T23:59:27.124Z
/* ORBITAL DATA ELEMENTS */
ASCENDING_NODE_LONGITUDE = 178.38
MAXIMUM_RESOLUTION = 0.0283
FOOTPRINT_POINT_LATITUDE = (-65.5023,-65.4355,-65.3766,-65.3159, -65.314,-65.3916,-65.1668,-64.8343, -64.6113,-64.3822,-64.1612,-63.935, -63.6014,-63.3785,-63.1553,-62.9312, -62.7087,-62.4857,-62.2623,-61.9281, -61.7049,-61.4821,-61.2592,-61.0362, -60.7018,-60.4802,-60.2578,-60.0359, -59.8139,-59.5923,-59.3706,-59.1492, -58.9271,-58.7052,-58.2645,-58.0431, -57.7114,-57.3805,-57.1598,-56.7191, -56.3892,-55.9488,-55.6902,-55.4276, -55.0337,-54.7709,-54.5082,-54.1145, -53.9834,-53.9532,-54.0014,-54.0301, -54.0651,-54.0913,-54.125,-54.1266, -54.1277,-54.5192,-54.7819,-55.1757, -55.4382,-55.832,-56.0947,-56.3157, -56.6459,-57.0864,-57.5282,-57.7494, -58.081,-58.3022,-58.6342,-58.8558, -59.0769,-59.2994,-59.6332,-59.9676, -60.1898,-60.5227,-60.7484,-61.0834, -61.4166,-61.6398,-61.8635,-62.0872, -62.3109,-62.6465,-62.8703,-63.0942, -63.3183,-63.5429,-63.767,-63.9916, -64.2164,-64.4414,-64.6669,-64.8917, -65.116,-65.4503,-65.5622,-65.5023)
FOOTPRINT_POINT_LONGITUDE = (50.3187,49.1319,48.1921,47.3011,47.274 ,47.3823,47.4087,47.4543,47.4818, 47.4995,47.5291,47.5499,47.5889,47.6134 ,47.637,47.6586,47.6822,47.7047,47.7258 ,47.758,47.7782,47.7986,47.8183,47.8375 ,47.8655,47.8858,47.9044,47.9233, 47.9418,47.9605,47.9786,47.9971,48.0136 ,48.0302,48.0682,48.0847,48.1094,48.135 ,48.1514,48.1849,48.2105,48.2425, 48.2611,48.2797,48.307,48.324,48.341, 48.3668,48.3756,48.3776,48.9772,49.3541 ,49.8346,50.2124,50.7077,50.7325, 50.7414,50.7164,50.7085,50.695,50.6853, 50.6712,50.6619,50.6547,50.6431,50.6284 ,50.6179,50.6137,50.6062,50.6016, 50.5952,50.5916,50.5859,50.5852,50.584, 50.5846,50.582,50.5758,50.5854,50.5864, 50.5802,50.5798,50.5809,50.5816,50.5822 ,50.5829,50.5832,50.584,50.585,50.5876, 50.5882,50.5904,50.5932,50.5963,50.6008 ,50.603,50.6034,50.5967,50.5959, 50.3187)
ORBIT_NUMBER = 21158
ORBITAL_ECCENTRICITY = 0.577
ORBITAL_INCLINATION = 86.99
ORBITAL_SEMIMAJOR_AXIS = 8770.41
PERIAPSIS_ALTITUDE = 332.66
PERIAPSIS_ARGUMENT_ANGLE = 294.91
PERIAPSIS_TIME = 2020-09-26T23:56:27.000Z
SPACECRAFT_ORIENTATION = (0.0,1.0,0.0)
^MEX_ORIENTATION_DESC = "MEX_ORIENTATION_DESC.TXT"
SPACECRAFT_POINTING_MODE = INERT
^MEX_POINTING_DESC = "MEX_POINTING_DESC.TXT"
RIGHT_ASCENSION = 348.802
DECLINATION = 24.657
OFFSET_ANGLE = -1e+32
SPACECRAFT_SOLAR_DISTANCE = 2.0977e+08
TARGET_NAME = MARS
/* CAMERA DATA ELEMENTS */
DETECTOR_TEMPERATURE = 17.1471
FOCAL_PLANE_TEMPERATURE = 8.9911
INST_CMPRS_NAME = "DISCRETE COSINE TRANSFORMATION (DCT)"
INST_CMPRS_RATIO = 9.11
INST_CMPRS_QUALITY = 0
INST_CMPRS_QUANTZ_TBL_ID = 0
INSTRUMENT_TEMPERATURE = 11.8457
LENS_TEMPERATURE = 9.3989
MACROPIXEL_SIZE = 2
MISSING_FRAMES = 0
PIXEL_SUBSAMPLING_FLAG = N
SIGNAL_CHAIN_ID = 3
/* RADIOMETRIC DATA ELEMENTS */
BANDWIDTH = 174.0
CENTER_FILTER_WAVELENGTH = 675.0
RADIANCE_OFFSET = 5.18964
RADIANCE_SCALING_FACTOR = 0.0224437
REFLECTANCE_SCALING_FACTOR = 0.000531213
MEX:REFLECTANCE_OFFSET = 0.122832
/* IMAGE OBJECT DEFINITIONS */
OBJECT = IMAGE
  INTERCHANGE_FORMAT = BINARY
  LINES = 27346
  LINE_SAMPLES = 4186
  SAMPLE_TYPE = UNSIGNED_INTEGER
  SAMPLE_BITS = 8
  BANDS = 1
  BAND_STORAGE_TYPE = BAND_SEQUENTIAL
  MAXIMUM = 255
  MEAN = 186.625
  MINIMUM = 1
  STANDARD_DEVIATION = 26.5242
END_OBJECT = IMAGE
/* MAP OBJECT DEFINITIONS */
OBJECT = IMAGE_MAP_PROJECTION
  ^DATA_SET_MAP_PROJECTION_CATALOG= "DSMAP.CAT"
  A_AXIS_RADIUS = 3396.0
  B_AXIS_RADIUS = 3396.0
  C_AXIS_RADIUS = 3396.0
  CENTER_LATITUDE = 0.0
  CENTER_LONGITUDE = 49.0
  COORDINATE_SYSTEM_NAME = PLANETOGRAPHIC
  COORDINATE_SYSTEM_TYPE = "BODY-FIXED ROTATING"
  EASTERNMOST_LONGITUDE = 50.7414
  FIRST_STANDARD_PARALLEL = "N/A"
  LINE_FIRST_PIXEL = 1
  LINE_LAST_PIXEL = 27346
  LINE_PROJECTION_OFFSET = -128059.25
  MAP_PROJECTION_ROTATION = 0.0
  MAP_PROJECTION_TYPE = SINUSOIDAL
  MAP_RESOLUTION = 2370.85521546667
  MAP_SCALE = 0.025
  MAXIMUM_LATITUDE = -53.9532
  MINIMUM_LATITUDE = -65.5622
  POSITIVE_LONGITUDE_DIRECTION = EAST
  REFERENCE_LATITUDE = "N/A"
  REFERENCE_LONGITUDE = "N/A"
  SAMPLE_FIRST_PIXEL = 1
  SAMPLE_LAST_PIXEL = 4186
  SAMPLE_PROJECTION_OFFSET = 1556.25
  SECOND_STANDARD_PARALLEL = "N/A"
  WESTERNMOST_LONGITUDE = 47.274
END_OBJECT = IMAGE_MAP_PROJECTION
END
