PDS_VERSION_ID = PDS3
/* FILE DATA ELEMENTS */
RECORD_TYPE = UNDEFINED
/* POINTERS TO DATA OBJECTS */
^IMAGE = ("HL157_0000_S14.TIF")
/* IDENTIFICATION DATA ELEMENTS */
DATA_SET_ID = "MEX-M-HRSC-4-REFDR-MAPPROJECT-EXT7-V4.0"
DATA_SET_NAME = "MARS EXPRESS HRSC MAP PROJECTED REFDR EXTENSION7 V4.0"
DETECTOR_ID = MEX_HRSC_S1
EVENT_TYPE = "MARS-REGIONAL-MAPPING-Im-Gl-Pf"
INSTRUMENT_HOST_ID = MEX
INSTRUMENT_HOST_NAME = "MARS EXPRESS"
INSTRUMENT_ID = HRSC
INSTRUMENT_NAME = "HIGH RESOLUTION STEREO CAMERA"
MISSION_NAME = "MARS EXPRESS"
MISSION_PHASE_NAME = ME_Phase_43
PROCESSING_LEVEL_ID = 4
PRODUCT_CREATION_TIME = 2023-01-29T17:38:44.000Z
PRODUCT_ID = "HL157_0000_S14.TIF"
RELEASE_ID = 0005
REVISION_ID = 0000
/* QUALITY DATA ELEMENTS */
DATA_QUALITY_ID = 1
DATA_QUALITY_DESC = "Data calculated based on original SPICE kernels"
/* TIME DATA ELEMENTS */
SPACECRAFT_CLOCK_START_COUNT = "1/0549219407.25689"
SPACECRAFT_CLOCK_STOP_COUNT = "1/0549219673.26668"
START_TIME = 2020-09-26T16:58:20.238Z
STOP_TIME = 2020-09-26T17:01:44.572Z
/* ORBITAL DATA ELEMENTS */
ASCENDING_NODE_LONGITUDE = 178.4
MAXIMUM_RESOLUTION = 0.0283
FOOTPRINT_POINT_LATITUDE = (-63.1434,-63.1135,-63.077,-63.0498, -63.0487,-63.1251,-62.7526,-62.5034, -62.2549,-62.0074,-61.7601,-61.5131, -61.1433,-60.775,-60.5293,-60.278, -60.0242,-59.6432,-59.263,-58.8835, -58.6304,-58.3776,-57.9989,-57.6209, -57.3689,-56.9923,-56.6133,-56.3618, -56.1124,-55.7376,-55.4879,-55.2383, -54.8649,-54.4925,-54.2449,-53.998, -53.6276,-53.3804,-52.8888,-52.6098, -52.3172,-52.025,-51.7341,-51.4426, -51.1516,-50.8617,-50.4282,-50.2833, -50.2456,-50.2618,-50.2769,-50.2861, -50.2959,-50.2963,-50.2969,-50.7313, -51.0206,-51.3118,-51.7495,-52.0414, -52.334,-52.6273,-52.9128,-53.165, -53.5363,-53.9024,-54.151,-54.5234, -54.8969,-55.1463,-55.3962,-55.7676, -56.0192,-56.2714,-56.6492,-56.9027, -57.1549,-57.534,-57.7872,-58.0405, -58.2934,-58.6739,-58.9272,-59.1817, -59.5639,-59.8187,-60.0733,-60.3282, -60.5818,-60.8284,-61.0765,-61.3254, -61.5713,-61.8208,-62.0691,-62.318, -62.692,-63.0647,-63.1898,-63.1434)
FOOTPRINT_POINT_LONGITUDE = (148.362,147.477,146.546,145.926, 145.902,145.822,145.909,145.966,146.021 ,146.074,146.126,146.176,146.25,146.319 ,146.365,146.41,146.455,146.521,146.585 ,146.646,146.685,146.724,146.78,146.834 ,146.87,146.92,146.971,147.004,147.034, 147.079,147.108,147.137,147.178,147.218 ,147.243,147.268,147.304,147.327, 147.372,147.396,147.421,147.445,147.468 ,147.491,147.513,147.535,147.565, 147.575,147.578,148.111,148.685,149.117 ,149.671,149.692,149.699,149.671, 149.652,149.632,149.603,149.582,149.561 ,149.54,149.519,149.503,149.475,149.444 ,149.424,149.394,149.363,149.342,149.32 ,149.285,149.263,149.241,149.206, 149.183,149.158,149.121,149.095,149.069 ,149.043,149.001,148.973,148.945, 148.901,148.871,148.84,148.808,148.776, 148.744,148.712,148.679,148.645,148.611 ,148.576,148.54,148.485,148.427,148.408 ,148.362)
ORBIT_NUMBER = 21157
ORBITAL_ECCENTRICITY = 0.577
ORBITAL_INCLINATION = 86.99
ORBITAL_SEMIMAJOR_AXIS = 8770.57
PERIAPSIS_ALTITUDE = 333.38
PERIAPSIS_ARGUMENT_ANGLE = 295.09
PERIAPSIS_TIME = 2020-09-26T16:57:27.000Z
SPACECRAFT_ORIENTATION = (0.0,1.0,0.0)
^MEX_ORIENTATION_DESC = "MEX_ORIENTATION_DESC.TXT"
SPACECRAFT_POINTING_MODE = NADIR
^MEX_POINTING_DESC = "MEX_POINTING_DESC.TXT"
RIGHT_ASCENSION = -1e+32
DECLINATION = -1e+32
OFFSET_ANGLE = -1e+32
SPACECRAFT_SOLAR_DISTANCE = 2.09738e+08
TARGET_NAME = MARS
/* CAMERA DATA ELEMENTS */
DETECTOR_TEMPERATURE = 17.9627
FOCAL_PLANE_TEMPERATURE = 8.5833
INST_CMPRS_NAME = "DISCRETE COSINE TRANSFORMATION (DCT)"
INST_CMPRS_RATIO = 9.54996
INST_CMPRS_QUALITY = 0
INST_CMPRS_QUANTZ_TBL_ID = 0
INSTRUMENT_TEMPERATURE = 11.6418
LENS_TEMPERATURE = 9.3989
MACROPIXEL_SIZE = 2
MISSING_FRAMES = 0
PIXEL_SUBSAMPLING_FLAG = N
SIGNAL_CHAIN_ID = 1
/* RADIOMETRIC DATA ELEMENTS */
BANDWIDTH = 180.0
CENTER_FILTER_WAVELENGTH = 677.0
RADIANCE_OFFSET = 5.04224
RADIANCE_SCALING_FACTOR = 0.0195887
REFLECTANCE_SCALING_FACTOR = 0.000449577
MEX:REFLECTANCE_OFFSET = 0.115724
/* IMAGE OBJECT DEFINITIONS */
OBJECT = IMAGE
  INTERCHANGE_FORMAT = BINARY
  LINES = 30825
  LINE_SAMPLES = 4828
  SAMPLE_TYPE = UNSIGNED_INTEGER
  SAMPLE_BITS = 8
  BANDS = 1
  BAND_STORAGE_TYPE = BAND_SEQUENTIAL
  MAXIMUM = 255
  MEAN = 150.311
  MINIMUM = 1
  STANDARD_DEVIATION = 27.1181
END_OBJECT = IMAGE
/* MAP OBJECT DEFINITIONS */
OBJECT = IMAGE_MAP_PROJECTION
  ^DATA_SET_MAP_PROJECTION_CATALOG= "DSMAP.CAT"
  A_AXIS_RADIUS = 3396.0
  B_AXIS_RADIUS = 3396.0
  C_AXIS_RADIUS = 3396.0
  CENTER_LATITUDE = 0.0
  CENTER_LONGITUDE = 148.0
  COORDINATE_SYSTEM_NAME = PLANETOGRAPHIC
  COORDINATE_SYSTEM_TYPE = "BODY-FIXED ROTATING"
  EASTERNMOST_LONGITUDE = 149.699
  FIRST_STANDARD_PARALLEL = "N/A"
  LINE_FIRST_PIXEL = 1
  LINE_LAST_PIXEL = 30825
  LINE_PROJECTION_OFFSET = -119123.75
  MAP_PROJECTION_ROTATION = 0.0
  MAP_PROJECTION_TYPE = SINUSOIDAL
  MAP_RESOLUTION = 2370.85521546667
  MAP_SCALE = 0.025
  MAXIMUM_LATITUDE = -50.2456
  MINIMUM_LATITUDE = -63.1898
  POSITIVE_LONGITUDE_DIRECTION = EAST
  REFERENCE_LATITUDE = "N/A"
  REFERENCE_LONGITUDE = "N/A"
  SAMPLE_FIRST_PIXEL = 1
  SAMPLE_LAST_PIXEL = 4828
  SAMPLE_PROJECTION_OFFSET = 2334.25
  SECOND_STANDARD_PARALLEL = "N/A"
  WESTERNMOST_LONGITUDE = 145.822
END_OBJECT = IMAGE_MAP_PROJECTION
END
