PDS_VERSION_ID = PDS3
/* FILE DATA ELEMENTS */
RECORD_TYPE = UNDEFINED
/* POINTERS TO DATA OBJECTS */
^IMAGE = ("HL157_0000_BL4.TIF")
/* IDENTIFICATION DATA ELEMENTS */
DATA_SET_ID = "MEX-M-HRSC-4-REFDR-MAPPROJECT-EXT7-V4.0"
DATA_SET_NAME = "MARS EXPRESS HRSC MAP PROJECTED REFDR EXTENSION7 V4.0"
DETECTOR_ID = MEX_HRSC_BLUE
EVENT_TYPE = "MARS-REGIONAL-MAPPING-Im-Gl-Pf"
INSTRUMENT_HOST_ID = MEX
INSTRUMENT_HOST_NAME = "MARS EXPRESS"
INSTRUMENT_ID = HRSC
INSTRUMENT_NAME = "HIGH RESOLUTION STEREO CAMERA"
MISSION_NAME = "MARS EXPRESS"
MISSION_PHASE_NAME = ME_Phase_43
PROCESSING_LEVEL_ID = 4
PRODUCT_CREATION_TIME = 2023-01-29T17:38:44.000Z
PRODUCT_ID = "HL157_0000_BL4.TIF"
RELEASE_ID = 0005
REVISION_ID = 0000
/* QUALITY DATA ELEMENTS */
DATA_QUALITY_ID = 1
DATA_QUALITY_DESC = "Data calculated based on original SPICE kernels"
/* TIME DATA ELEMENTS */
SPACECRAFT_CLOCK_START_COUNT = "1/0549219407.25689"
SPACECRAFT_CLOCK_STOP_COUNT = "1/0549219673.26668"
START_TIME = 2020-09-26T16:57:45.263Z
STOP_TIME = 2020-09-26T17:01:03.703Z
/* ORBITAL DATA ELEMENTS */
ASCENDING_NODE_LONGITUDE = 178.4
MAXIMUM_RESOLUTION = 0.0529
FOOTPRINT_POINT_LATITUDE = (-63.2663,-63.231,-63.1691,-63.168, -63.1494,-62.8975,-62.5198,-62.1418, -61.8897,-61.6375,-61.3853,-61.1329, -60.8804,-60.6279,-60.2494,-59.997, -59.7448,-59.3664,-58.9878,-58.7356, -58.4835,-58.2312,-57.9733,-57.7128, -57.4523,-57.1921,-56.8018,-56.4118, -56.0212,-55.7611,-55.371,-54.9815, -54.7217,-54.462,-54.2024,-53.813, -53.5536,-53.2945,-53.0353,-52.6467, -52.3879,-52.1293,-51.8706,-51.6121, -51.3541,-50.9669,-50.709,-50.4511, -50.3224,-50.2422,-50.267,-50.2793, -50.2874,-50.2963,-50.2967,-50.2978, -50.6955,-50.9543,-51.213,-51.4719, -51.7307,-51.9901,-52.2494,-52.5089, -52.7685,-53.1571,-53.417,-53.6778, -54.0682,-54.4587,-54.7192,-55.1101, -55.3708,-55.6317,-55.8933,-56.154, -56.4149,-56.8062,-57.1982,-57.5901, -57.8515,-58.2435,-58.4967,-58.8766, -59.2564,-59.5097,-59.8898,-60.1432, -60.3967,-60.777,-61.0306,-61.2837, -61.5376,-61.7908,-62.0443,-62.4244, -62.8045,-63.058,-63.1846,-63.2663)
FOOTPRINT_POINT_LONGITUDE = (148.323,147.321,145.914,145.891, 145.836,145.896,145.984,146.068,146.123 ,146.175,146.227,146.277,146.326, 146.374,146.444,146.489,146.534,146.599 ,146.661,146.701,146.741,146.78,146.819 ,146.857,146.894,146.931,146.984, 147.036,147.085,147.116,147.163,147.208 ,147.237,147.265,147.292,147.331, 147.357,147.382,147.407,147.442,147.465 ,147.487,147.509,147.53,147.551,147.581 ,147.6,147.619,147.628,147.634,148.399, 148.848,149.185,149.616,149.634,149.64, 149.616,149.6,149.583,149.567,149.55, 149.533,149.515,149.497,149.479,149.454 ,149.435,149.414,149.383,149.353, 149.332,149.3,149.279,149.256,149.232, 149.21,149.187,149.153,149.116,149.078, 149.052,149.012,148.986,148.945,148.903 ,148.875,148.831,148.801,148.77,148.722 ,148.69,148.658,148.623,148.59,148.554, 148.501,148.445,148.407,148.388, 148.323)
ORBIT_NUMBER = 21157
ORBITAL_ECCENTRICITY = 0.577
ORBITAL_INCLINATION = 86.99
ORBITAL_SEMIMAJOR_AXIS = 8770.57
PERIAPSIS_ALTITUDE = 333.38
PERIAPSIS_ARGUMENT_ANGLE = 295.09
PERIAPSIS_TIME = 2020-09-26T16:57:27.000Z
SPACECRAFT_ORIENTATION = (0.0,1.0,0.0)
^MEX_ORIENTATION_DESC = "MEX_ORIENTATION_DESC.TXT"
SPACECRAFT_POINTING_MODE = NADIR
^MEX_POINTING_DESC = "MEX_POINTING_DESC.TXT"
RIGHT_ASCENSION = -1e+32
DECLINATION = -1e+32
OFFSET_ANGLE = -1e+32
SPACECRAFT_SOLAR_DISTANCE = 2.09738e+08
TARGET_NAME = MARS
/* CAMERA DATA ELEMENTS */
DETECTOR_TEMPERATURE = 18.5744
FOCAL_PLANE_TEMPERATURE = 8.5833
INST_CMPRS_NAME = "DISCRETE COSINE TRANSFORMATION (DCT)"
INST_CMPRS_RATIO = 5.50546
INST_CMPRS_QUALITY = 0
INST_CMPRS_QUANTZ_TBL_ID = 0
INSTRUMENT_TEMPERATURE = 11.6418
LENS_TEMPERATURE = 9.3989
MACROPIXEL_SIZE = 4
MISSING_FRAMES = 0
PIXEL_SUBSAMPLING_FLAG = N
SIGNAL_CHAIN_ID = 2
/* RADIOMETRIC DATA ELEMENTS */
BANDWIDTH = 76.0
CENTER_FILTER_WAVELENGTH = 444.0
RADIANCE_OFFSET = 0.769814
RADIANCE_SCALING_FACTOR = 0.00140534
REFLECTANCE_SCALING_FACTOR = 6.35173e-05
MEX:REFLECTANCE_OFFSET = 0.0347934
/* IMAGE OBJECT DEFINITIONS */
OBJECT = IMAGE
  INTERCHANGE_FORMAT = BINARY
  LINES = 15413
  LINE_SAMPLES = 2414
  SAMPLE_TYPE = UNSIGNED_INTEGER
  SAMPLE_BITS = 8
  BANDS = 1
  BAND_STORAGE_TYPE = BAND_SEQUENTIAL
  MAXIMUM = 254
  MEAN = 124.882
  MINIMUM = 1
  STANDARD_DEVIATION = 33.3126
END_OBJECT = IMAGE
/* MAP OBJECT DEFINITIONS */
OBJECT = IMAGE_MAP_PROJECTION
  ^DATA_SET_MAP_PROJECTION_CATALOG= "DSMAP.CAT"
  A_AXIS_RADIUS = 3396.0
  B_AXIS_RADIUS = 3396.0
  C_AXIS_RADIUS = 3396.0
  CENTER_LATITUDE = 0.0
  CENTER_LONGITUDE = 148.0
  COORDINATE_SYSTEM_NAME = PLANETOGRAPHIC
  COORDINATE_SYSTEM_TYPE = "BODY-FIXED ROTATING"
  EASTERNMOST_LONGITUDE = 149.64
  FIRST_STANDARD_PARALLEL = "N/A"
  LINE_FIRST_PIXEL = 1
  LINE_LAST_PIXEL = 15413
  LINE_PROJECTION_OFFSET = -59562.125
  MAP_PROJECTION_ROTATION = 0.0
  MAP_PROJECTION_TYPE = SINUSOIDAL
  MAP_RESOLUTION = 1185.42760773333
  MAP_SCALE = 0.05
  MAXIMUM_LATITUDE = -50.2422
  MINIMUM_LATITUDE = -63.2663
  POSITIVE_LONGITUDE_DIRECTION = EAST
  REFERENCE_LATITUDE = "N/A"
  REFERENCE_LONGITUDE = "N/A"
  SAMPLE_FIRST_PIXEL = 1
  SAMPLE_LAST_PIXEL = 2414
  SAMPLE_PROJECTION_OFFSET = 1166.875
  SECOND_STANDARD_PARALLEL = "N/A"
  WESTERNMOST_LONGITUDE = 145.836
END_OBJECT = IMAGE_MAP_PROJECTION
END
