PDS_VERSION_ID = PDS3
/* FILE DATA ELEMENTS */
RECORD_TYPE = UNDEFINED
/* POINTERS TO DATA OBJECTS */
^IMAGE = ("HL148_0000_P14.TIF")
/* IDENTIFICATION DATA ELEMENTS */
DATA_SET_ID = "MEX-M-HRSC-4-REFDR-MAPPROJECT-EXT7-V4.0"
DATA_SET_NAME = "MARS EXPRESS HRSC MAP PROJECTED REFDR EXTENSION7 V4.0"
DETECTOR_ID = MEX_HRSC_P1
EVENT_TYPE = "MARS-REGIONAL-MAPPING-Im-Fl-Eo"
INSTRUMENT_HOST_ID = MEX
INSTRUMENT_HOST_NAME = "MARS EXPRESS"
INSTRUMENT_ID = HRSC
INSTRUMENT_NAME = "HIGH RESOLUTION STEREO CAMERA"
MISSION_NAME = "MARS EXPRESS"
MISSION_PHASE_NAME = ME_Phase_43
PROCESSING_LEVEL_ID = 4
PRODUCT_CREATION_TIME = 2023-01-29T17:38:44.000Z
PRODUCT_ID = "HL148_0000_P14.TIF"
RELEASE_ID = 0005
REVISION_ID = 0000
/* QUALITY DATA ELEMENTS */
DATA_QUALITY_ID = 1
DATA_QUALITY_DESC = "Data calculated based on original SPICE kernels"
/* TIME DATA ELEMENTS */
SPACECRAFT_CLOCK_START_COUNT = "1/0548993146.23977"
SPACECRAFT_CLOCK_STOP_COUNT = "1/0548993412.62236"
START_TIME = 2020-09-24T02:07:04.081Z
STOP_TIME = 2020-09-24T02:10:33.937Z
/* ORBITAL DATA ELEMENTS */
ASCENDING_NODE_LONGITUDE = 178.57
MAXIMUM_RESOLUTION = 0.028
FOOTPRINT_POINT_LATITUDE = (-61.7391,-61.6929,-61.6507,-61.6054, -61.604,-61.6773,-60.9708,-60.687, -60.4047,-60.1225,-59.8405,-59.4177, -58.8553,-58.5711,-58.2808,-57.8456, -57.5559,-57.2666,-56.8324,-56.5428, -56.254,-55.8211,-55.3888,-55.1008, -54.813,-54.3813,-53.9504,-53.6633, -53.3758,-53.0866,-52.655,-52.2261, -51.9387,-51.5067,-51.0771,-50.7906, -50.5044,-50.2175,-49.8759,-49.5339, -49.1926,-48.8517,-48.5109,-48.1696, -47.8286,-47.3178,-46.9772,-46.8069, -46.7835,-46.8154,-46.8523,-46.8946, -46.8955,-46.8963,-47.237,-47.5778, -48.0889,-48.4298,-48.7733,-49.1119, -49.4533,-49.7951,-50.137,-50.4555, -50.7423,-51.0293,-51.3159,-51.7467, -52.1793,-52.6098,-52.897,-53.3286, -53.6165,-53.9042,-54.1937,-54.4818, -54.9141,-55.202,-55.4913,-55.9244, -56.3591,-56.6511,-56.941,-57.3735, -57.6637,-57.9542,-58.2442,-58.535, -58.8248,-59.1068,-59.389,-59.673, -59.9547,-60.2384,-60.664,-61.0887, -61.3718,-61.6567,-61.7989,-61.7391)
FOOTPRINT_POINT_LONGITUDE = (348.324,347.426,346.678,345.938, 345.915,345.862,345.999,346.052,346.103 ,346.153,346.201,346.272,346.362, 346.405,346.449,346.512,346.553,346.593 ,346.651,346.689,346.725,346.778, 346.829,346.862,346.894,346.94,346.985, 347.014,347.042,347.071,347.112,347.15, 347.176,347.214,347.249,347.272,347.294 ,347.316,347.341,347.366,347.39,347.413 ,347.435,347.457,347.479,347.509, 347.528,347.538,347.539,348.039,348.654 ,349.445,349.464,349.471,349.454, 349.438,349.411,349.394,349.38,349.358, 349.339,349.321,349.303,349.284,349.269 ,349.253,349.235,349.21,349.187,349.159 ,349.14,349.112,349.093,349.074,349.056 ,349.035,349.004,348.982,348.962, 348.929,348.896,348.875,348.852,348.814 ,348.79,348.765,348.739,348.714,348.687 ,348.661,348.635,348.609,348.581, 348.554,348.512,348.467,348.436,348.406 ,348.39,348.324)
ORBIT_NUMBER = 21148
ORBITAL_ECCENTRICITY = 0.577
ORBITAL_INCLINATION = 87.0
ORBITAL_SEMIMAJOR_AXIS = 8770.07
PERIAPSIS_ALTITUDE = 332.55
PERIAPSIS_ARGUMENT_ANGLE = 296.59
PERIAPSIS_TIME = 2020-09-24T02:06:12.000Z
SPACECRAFT_ORIENTATION = (0.0,1.0,0.0)
^MEX_ORIENTATION_DESC = "MEX_ORIENTATION_DESC.TXT"
SPACECRAFT_POINTING_MODE = INERT
^MEX_POINTING_DESC = "MEX_POINTING_DESC.TXT"
RIGHT_ASCENSION = 3.1
DECLINATION = 35.298
OFFSET_ANGLE = -1e+32
SPACECRAFT_SOLAR_DISTANCE = 2.09457e+08
TARGET_NAME = MARS
/* CAMERA DATA ELEMENTS */
DETECTOR_TEMPERATURE = 17.7588
FOCAL_PLANE_TEMPERATURE = 8.5833
INST_CMPRS_NAME = "DISCRETE COSINE TRANSFORMATION (DCT)"
INST_CMPRS_RATIO = 7.54201
INST_CMPRS_QUALITY = 0
INST_CMPRS_QUANTZ_TBL_ID = 0
INSTRUMENT_TEMPERATURE = 11.6418
LENS_TEMPERATURE = 8.9911
MACROPIXEL_SIZE = 2
MISSING_FRAMES = 0
PIXEL_SUBSAMPLING_FLAG = N
SIGNAL_CHAIN_ID = 3
/* RADIOMETRIC DATA ELEMENTS */
BANDWIDTH = 174.0
CENTER_FILTER_WAVELENGTH = 675.0
RADIANCE_OFFSET = 3.87686
RADIANCE_SCALING_FACTOR = 0.0209646
REFLECTANCE_SCALING_FACTOR = 0.000494723
MEX:REFLECTANCE_OFFSET = 0.0914859
/* IMAGE OBJECT DEFINITIONS */
OBJECT = IMAGE
  INTERCHANGE_FORMAT = BINARY
  LINES = 35614
  LINE_SAMPLES = 4837
  SAMPLE_TYPE = UNSIGNED_INTEGER
  SAMPLE_BITS = 8
  BANDS = 1
  BAND_STORAGE_TYPE = BAND_SEQUENTIAL
  MAXIMUM = 255
  MEAN = 177.287
  MINIMUM = 1
  STANDARD_DEVIATION = 25.8251
END_OBJECT = IMAGE
/* MAP OBJECT DEFINITIONS */
OBJECT = IMAGE_MAP_PROJECTION
  ^DATA_SET_MAP_PROJECTION_CATALOG= "DSMAP.CAT"
  A_AXIS_RADIUS = 3396.0
  B_AXIS_RADIUS = 3396.0
  C_AXIS_RADIUS = 3396.0
  CENTER_LATITUDE = 0.0
  CENTER_LONGITUDE = 348.0
  COORDINATE_SYSTEM_NAME = PLANETOGRAPHIC
  COORDINATE_SYSTEM_TYPE = "BODY-FIXED ROTATING"
  EASTERNMOST_LONGITUDE = 349.471
  FIRST_STANDARD_PARALLEL = "N/A"
  LINE_FIRST_PIXEL = 1
  LINE_LAST_PIXEL = 35614
  LINE_PROJECTION_OFFSET = -110957.75
  MAP_PROJECTION_ROTATION = 0.0
  MAP_PROJECTION_TYPE = SINUSOIDAL
  MAP_RESOLUTION = 2370.85521546667
  MAP_SCALE = 0.025
  MAXIMUM_LATITUDE = -46.7835
  MINIMUM_LATITUDE = -61.7989
  POSITIVE_LONGITUDE_DIRECTION = EAST
  REFERENCE_LATITUDE = "N/A"
  REFERENCE_LONGITUDE = "N/A"
  SAMPLE_FIRST_PIXEL = 1
  SAMPLE_LAST_PIXEL = 4837
  SAMPLE_PROJECTION_OFFSET = 2297.25
  SECOND_STANDARD_PARALLEL = "N/A"
  WESTERNMOST_LONGITUDE = 345.862
END_OBJECT = IMAGE_MAP_PROJECTION
END
