PDS_VERSION_ID = PDS3
/* FILE DATA ELEMENTS */
RECORD_TYPE = UNDEFINED
/* POINTERS TO DATA OBJECTS */
^IMAGE = ("HL145_0000_S24.TIF")
/* IDENTIFICATION DATA ELEMENTS */
DATA_SET_ID = "MEX-M-HRSC-4-REFDR-MAPPROJECT-EXT7-V4.0"
DATA_SET_NAME = "MARS EXPRESS HRSC MAP PROJECTED REFDR EXTENSION7 V4.0"
DETECTOR_ID = MEX_HRSC_S2
EVENT_TYPE = "MARS-REGIONAL-MAPPING-Te-Im-Eb"
INSTRUMENT_HOST_ID = MEX
INSTRUMENT_HOST_NAME = "MARS EXPRESS"
INSTRUMENT_ID = HRSC
INSTRUMENT_NAME = "HIGH RESOLUTION STEREO CAMERA"
MISSION_NAME = "MARS EXPRESS"
MISSION_PHASE_NAME = ME_Phase_43
PROCESSING_LEVEL_ID = 4
PRODUCT_CREATION_TIME = 2023-01-29T17:38:44.000Z
PRODUCT_ID = "HL145_0000_S24.TIF"
RELEASE_ID = 0005
REVISION_ID = 0000
/* QUALITY DATA ELEMENTS */
DATA_QUALITY_ID = 1
DATA_QUALITY_DESC = "Data calculated based on original SPICE kernels"
/* TIME DATA ELEMENTS */
SPACECRAFT_CLOCK_START_COUNT = "1/0548917763.25686"
SPACECRAFT_CLOCK_STOP_COUNT = "1/0548918078.64329"
START_TIME = 2020-09-23T05:09:56.568Z
STOP_TIME = 2020-09-23T05:13:52.689Z
/* ORBITAL DATA ELEMENTS */
ASCENDING_NODE_LONGITUDE = 178.62
MAXIMUM_RESOLUTION = 0.0282
FOOTPRINT_POINT_LATITUDE = (-58.0753,-58.0509,-58.0295,-57.9982, -57.9973,-57.9198,-57.1994,-56.6219, -56.0417,-55.6071,-55.3168,-54.8805, -54.4453,-53.8524,-53.5489,-53.2448, -52.7895,-52.3357,-52.0345,-51.7315, -51.4297,-51.1281,-50.827,-50.5226, -50.0732,-49.7716,-49.321,-49.0236, -48.5739,-48.274,-47.9735,-47.6748, -47.3736,-47.0723,-46.7718,-46.4688, -46.1271,-45.7662,-45.4065,-45.0475, -44.688,-44.3363,-43.9756,-43.4342, -42.8962,-42.5397,-42.362,-42.3179, -42.3295,-42.341,-42.3476,-42.352, -42.3521,-42.3527,-42.7138,-43.0618, -43.4223,-43.7832,-44.1479,-44.6863, -45.0451,-45.4058,-45.7655,-46.1284, -46.4748,-46.7739,-47.0805,-47.3832, -47.6852,-47.9861,-48.288,-48.7392, -49.0413,-49.3412,-49.6389,-49.9406, -50.2428,-50.5452,-50.847,-51.1513, -51.4524,-51.7586,-52.0607,-52.3643, -52.6677,-52.9724,-53.4294,-53.7304, -54.0329,-54.3337,-54.6262,-55.0623, -55.3528,-55.7895,-56.081,-56.3715, -57.2404,-57.8196,-57.9646,-58.0753)
FOOTPRINT_POINT_LONGITUDE = (294.574,293.776,293.204,292.49,292.469 ,292.433,292.54,292.621,292.698,292.753 ,292.788,292.839,292.889,292.953, 292.983,293.013,293.055,293.097,293.124 ,293.149,293.175,293.2,293.224,293.247, 293.282,293.304,293.336,293.358,293.388 ,293.408,293.426,293.445,293.462, 293.478,293.495,293.51,293.525,293.542, 293.558,293.574,293.589,293.606,293.619 ,293.637,293.655,293.667,293.673, 293.674,294.107,294.667,295.065,295.517 ,295.535,295.542,295.529,295.521, 295.508,295.495,295.479,295.459,295.446 ,295.431,295.417,295.401,295.386, 295.374,295.358,295.344,295.33,295.316, 295.302,295.281,295.265,295.251,295.237 ,295.221,295.204,295.187,295.17,295.151 ,295.134,295.113,295.094,295.074, 295.053,295.031,294.998,294.977,294.955 ,294.932,294.91,294.877,294.854,294.819 ,294.795,294.77,294.695,294.642,294.628 ,294.574)
ORBIT_NUMBER = 21145
ORBITAL_ECCENTRICITY = 0.577
ORBITAL_INCLINATION = 86.99
ORBITAL_SEMIMAJOR_AXIS = 8770.89
PERIAPSIS_ALTITUDE = 332.62
PERIAPSIS_ARGUMENT_ANGLE = 297.12
PERIAPSIS_TIME = 2020-09-23T05:09:14.000Z
SPACECRAFT_ORIENTATION = (0.0,1.0,0.0)
^MEX_ORIENTATION_DESC = "MEX_ORIENTATION_DESC.TXT"
SPACECRAFT_POINTING_MODE = NADIR
^MEX_POINTING_DESC = "MEX_POINTING_DESC.TXT"
RIGHT_ASCENSION = -1e+32
DECLINATION = -1e+32
OFFSET_ANGLE = -1e+32
SPACECRAFT_SOLAR_DISTANCE = 2.09366e+08
TARGET_NAME = MARS
/* CAMERA DATA ELEMENTS */
DETECTOR_TEMPERATURE = 18.3705
FOCAL_PLANE_TEMPERATURE = 7.9716
INST_CMPRS_NAME = "DISCRETE COSINE TRANSFORMATION (DCT)"
INST_CMPRS_RATIO = 10.0617
INST_CMPRS_QUALITY = 0
INST_CMPRS_QUANTZ_TBL_ID = 0
INSTRUMENT_TEMPERATURE = 11.0301
LENS_TEMPERATURE = 8.7872
MACROPIXEL_SIZE = 2
MISSING_FRAMES = 0
PIXEL_SUBSAMPLING_FLAG = N
SIGNAL_CHAIN_ID = 1
/* RADIOMETRIC DATA ELEMENTS */
BANDWIDTH = 178.0
CENTER_FILTER_WAVELENGTH = 679.0
RADIANCE_OFFSET = 4.17568
RADIANCE_SCALING_FACTOR = 0.0175177
REFLECTANCE_SCALING_FACTOR = 0.000406647
MEX:REFLECTANCE_OFFSET = 0.0969323
/* IMAGE OBJECT DEFINITIONS */
OBJECT = IMAGE
  INTERCHANGE_FORMAT = BINARY
  LINES = 37182
  LINE_SAMPLES = 4742
  SAMPLE_TYPE = UNSIGNED_INTEGER
  SAMPLE_BITS = 8
  BANDS = 1
  BAND_STORAGE_TYPE = BAND_SEQUENTIAL
  MAXIMUM = 255
  MEAN = 165.249
  MINIMUM = 1
  STANDARD_DEVIATION = 31.1275
END_OBJECT = IMAGE
/* MAP OBJECT DEFINITIONS */
OBJECT = IMAGE_MAP_PROJECTION
  ^DATA_SET_MAP_PROJECTION_CATALOG= "DSMAP.CAT"
  A_AXIS_RADIUS = 3396.0
  B_AXIS_RADIUS = 3396.0
  C_AXIS_RADIUS = 3396.0
  CENTER_LATITUDE = 0.0
  CENTER_LONGITUDE = 294.0
  COORDINATE_SYSTEM_NAME = PLANETOGRAPHIC
  COORDINATE_SYSTEM_TYPE = "BODY-FIXED ROTATING"
  EASTERNMOST_LONGITUDE = 295.542
  FIRST_STANDARD_PARALLEL = "N/A"
  LINE_FIRST_PIXEL = 1
  LINE_LAST_PIXEL = 37182
  LINE_PROJECTION_OFFSET = -100288.75
  MAP_PROJECTION_ROTATION = 0.0
  MAP_PROJECTION_TYPE = SINUSOIDAL
  MAP_RESOLUTION = 2370.85521546667
  MAP_SCALE = 0.025
  MAXIMUM_LATITUDE = -42.3179
  MINIMUM_LATITUDE = -58.0753
  POSITIVE_LONGITUDE_DIRECTION = EAST
  REFERENCE_LATITUDE = "N/A"
  REFERENCE_LONGITUDE = "N/A"
  SAMPLE_FIRST_PIXEL = 1
  SAMPLE_LAST_PIXEL = 4742
  SAMPLE_PROJECTION_OFFSET = 1980.75
  SECOND_STANDARD_PARALLEL = "N/A"
  WESTERNMOST_LONGITUDE = 292.433
END_OBJECT = IMAGE_MAP_PROJECTION
END
