PDS_VERSION_ID = PDS3
/* FILE DATA ELEMENTS */
RECORD_TYPE = UNDEFINED
/* POINTERS TO DATA OBJECTS */
^IMAGE = ("HL139_0000_P14.TIF")
/* IDENTIFICATION DATA ELEMENTS */
DATA_SET_ID = "MEX-M-HRSC-4-REFDR-MAPPROJECT-EXT7-V4.0"
DATA_SET_NAME = "MARS EXPRESS HRSC MAP PROJECTED REFDR EXTENSION7 V4.0"
DETECTOR_ID = MEX_HRSC_P1
EVENT_TYPE = "MARS-REGIONAL-MAPPING-Te-Im-Gl"
INSTRUMENT_HOST_ID = MEX
INSTRUMENT_HOST_NAME = "MARS EXPRESS"
INSTRUMENT_ID = HRSC
INSTRUMENT_NAME = "HIGH RESOLUTION STEREO CAMERA"
MISSION_NAME = "MARS EXPRESS"
MISSION_PHASE_NAME = ME_Phase_43
PROCESSING_LEVEL_ID = 4
PRODUCT_CREATION_TIME = 2023-01-29T17:38:44.000Z
PRODUCT_ID = "HL139_0000_P14.TIF"
RELEASE_ID = 0005
REVISION_ID = 0000
/* QUALITY DATA ELEMENTS */
DATA_QUALITY_ID = 1
DATA_QUALITY_DESC = "Data calculated based on original SPICE kernels"
/* TIME DATA ELEMENTS */
SPACECRAFT_CLOCK_START_COUNT = "1/0548766934.23972"
SPACECRAFT_CLOCK_STOP_COUNT = "1/0548767191.54166"
START_TIME = 2020-09-21T11:16:57.537Z
STOP_TIME = 2020-09-21T11:20:09.402Z
/* ORBITAL DATA ELEMENTS */
ASCENDING_NODE_LONGITUDE = 178.73
MAXIMUM_RESOLUTION = 0.028 <m/pixel>
FOOTPRINT_POINT_LATITUDE = (-55.5787,-55.5627,-55.5368,-55.5162, -55.5155,-55.5603,-55.2184,-54.9873, -54.7598,-54.5324,-54.305,-54.0779, -53.8509,-53.624,-53.3975,-53.1701, -52.9439,-52.7155,-52.4897,-52.264, -52.0396,-51.7009,-51.3642,-51.1392, -50.8031,-50.4691,-50.0205,-49.5745, -49.2404,-48.7694,-48.5042,-48.1064, -47.8421,-47.5787,-47.184,-46.9219, -46.5291,-46.2672,-46.0059,-45.745, -45.4843,-45.2239,-44.9641,-44.7049, -44.4476,-44.1865,-43.9287,-43.6722, -43.544,-43.5183,-43.5235,-43.5313, -43.5372,-43.5511,-43.5516,-43.5521, -43.8072,-44.064,-44.3233,-44.584, -44.842,-45.0997,-45.4903,-45.7542, -46.0178,-46.2807,-46.6746,-47.0667, -47.3282,-47.5893,-47.855,-48.2583, -48.5265,-48.7934,-49.2687,-49.6036, -50.0509,-50.3871,-50.6114,-50.8354, -51.0589,-51.2839,-51.6203,-51.8453, -52.0719,-52.299,-52.5292,-52.7581, -52.9849,-53.2104,-53.4375,-53.6649, -53.8923,-54.3427,-54.5712,-54.9139, -55.26,-55.4886,-55.6032,-55.5787)
FOOTPRINT_POINT_LONGITUDE = (187.632,187.022,186.197,185.628, 185.609,185.558,185.598,185.625,185.65, 185.675,185.7,185.724,185.747,185.77, 185.793,185.816,185.837,185.86,185.881, 185.901,185.92,185.949,185.976,185.994, 186.02,186.043,186.077,186.107,186.129, 186.159,186.175,186.199,186.214,186.228 ,186.249,186.262,186.28,186.292,186.304 ,186.315,186.326,186.337,186.347, 186.357,186.365,186.376,186.384,186.392 ,186.395,186.396,186.836,187.292,187.9, 188.342,188.361,188.368,188.355,188.344 ,188.333,188.323,188.311,188.298, 188.281,188.271,188.26,188.249,188.231, 188.21,188.196,188.181,188.169,188.152, 188.14,188.127,188.101,188.082,188.057, 188.037,188.024,188.01,187.995,187.981, 187.958,187.943,187.929,187.915,187.902 ,187.889,187.873,187.856,187.84,187.824 ,187.807,187.769,187.752,187.725, 187.697,187.678,187.669,187.632)
ORBIT_NUMBER = 21139
ORBITAL_ECCENTRICITY = 0.577
ORBITAL_INCLINATION = 87.0
ORBITAL_SEMIMAJOR_AXIS = 8772.15
PERIAPSIS_ALTITUDE = 332.56
PERIAPSIS_ARGUMENT_ANGLE = 298.12
PERIAPSIS_TIME = 2020-09-21T11:15:04.000Z
SPACECRAFT_ORIENTATION = (0.0,1.0,0.0)
^MEX_ORIENTATION_DESC = "MEX_ORIENTATION_DESC.TXT"
SPACECRAFT_POINTING_MODE = NADIR
^MEX_POINTING_DESC = "MEX_POINTING_DESC.TXT"
RIGHT_ASCENSION = -1e+32
DECLINATION = -1e+32
OFFSET_ANGLE = -1e+32
SPACECRAFT_SOLAR_DISTANCE = 2.09188e+08
TARGET_NAME = MARS
/* CAMERA DATA ELEMENTS */
DETECTOR_TEMPERATURE = 17.351 <degC>
FOCAL_PLANE_TEMPERATURE = 8.7872 <degC>
INST_CMPRS_NAME = "DISCRETE COSINE TRANSFORMATION (DCT)"
INST_CMPRS_RATIO = 10.25
INST_CMPRS_QUALITY = 0
INST_CMPRS_QUANTZ_TBL_ID = 0
INSTRUMENT_TEMPERATURE = 11.6418 <degC>
LENS_TEMPERATURE = 9.195 <degC>
MACROPIXEL_SIZE = 2
MISSING_FRAMES = 1
PIXEL_SUBSAMPLING_FLAG = N
SIGNAL_CHAIN_ID = 3
/* RADIOMETRIC DATA ELEMENTS */
BANDWIDTH = 174.0 <nm>
CENTER_FILTER_WAVELENGTH = 675.0 <nm>
RADIANCE_OFFSET = 5.15198 <W*m**-2*sr**-1>
RADIANCE_SCALING_FACTOR = 0.024971 <W*m**-2*sr**-1>
REFLECTANCE_SCALING_FACTOR = 0.000587754
MEX:REFLECTANCE_OFFSET = 0.121264
/* IMAGE OBJECT DEFINITIONS */
OBJECT = IMAGE
  INTERCHANGE_FORMAT = BINARY
  LINES = 28699
  LINE_SAMPLES = 4209
  SAMPLE_TYPE = UNSIGNED_INTEGER
  SAMPLE_BITS = 8
  BANDS = 1
  BAND_STORAGE_TYPE = BAND_SEQUENTIAL
  MAXIMUM = 255
  MEAN = 140.169
  MINIMUM = 1
  STANDARD_DEVIATION = 39.991
END_OBJECT = IMAGE
/* MAP OBJECT DEFINITIONS */
OBJECT = IMAGE_MAP_PROJECTION
  ^DATA_SET_MAP_PROJECTION_CATALOG= "DSMAP.CAT"
  A_AXIS_RADIUS = 3396.0 <km>
  B_AXIS_RADIUS = 3396.0 <km>
  C_AXIS_RADIUS = 3396.0 <km>
  CENTER_LATITUDE = 0.0
  CENTER_LONGITUDE = 187.0
  COORDINATE_SYSTEM_NAME = PLANETOGRAPHIC
  COORDINATE_SYSTEM_TYPE = "BODY-FIXED ROTATING"
  EASTERNMOST_LONGITUDE = 188.368
  FIRST_STANDARD_PARALLEL = "N/A"
  LINE_FIRST_PIXEL = 1
  LINE_LAST_PIXEL = 28699
  LINE_PROJECTION_OFFSET = -103188.75
  MAP_PROJECTION_ROTATION = 0.0
  MAP_PROJECTION_TYPE = SINUSOIDAL
  MAP_RESOLUTION = 2370.85521546667 <pixel/degree>
  MAP_SCALE = 0.025 <km/pixel>
  MAXIMUM_LATITUDE = -43.5183
  MINIMUM_LATITUDE = -55.6032
  POSITIVE_LONGITUDE_DIRECTION = EAST
  REFERENCE_LATITUDE = "N/A"
  REFERENCE_LONGITUDE = "N/A"
  SAMPLE_FIRST_PIXEL = 1
  SAMPLE_LAST_PIXEL = 4209
  SAMPLE_PROJECTION_OFFSET = 1922.25
  SECOND_STANDARD_PARALLEL = "N/A"
  WESTERNMOST_LONGITUDE = 185.558
END_OBJECT = IMAGE_MAP_PROJECTION
END
