PDS_VERSION_ID = PDS3
/* FILE DATA ELEMENTS */
RECORD_TYPE = UNDEFINED
/* POINTERS TO DATA OBJECTS */
^IMAGE = ("HL138_0000_P14.TIF")
/* IDENTIFICATION DATA ELEMENTS */
DATA_SET_ID = "MEX-M-HRSC-4-REFDR-MAPPROJECT-EXT7-V4.0"
DATA_SET_NAME = "MARS EXPRESS HRSC MAP PROJECTED REFDR EXTENSION7 V4.0"
DETECTOR_ID = MEX_HRSC_P1
EVENT_TYPE = "MARS-REGIONAL-COLOR-Eb-La-Ts"
INSTRUMENT_HOST_ID = MEX
INSTRUMENT_HOST_NAME = "MARS EXPRESS"
INSTRUMENT_ID = HRSC
INSTRUMENT_NAME = "HIGH RESOLUTION STEREO CAMERA"
MISSION_NAME = "MARS EXPRESS"
MISSION_PHASE_NAME = ME_Phase_43
PROCESSING_LEVEL_ID = 4
PRODUCT_CREATION_TIME = 2023-01-29T17:38:44.000Z
PRODUCT_ID = "HL138_0000_P14.TIF"
RELEASE_ID = 0005
REVISION_ID = 0000
/* QUALITY DATA ELEMENTS */
DATA_QUALITY_ID = 1
DATA_QUALITY_DESC = "Data calculated based on original SPICE kernels"
/* TIME DATA ELEMENTS */
SPACECRAFT_CLOCK_START_COUNT = "1/0548741903.25682"
SPACECRAFT_CLOCK_STOP_COUNT = "1/0548742206.57973"
START_TIME = 2020-09-21T04:19:51.213Z
STOP_TIME = 2020-09-21T04:23:39.705Z
/* ORBITAL DATA ELEMENTS */
ASCENDING_NODE_LONGITUDE = 178.75
MAXIMUM_RESOLUTION = 0.0304
FOOTPRINT_POINT_LATITUDE = (-48.3048,-48.2943,-48.2764,-48.2617, -48.2611,-48.2894,-48.0248,-47.7605, -47.3639,-47.1004,-46.8371,-46.5751, -46.3129,-46.0505,-45.7874,-45.5257, -45.2649,-44.8759,-44.6165,-44.3576, -43.7117,-43.1955,-42.802,-42.5384, -42.2754,-42.0129,-41.6114,-41.3435, -41.076,-40.8069,-40.5331,-40.2603, -39.9878,-39.5723,-39.2945,-39.0171, -38.7316,-38.4487,-38.1667,-37.8814, -37.5937,-37.3067,-37.0164,-36.7221, -36.4363,-35.9923,-35.6961,-35.3942, -35.0928,-34.7922,-34.6391,-34.5898, -34.5939,-34.5982,-34.6,-34.6004, -34.6004,-34.601,-34.9063,-35.2081, -35.66,-36.1053,-36.402,-36.694,-36.987 ,-37.2792,-37.7115,-38.0023,-38.2826, -38.566,-38.85,-39.2736,-39.5519, -39.8308,-40.1069,-40.3791,-40.653, -41.0614,-41.3293,-41.5984,-41.8678, -42.2667,-42.5306,-42.9279,-43.1953, -43.7074,-44.2251,-44.8751,-45.1356, -45.397,-45.7893,-46.1808,-46.4471, -46.7143,-46.9776,-47.3722,-47.7623, -48.1608,-48.2937,-48.3048)
FOOTPRINT_POINT_LONGITUDE = (290.234,289.663,288.889,288.355, 288.337,288.308,288.323,288.338,288.36, 288.374,288.388,288.4,288.413,288.425, 288.438,288.45,288.461,288.475,288.485, 288.494,288.516,288.532,288.544,288.552 ,288.559,288.565,288.575,288.58,288.586 ,288.591,288.597,288.601,288.606, 288.612,288.616,288.619,288.622,288.625 ,288.628,288.63,288.632,288.633,288.635 ,288.637,288.634,288.635,288.635, 288.636,288.635,288.634,288.634,288.633 ,289.044,289.7,290.132,290.728,290.748, 290.756,290.748,290.74,290.728,290.716, 290.708,290.699,290.691,290.683,290.671 ,290.664,290.653,290.645,290.636, 290.623,290.614,290.605,290.597,290.587 ,290.578,290.564,290.554,290.545, 290.535,290.522,290.512,290.498,290.491 ,290.468,290.446,290.419,290.408, 290.396,290.379,290.36,290.35,290.34, 290.328,290.308,290.284,290.264,290.257 ,290.234)
ORBIT_NUMBER = 21138
ORBITAL_ECCENTRICITY = 0.577
ORBITAL_INCLINATION = 86.98
ORBITAL_SEMIMAJOR_AXIS = 8772.74
PERIAPSIS_ALTITUDE = 332.49
PERIAPSIS_ARGUMENT_ANGLE = 298.3
PERIAPSIS_TIME = 2020-09-21T04:16:06.000Z
SPACECRAFT_ORIENTATION = (0.0,1.0,0.0)
^MEX_ORIENTATION_DESC = "MEX_ORIENTATION_DESC.TXT"
SPACECRAFT_POINTING_MODE = NADIR
^MEX_POINTING_DESC = "MEX_POINTING_DESC.TXT"
RIGHT_ASCENSION = -1e+32
DECLINATION = -1e+32
OFFSET_ANGLE = -1e+32
SPACECRAFT_SOLAR_DISTANCE = 2.09159e+08
TARGET_NAME = MARS
/* CAMERA DATA ELEMENTS */
DETECTOR_TEMPERATURE = 16.9432
FOCAL_PLANE_TEMPERATURE = 7.9716
INST_CMPRS_NAME = "DISCRETE COSINE TRANSFORMATION (DCT)"
INST_CMPRS_RATIO = 10.133
INST_CMPRS_QUALITY = 0
INST_CMPRS_QUANTZ_TBL_ID = 0
INSTRUMENT_TEMPERATURE = 10.6223
LENS_TEMPERATURE = 9.195
MACROPIXEL_SIZE = 2
MISSING_FRAMES = 1
PIXEL_SUBSAMPLING_FLAG = N
SIGNAL_CHAIN_ID = 3
/* RADIOMETRIC DATA ELEMENTS */
BANDWIDTH = 174.0
CENTER_FILTER_WAVELENGTH = 675.0
RADIANCE_OFFSET = 5.18964
RADIANCE_SCALING_FACTOR = 0.0148357
REFLECTANCE_SCALING_FACTOR = 0.000349097
MEX:REFLECTANCE_OFFSET = 0.122117
/* IMAGE OBJECT DEFINITIONS */
OBJECT = IMAGE
  INTERCHANGE_FORMAT = BINARY
  LINES = 32622
  LINE_SAMPLES = 4003
  SAMPLE_TYPE = UNSIGNED_INTEGER
  SAMPLE_BITS = 8
  BANDS = 1
  BAND_STORAGE_TYPE = BAND_SEQUENTIAL
  MAXIMUM = 255
  MEAN = 128.346
  MINIMUM = 1
  STANDARD_DEVIATION = 29.4695
END_OBJECT = IMAGE
/* MAP OBJECT DEFINITIONS */
OBJECT = IMAGE_MAP_PROJECTION
  ^DATA_SET_MAP_PROJECTION_CATALOG= "DSMAP.CAT"
  A_AXIS_RADIUS = 3396.0
  B_AXIS_RADIUS = 3396.0
  C_AXIS_RADIUS = 3396.0
  CENTER_LATITUDE = 0.0
  CENTER_LONGITUDE = 290.0
  COORDINATE_SYSTEM_NAME = PLANETOGRAPHIC
  COORDINATE_SYSTEM_TYPE = "BODY-FIXED ROTATING"
  EASTERNMOST_LONGITUDE = 290.756
  FIRST_STANDARD_PARALLEL = "N/A"
  LINE_FIRST_PIXEL = 1
  LINE_LAST_PIXEL = 32622
  LINE_PROJECTION_OFFSET = -82030.75
  MAP_PROJECTION_ROTATION = 0.0
  MAP_PROJECTION_TYPE = SINUSOIDAL
  MAP_RESOLUTION = 2370.85521546667
  MAP_SCALE = 0.025
  MAXIMUM_LATITUDE = -34.5898
  MINIMUM_LATITUDE = -48.3048
  POSITIVE_LONGITUDE_DIRECTION = EAST
  REFERENCE_LATITUDE = "N/A"
  REFERENCE_LONGITUDE = "N/A"
  SAMPLE_FIRST_PIXEL = 1
  SAMPLE_LAST_PIXEL = 4003
  SAMPLE_PROJECTION_OFFSET = 2639.25
  SECOND_STANDARD_PARALLEL = "N/A"
  WESTERNMOST_LONGITUDE = 288.308
END_OBJECT = IMAGE_MAP_PROJECTION
END
