PDS_VERSION_ID = PDS3
/* FILE DATA ELEMENTS */
RECORD_TYPE = UNDEFINED
/* POINTERS TO DATA OBJECTS */
^IMAGE = ("HL099_0000_BL4.TIF")
/* IDENTIFICATION DATA ELEMENTS */
DATA_SET_ID = "MEX-M-HRSC-4-REFDR-MAPPROJECT-EXT7-V4.0"
DATA_SET_NAME = "MARS EXPRESS HRSC MAP PROJECTED REFDR EXTENSION7 V4.0"
DETECTOR_ID = MEX_HRSC_BLUE
EVENT_TYPE = "MARS-REGIONAL-MAPPING-Im-Gl-Pf"
INSTRUMENT_HOST_ID = MEX
INSTRUMENT_HOST_NAME = "MARS EXPRESS"
INSTRUMENT_ID = HRSC
INSTRUMENT_NAME = "HIGH RESOLUTION STEREO CAMERA"
MISSION_NAME = "MARS EXPRESS"
MISSION_PHASE_NAME = ME_Phase_43
PROCESSING_LEVEL_ID = 4
PRODUCT_CREATION_TIME = 2023-01-29T17:38:44.000Z
PRODUCT_ID = "HL099_0000_BL4.TIF"
RELEASE_ID = 0005
REVISION_ID = 0000
/* QUALITY DATA ELEMENTS */
DATA_QUALITY_ID = 1
DATA_QUALITY_DESC = "Data calculated based on original SPICE kernels"
/* TIME DATA ELEMENTS */
SPACECRAFT_CLOCK_START_COUNT = "1/0547761251.25666"
SPACECRAFT_CLOCK_STOP_COUNT = "1/0547761537.34179"
START_TIME = 2020-09-09T19:55:09.700Z
STOP_TIME = 2020-09-09T19:58:48.164Z
/* ORBITAL DATA ELEMENTS */
ASCENDING_NODE_LONGITUDE = 179.45
MAXIMUM_RESOLUTION = 0.0535
FOOTPRINT_POINT_LATITUDE = (-55.7876,-55.7607,-55.7303,-55.6846, -55.6834,-55.6618,-55.1087,-54.8251, -54.5446,-53.9883,-53.709,-53.4296, -53.1513,-52.8725,-52.455,-51.8979, -51.4798,-51.0619,-50.6435,-50.3643, -50.0857,-49.8008,-49.5126,-49.2245, -48.9366,-48.649,-48.3624,-47.9327, -47.6427,-47.3547,-47.0728,-46.786, -46.4942,-46.2056,-45.7768,-45.4873, -45.059,-44.7702,-44.4842,-44.0556, -43.7694,-43.486,-43.2004,-42.9137, -42.6254,-42.1968,-41.9109,-41.6256, -41.4831,-41.454,-41.4792,-41.495, -41.5159,-41.5163,-41.5173,-41.8016, -42.088,-42.5161,-42.8024,-43.089, -43.3763,-43.6634,-43.9518,-44.3841, -44.6686,-44.9552,-45.2445,-45.53, -45.818,-46.1071,-46.5383,-46.826, -47.1143,-47.5471,-47.9803,-48.2691, -48.5579,-48.8472,-49.2808,-49.5696, -49.8586,-50.1462,-50.4259,-50.7057, -51.1252,-51.405,-51.8245,-52.1045, -52.3843,-52.664,-52.9437,-53.3633, -53.7822,-54.2021,-54.482,-54.9019, -55.1811,-55.6018,-55.7407,-55.7876)
FOOTPRINT_POINT_LONGITUDE = (311.147,310.559,309.959,309.153, 309.133,309.028,309.137,309.156,309.19, 309.278,309.316,309.352,309.394,309.432 ,309.492,309.567,309.619,309.672, 309.721,309.751,309.783,309.815,309.845 ,309.875,309.904,309.935,309.969, 310.019,310.036,310.06,310.111,310.139, 310.144,310.162,310.204,310.216,310.258 ,310.27,310.293,310.328,310.347,310.378 ,310.398,310.412,310.418,310.441, 310.455,310.47,310.477,310.478,311.104, 311.54,312.189,312.204,312.209,312.195, 312.181,312.158,312.144,312.129,312.114 ,312.098,312.084,312.061,312.042, 312.025,312.009,311.989,311.972,311.955 ,311.926,311.907,311.888,311.859, 311.829,311.809,311.788,311.767,311.735 ,311.712,311.69,311.667,311.645,311.622 ,311.586,311.562,311.525,311.5,311.474, 311.448,311.421,311.38,311.338,311.295, 311.266,311.222,311.191,311.145,311.128 ,311.147)
ORBIT_NUMBER = 21099
ORBITAL_ECCENTRICITY = 0.577
ORBITAL_INCLINATION = 86.99
ORBITAL_SEMIMAJOR_AXIS = 8781.03
PERIAPSIS_ALTITUDE = 332.73
PERIAPSIS_ARGUMENT_ANGLE = 304.93
PERIAPSIS_TIME = 2020-09-09T19:55:28.000Z
SPACECRAFT_ORIENTATION = (0.0,1.0,0.0)
^MEX_ORIENTATION_DESC = "MEX_ORIENTATION_DESC.TXT"
SPACECRAFT_POINTING_MODE = ACROSSTRACK
^MEX_POINTING_DESC = "MEX_POINTING_DESC.TXT"
RIGHT_ASCENSION = -1e+32
DECLINATION = -1e+32
OFFSET_ANGLE = 0.83
SPACECRAFT_SOLAR_DISTANCE = 2.08145e+08
TARGET_NAME = MARS
/* CAMERA DATA ELEMENTS */
DETECTOR_TEMPERATURE = 17.9627
FOCAL_PLANE_TEMPERATURE = 8.7872
INST_CMPRS_NAME = "DISCRETE COSINE TRANSFORMATION (DCT)"
INST_CMPRS_RATIO = 5.37619
INST_CMPRS_QUALITY = 0
INST_CMPRS_QUANTZ_TBL_ID = 0
INSTRUMENT_TEMPERATURE = 11.4379
LENS_TEMPERATURE = 8.7872
MACROPIXEL_SIZE = 4
MISSING_FRAMES = 0
PIXEL_SUBSAMPLING_FLAG = N
SIGNAL_CHAIN_ID = 2
/* RADIOMETRIC DATA ELEMENTS */
BANDWIDTH = 76.0
CENTER_FILTER_WAVELENGTH = 444.0
RADIANCE_OFFSET = 0.783087
RADIANCE_SCALING_FACTOR = 0.00163956
REFLECTANCE_SCALING_FACTOR = 7.29824e-05
MEX:REFLECTANCE_OFFSET = 0.0348578
/* IMAGE OBJECT DEFINITIONS */
OBJECT = IMAGE
  INTERCHANGE_FORMAT = BINARY
  LINES = 16957
  LINE_SAMPLES = 2411
  SAMPLE_TYPE = UNSIGNED_INTEGER
  SAMPLE_BITS = 8
  BANDS = 1
  BAND_STORAGE_TYPE = BAND_SEQUENTIAL
  MAXIMUM = 255
  MEAN = 172.09
  MINIMUM = 1
  STANDARD_DEVIATION = 25.4052
END_OBJECT = IMAGE
/* MAP OBJECT DEFINITIONS */
OBJECT = IMAGE_MAP_PROJECTION
  ^DATA_SET_MAP_PROJECTION_CATALOG= "DSMAP.CAT"
  A_AXIS_RADIUS = 3396.0
  B_AXIS_RADIUS = 3396.0
  C_AXIS_RADIUS = 3396.0
  CENTER_LATITUDE = 0.0
  CENTER_LONGITUDE = 311.0
  COORDINATE_SYSTEM_NAME = PLANETOGRAPHIC
  COORDINATE_SYSTEM_TYPE = "BODY-FIXED ROTATING"
  EASTERNMOST_LONGITUDE = 312.209
  FIRST_STANDARD_PARALLEL = "N/A"
  LINE_FIRST_PIXEL = 1
  LINE_LAST_PIXEL = 16957
  LINE_PROJECTION_OFFSET = -49143.125
  MAP_PROJECTION_ROTATION = 0.0
  MAP_PROJECTION_TYPE = SINUSOIDAL
  MAP_RESOLUTION = 1185.42760773333
  MAP_SCALE = 0.05
  MAXIMUM_LATITUDE = -41.454
  MINIMUM_LATITUDE = -55.7876
  POSITIVE_LONGITUDE_DIRECTION = EAST
  REFERENCE_LATITUDE = "N/A"
  REFERENCE_LONGITUDE = "N/A"
  SAMPLE_FIRST_PIXEL = 1
  SAMPLE_LAST_PIXEL = 2411
  SAMPLE_PROJECTION_OFFSET = 1332.125
  SECOND_STANDARD_PARALLEL = "N/A"
  WESTERNMOST_LONGITUDE = 309.028
END_OBJECT = IMAGE_MAP_PROJECTION
END
