PDS_VERSION_ID = PDS3
/* FILE DATA ELEMENTS */
RECORD_TYPE = UNDEFINED
/* POINTERS TO DATA OBJECTS */
^IMAGE = ("HL093_0000_S24.TIF")
/* IDENTIFICATION DATA ELEMENTS */
DATA_SET_ID = "MEX-M-HRSC-4-REFDR-MAPPROJECT-EXT7-V4.0"
DATA_SET_NAME = "MARS EXPRESS HRSC MAP PROJECTED REFDR EXTENSION7 V4.0"
DETECTOR_ID = MEX_HRSC_S2
EVENT_TYPE = "MARS-REGIONAL-MAPPING-Te-Im-Gl"
INSTRUMENT_HOST_ID = MEX
INSTRUMENT_HOST_NAME = "MARS EXPRESS"
INSTRUMENT_ID = HRSC
INSTRUMENT_NAME = "HIGH RESOLUTION STEREO CAMERA"
MISSION_NAME = "MARS EXPRESS"
MISSION_PHASE_NAME = ME_Phase_43
PROCESSING_LEVEL_ID = 4
PRODUCT_CREATION_TIME = 2023-01-29T17:38:44.000Z
PRODUCT_ID = "HL093_0000_S24.TIF"
RELEASE_ID = 0005
REVISION_ID = 0000
/* QUALITY DATA ELEMENTS */
DATA_QUALITY_ID = 1
DATA_QUALITY_DESC = "Data calculated based on original SPICE kernels"
/* TIME DATA ELEMENTS */
SPACECRAFT_CLOCK_START_COUNT = "1/0547610222.23985"
SPACECRAFT_CLOCK_STOP_COUNT = "1/0547610603.16786"
START_TIME = 2020-09-08T01:57:35.509Z
STOP_TIME = 2020-09-08T02:02:52.969Z
/* ORBITAL DATA ELEMENTS */
ASCENDING_NODE_LONGITUDE = 179.56
MAXIMUM_RESOLUTION = 0.028
FOOTPRINT_POINT_LATITUDE = (-66.9853,-66.9339,-66.8744,-66.793, -66.7906,-66.6856,-66.0031,-65.5459, -64.8572,-64.3969,-63.9603,-63.5714, -63.1815,-62.596,-62.2058,-61.8147, -61.422,-61.0255,-60.632,-60.2355, -59.8368,-59.4379,-59.0392,-58.6407, -58.2405,-57.8389,-57.4236,-57.0205, -56.6211,-56.0356,-55.6404,-55.2468, -54.8524,-54.4575,-54.0626,-53.6673, -53.0738,-52.4784,-51.6812,-51.0834, -50.68,-50.0877,-49.6883,-49.2908, -48.8922,-48.4874,-48.0901,-47.6867, -47.0814,-46.6742,-46.4726,-46.4582, -46.5087,-46.5431,-46.5437,-46.5443, -46.9545,-47.3583,-47.7609,-48.3557, -48.758,-49.1676,-49.5661,-49.9657, -50.5655,-50.9652,-51.3651,-51.9656, -52.3665,-52.7656,-53.1657,-53.7618, -54.1582,-54.5538,-54.9506,-55.3461, -55.9388,-56.531,-56.9356,-57.5453, -58.1508,-58.5549,-59.1566,-59.5584, -59.9604,-60.5608,-61.1593,-61.754, -62.3465,-62.7422,-63.1245,-63.5206, -64.1199,-64.7894,-65.255,-65.7191, -66.1819,-66.6433,-66.8736,-66.9853)
FOOTPRINT_POINT_LONGITUDE = (203.202,202.189,201.173,199.961, 199.929,199.846,200.12,200.293,200.54, 200.697,200.838,200.96,201.077,201.247, 201.356,201.462,201.564,201.661,201.757 ,201.849,201.937,202.022,202.106, 202.187,202.266,202.341,202.405,202.476 ,202.547,202.647,202.706,202.765, 202.822,202.877,202.931,202.983,203.059 ,203.13,203.219,203.283,203.321,203.385 ,203.423,203.461,203.497,203.529, 203.564,203.595,203.639,203.665,203.679 ,203.68,204.615,205.372,205.388,205.394 ,205.373,205.353,205.333,205.303, 205.282,205.257,205.235,205.212,205.176 ,205.151,205.126,205.086,205.058,205.03 ,205.001,204.956,204.926,204.895, 204.862,204.829,204.777,204.724,204.685 ,204.626,204.565,204.522,204.457, 204.411,204.364,204.291,204.215,204.136 ,204.054,203.996,203.943,203.88,203.78, 203.666,203.583,203.496,203.406,203.312 ,203.263,203.202)
ORBIT_NUMBER = 21093
ORBITAL_ECCENTRICITY = 0.577
ORBITAL_INCLINATION = 87.0
ORBITAL_SEMIMAJOR_AXIS = 8782.83
PERIAPSIS_ALTITUDE = 332.43
PERIAPSIS_ARGUMENT_ANGLE = 305.93
PERIAPSIS_TIME = 2020-09-08T02:01:30.000Z
SPACECRAFT_ORIENTATION = (0.0,1.0,0.0)
^MEX_ORIENTATION_DESC = "MEX_ORIENTATION_DESC.TXT"
SPACECRAFT_POINTING_MODE = ACROSSTRACK
^MEX_POINTING_DESC = "MEX_POINTING_DESC.TXT"
RIGHT_ASCENSION = -1e+32
DECLINATION = -1e+32
OFFSET_ANGLE = 0.35
SPACECRAFT_SOLAR_DISTANCE = 2.08011e+08
TARGET_NAME = MARS
/* CAMERA DATA ELEMENTS */
DETECTOR_TEMPERATURE = 18.3705
FOCAL_PLANE_TEMPERATURE = 8.7872
INST_CMPRS_NAME = "DISCRETE COSINE TRANSFORMATION (DCT)"
INST_CMPRS_RATIO = 10.8794
INST_CMPRS_QUALITY = 0
INST_CMPRS_QUANTZ_TBL_ID = 0
INSTRUMENT_TEMPERATURE = 11.234
LENS_TEMPERATURE = 9.195
MACROPIXEL_SIZE = 2
MISSING_FRAMES = 0
PIXEL_SUBSAMPLING_FLAG = N
SIGNAL_CHAIN_ID = 1
/* RADIOMETRIC DATA ELEMENTS */
BANDWIDTH = 178.0
CENTER_FILTER_WAVELENGTH = 679.0
RADIANCE_OFFSET = 4.32133
RADIANCE_SCALING_FACTOR = 0.020945
REFLECTANCE_SCALING_FACTOR = 0.000479936
MEX:REFLECTANCE_OFFSET = 0.0990196
/* IMAGE OBJECT DEFINITIONS */
OBJECT = IMAGE
  INTERCHANGE_FORMAT = BINARY
  LINES = 48314
  LINE_SAMPLES = 6120
  SAMPLE_TYPE = UNSIGNED_INTEGER
  SAMPLE_BITS = 8
  BANDS = 1
  BAND_STORAGE_TYPE = BAND_SEQUENTIAL
  MAXIMUM = 255
  MEAN = 151.857
  MINIMUM = 1
  STANDARD_DEVIATION = 28.9294
END_OBJECT = IMAGE
/* MAP OBJECT DEFINITIONS */
OBJECT = IMAGE_MAP_PROJECTION
  ^DATA_SET_MAP_PROJECTION_CATALOG= "DSMAP.CAT"
  A_AXIS_RADIUS = 3396.0
  B_AXIS_RADIUS = 3396.0
  C_AXIS_RADIUS = 3396.0
  CENTER_LATITUDE = 0.0
  CENTER_LONGITUDE = 204.0
  COORDINATE_SYSTEM_NAME = PLANETOGRAPHIC
  COORDINATE_SYSTEM_TYPE = "BODY-FIXED ROTATING"
  EASTERNMOST_LONGITUDE = 205.394
  FIRST_STANDARD_PARALLEL = "N/A"
  LINE_FIRST_PIXEL = 1
  LINE_LAST_PIXEL = 48314
  LINE_PROJECTION_OFFSET = -110164.75
  MAP_PROJECTION_ROTATION = 0.0
  MAP_PROJECTION_TYPE = SINUSOIDAL
  MAP_RESOLUTION = 2370.85521546667
  MAP_SCALE = 0.025
  MAXIMUM_LATITUDE = -46.4582
  MINIMUM_LATITUDE = -66.9853
  POSITIVE_LONGITUDE_DIRECTION = EAST
  REFERENCE_LATITUDE = "N/A"
  REFERENCE_LONGITUDE = "N/A"
  SAMPLE_FIRST_PIXEL = 1
  SAMPLE_LAST_PIXEL = 6120
  SAMPLE_PROJECTION_OFFSET = 3830.75
  SECOND_STANDARD_PARALLEL = "N/A"
  WESTERNMOST_LONGITUDE = 199.846
END_OBJECT = IMAGE_MAP_PROJECTION
END
