PDS_VERSION_ID = PDS3
/* FILE DATA ELEMENTS */
RECORD_TYPE = UNDEFINED
/* POINTERS TO DATA OBJECTS */
^IMAGE = ("HL092_0000_S24.TIF")
/* IDENTIFICATION DATA ELEMENTS */
DATA_SET_ID = "MEX-M-HRSC-4-REFDR-MAPPROJECT-EXT7-V4.0"
DATA_SET_NAME = "MARS EXPRESS HRSC MAP PROJECTED REFDR EXTENSION7 V4.0"
DETECTOR_ID = MEX_HRSC_S2
EVENT_TYPE = "MARS-REGIONAL-MAPPING-Im-Gl-Pf"
INSTRUMENT_HOST_ID = MEX
INSTRUMENT_HOST_NAME = "MARS EXPRESS"
INSTRUMENT_ID = HRSC
INSTRUMENT_NAME = "HIGH RESOLUTION STEREO CAMERA"
MISSION_NAME = "MARS EXPRESS"
MISSION_PHASE_NAME = ME_Phase_43
PROCESSING_LEVEL_ID = 4
PRODUCT_CREATION_TIME = 2023-01-29T17:38:44.000Z
PRODUCT_ID = "HL092_0000_S24.TIF"
RELEASE_ID = 0005
REVISION_ID = 0000
/* QUALITY DATA ELEMENTS */
DATA_QUALITY_ID = 1
DATA_QUALITY_DESC = "Data calculated based on original SPICE kernels"
/* TIME DATA ELEMENTS */
SPACECRAFT_CLOCK_START_COUNT = "1/0547585297.24920"
SPACECRAFT_CLOCK_STOP_COUNT = "1/0547585614.50154"
START_TIME = 2020-09-07T19:02:10.506Z
STOP_TIME = 2020-09-07T19:06:14.624Z
/* ORBITAL DATA ELEMENTS */
ASCENDING_NODE_LONGITUDE = 179.58
MAXIMUM_RESOLUTION = 0.0283
FOOTPRINT_POINT_LATITUDE = (-53.4582,-53.42,-53.3772,-53.3201, -53.3185,-53.2306,-52.7667,-52.4497, -51.8403,-51.5205,-51.2115,-50.7477, -50.2821,-49.8101,-49.4956,-49.1837, -48.7174,-48.2524,-47.9325,-47.4733, -47.1567,-46.8498,-46.5305,-46.2191, -45.8837,-45.5632,-45.2354,-44.9159, -44.5852,-44.1055,-43.6116,-43.2909, -42.9607,-42.6229,-42.2965,-41.981, -41.6531,-41.1658,-40.8398,-40.5134, -40.1911,-39.864,-39.3783,-39.0525, -38.5614,-38.2345,-37.8968,-37.388, -37.1904,-37.1893,-37.2391,-37.2838, -37.2845,-37.2853,-37.8388,-38.1652, -38.4932,-38.8193,-39.1512,-39.6447, -39.9725,-40.2961,-40.6177,-41.0995, -41.4257,-41.7559,-42.2465,-42.5869, -42.9138,-43.2366,-43.7194,-44.2066, -44.5351,-44.8567,-45.1888,-45.6849, -46.0019,-46.3301,-46.6382,-47.1136, -47.5833,-47.8966,-48.2187,-48.5256, -48.8384,-49.1619,-49.4715,-49.7801, -50.0918,-50.4042,-50.7163,-51.0272, -51.3394,-51.8101,-52.1223,-52.5925, -52.9059,-53.2148,-53.3742,-53.4582)
FOOTPRINT_POINT_LONGITUDE = (306.48,305.898,305.305,304.587,304.568 ,304.483,304.548,304.583,304.673, 304.704,304.743,304.801,304.856,304.904 ,304.935,304.968,305.017,305.066,305.09 ,305.142,305.167,305.199,305.221, 305.251,305.268,305.297,305.318,305.347 ,305.365,305.405,305.432,305.456, 305.472,305.482,305.501,305.527,305.543 ,305.569,305.585,305.6,305.618,305.632, 305.655,305.669,305.686,305.698,305.701 ,305.726,305.73,305.73,306.525,307.364, 307.379,307.385,307.366,307.355,307.343 ,307.332,307.32,307.301,307.289,307.276 ,307.262,307.242,307.228,307.214, 307.192,307.178,307.163,307.147,307.123 ,307.099,307.082,307.065,307.048, 307.022,307.004,306.985,306.966,306.938 ,306.91,306.89,306.87,306.849,306.828, 306.808,306.786,306.764,306.741,306.718 ,306.695,306.671,306.647,306.61,306.584 ,306.545,306.519,306.492,306.478, 306.48)
ORBIT_NUMBER = 21092
ORBITAL_ECCENTRICITY = 0.577
ORBITAL_INCLINATION = 86.99
ORBITAL_SEMIMAJOR_AXIS = 8783.39
PERIAPSIS_ALTITUDE = 332.87
PERIAPSIS_ARGUMENT_ANGLE = 306.12
PERIAPSIS_TIME = 2020-09-07T19:02:35.000Z
SPACECRAFT_ORIENTATION = (0.0,1.0,0.0)
^MEX_ORIENTATION_DESC = "MEX_ORIENTATION_DESC.TXT"
SPACECRAFT_POINTING_MODE = ACROSSTRACK
^MEX_POINTING_DESC = "MEX_POINTING_DESC.TXT"
RIGHT_ASCENSION = -1e+32
DECLINATION = -1e+32
OFFSET_ANGLE = 0.7
SPACECRAFT_SOLAR_DISTANCE = 2.0799e+08
TARGET_NAME = MARS
/* CAMERA DATA ELEMENTS */
DETECTOR_TEMPERATURE = 18.3705
FOCAL_PLANE_TEMPERATURE = 8.7872
INST_CMPRS_NAME = "DISCRETE COSINE TRANSFORMATION (DCT)"
INST_CMPRS_RATIO = 10.8743
INST_CMPRS_QUALITY = 0
INST_CMPRS_QUANTZ_TBL_ID = 0
INSTRUMENT_TEMPERATURE = 11.4379
LENS_TEMPERATURE = 9.8067
MACROPIXEL_SIZE = 2
MISSING_FRAMES = 0
PIXEL_SUBSAMPLING_FLAG = N
SIGNAL_CHAIN_ID = 1
/* RADIOMETRIC DATA ELEMENTS */
BANDWIDTH = 178.0
CENTER_FILTER_WAVELENGTH = 679.0
RADIANCE_OFFSET = 4.51555
RADIANCE_SCALING_FACTOR = 0.0198025
REFLECTANCE_SCALING_FACTOR = 0.000453664
MEX:REFLECTANCE_OFFSET = 0.103449
/* IMAGE OBJECT DEFINITIONS */
OBJECT = IMAGE
  INTERCHANGE_FORMAT = BINARY
  LINES = 38227
  LINE_SAMPLES = 4801
  SAMPLE_TYPE = UNSIGNED_INTEGER
  SAMPLE_BITS = 8
  BANDS = 1
  BAND_STORAGE_TYPE = BAND_SEQUENTIAL
  MAXIMUM = 255
  MEAN = 132.896
  MINIMUM = 1
  STANDARD_DEVIATION = 32.4528
END_OBJECT = IMAGE
/* MAP OBJECT DEFINITIONS */
OBJECT = IMAGE_MAP_PROJECTION
  ^DATA_SET_MAP_PROJECTION_CATALOG= "DSMAP.CAT"
  A_AXIS_RADIUS = 3396.0
  B_AXIS_RADIUS = 3396.0
  C_AXIS_RADIUS = 3396.0
  CENTER_LATITUDE = 0.0
  CENTER_LONGITUDE = 306.0
  COORDINATE_SYSTEM_NAME = PLANETOGRAPHIC
  COORDINATE_SYSTEM_TYPE = "BODY-FIXED ROTATING"
  EASTERNMOST_LONGITUDE = 307.385
  FIRST_STANDARD_PARALLEL = "N/A"
  LINE_FIRST_PIXEL = 1
  LINE_LAST_PIXEL = 38227
  LINE_PROJECTION_OFFSET = -88227.25
  MAP_PROJECTION_ROTATION = 0.0
  MAP_PROJECTION_TYPE = SINUSOIDAL
  MAP_RESOLUTION = 2370.85521546667
  MAP_SCALE = 0.025
  MAXIMUM_LATITUDE = -37.1893
  MINIMUM_LATITUDE = -53.4582
  POSITIVE_LONGITUDE_DIRECTION = EAST
  REFERENCE_LATITUDE = "N/A"
  REFERENCE_LONGITUDE = "N/A"
  SAMPLE_FIRST_PIXEL = 1
  SAMPLE_LAST_PIXEL = 4801
  SAMPLE_PROJECTION_OFFSET = 2132.25
  SECOND_STANDARD_PARALLEL = "N/A"
  WESTERNMOST_LONGITUDE = 304.483
END_OBJECT = IMAGE_MAP_PROJECTION
END
