PDS_VERSION_ID = PDS3
/* FILE DATA ELEMENTS */
RECORD_TYPE = UNDEFINED
/* POINTERS TO DATA OBJECTS */
^IMAGE = ("HL088_0000_ND4.TIF")
/* IDENTIFICATION DATA ELEMENTS */
DATA_SET_ID = "MEX-M-HRSC-4-REFDR-MAPPROJECT-EXT7-V4.0"
DATA_SET_NAME = "MARS EXPRESS HRSC MAP PROJECTED REFDR EXTENSION7 V4.0"
DETECTOR_ID = MEX_HRSC_NADIR
EVENT_TYPE = "MARS-REGIONAL-MAPPING-Im-Fl"
INSTRUMENT_HOST_ID = MEX
INSTRUMENT_HOST_NAME = "MARS EXPRESS"
INSTRUMENT_ID = HRSC
INSTRUMENT_NAME = "HIGH RESOLUTION STEREO CAMERA"
MISSION_NAME = "MARS EXPRESS"
MISSION_PHASE_NAME = ME_Phase_43
PROCESSING_LEVEL_ID = 4
PRODUCT_CREATION_TIME = 2023-01-29T17:38:44.000Z
PRODUCT_ID = "HL088_0000_ND4.TIF"
RELEASE_ID = 0005
REVISION_ID = 0000
/* QUALITY DATA ELEMENTS */
DATA_QUALITY_ID = 1
DATA_QUALITY_DESC = "Data calculated based on original SPICE kernels"
/* TIME DATA ELEMENTS */
SPACECRAFT_CLOCK_START_COUNT = "1/0547484815.25713"
SPACECRAFT_CLOCK_STOP_COUNT = "1/0547485137.24190"
START_TIME = 2020-09-06T15:07:58.254Z
STOP_TIME = 2020-09-06T15:12:06.241Z
/* ORBITAL DATA ELEMENTS */
ASCENDING_NODE_LONGITUDE = 179.66
MAXIMUM_RESOLUTION = 0.0134
FOOTPRINT_POINT_LATITUDE = (-47.4682,-47.4476,-47.4283,-47.4278, -47.4254,-46.5603,-46.116,-45.8185, -45.5208,-45.2235,-44.9263,-44.6292, -44.3323,-44.0355,-43.7388,-43.4423, -43.146,-42.85,-42.554,-42.2583, -41.9628,-41.6674,-41.3723,-40.7827, -40.1939,-39.4591,-38.8729,-38.3671, -38.0181,-37.4411,-37.0932,-36.7457, -36.3986,-36.052,-35.7058,-35.3601, -35.0149,-34.67,-34.3257,-33.9819, -33.6385,-33.2957,-32.9534,-32.6026, -32.2521,-31.7261,-31.5469,-31.5381, -31.5441,-31.5463,-31.5469,-31.5469, -31.5471,-31.9034,-32.2541,-32.6053, -32.9569,-33.3,-33.6435,-33.9875, -34.332,-34.677,-35.0225,-35.3684, -35.7148,-36.0617,-36.4089,-36.7567, -37.1048,-37.4531,-37.8021,-38.2064, -38.5562,-38.8893,-39.477,-40.0656, -40.6553,-40.9504,-41.2458,-41.5415, -41.8373,-42.1333,-42.4296,-42.726, -43.0227,-43.3195,-43.6165,-43.9137, -44.211,-44.5085,-44.8062,-45.104, -45.402,-45.7001,-45.9984,-46.2968, -46.8821,-47.3157,-47.4603,-47.4682)
FOOTPRINT_POINT_LONGITUDE = (356.493,355.512,354.83,354.813,354.781 ,354.835,354.86,354.877,354.891,354.907 ,354.923,354.937,354.951,354.964, 354.977,354.989,355.002,355.014,355.025 ,355.036,355.047,355.057,355.066, 355.085,355.101,355.116,355.134,355.145 ,355.152,355.163,355.169,355.174, 355.179,355.183,355.187,355.19,355.194, 355.196,355.199,355.201,355.202,355.203 ,355.205,355.205,355.205,355.205, 355.205,355.205,355.836,356.262,356.913 ,356.93,356.938,356.93,356.925,356.919, 356.914,356.907,356.901,356.895,356.888 ,356.882,356.875,356.868,356.861, 356.853,356.847,356.839,356.833,356.829 ,356.821,356.807,356.799,356.791, 356.777,356.762,356.747,356.739,356.731 ,356.722,356.713,356.705,356.696, 356.687,356.678,356.668,356.659,356.649 ,356.639,356.629,356.619,356.608, 356.597,356.586,356.575,356.564,356.541 ,356.524,356.518,356.493)
ORBIT_NUMBER = 21088
ORBITAL_ECCENTRICITY = 0.577
ORBITAL_INCLINATION = 86.99
ORBITAL_SEMIMAJOR_AXIS = 8785.57
PERIAPSIS_ALTITUDE = 332.85
PERIAPSIS_ARGUMENT_ANGLE = 306.76
PERIAPSIS_TIME = 2020-09-06T15:06:32.000Z
SPACECRAFT_ORIENTATION = (0.0,1.0,0.0)
^MEX_ORIENTATION_DESC = "MEX_ORIENTATION_DESC.TXT"
SPACECRAFT_POINTING_MODE = NADIR
^MEX_POINTING_DESC = "MEX_POINTING_DESC.TXT"
RIGHT_ASCENSION = -1e+32
DECLINATION = -1e+32
OFFSET_ANGLE = -1e+32
SPACECRAFT_SOLAR_DISTANCE = 2.07904e+08
TARGET_NAME = MARS
/* CAMERA DATA ELEMENTS */
DETECTOR_TEMPERATURE = 18.3705
FOCAL_PLANE_TEMPERATURE = 8.5833
INST_CMPRS_NAME = "DISCRETE COSINE TRANSFORMATION (DCT)"
INST_CMPRS_RATIO = 6.84726
INST_CMPRS_QUALITY = 0
INST_CMPRS_QUANTZ_TBL_ID = 0
INSTRUMENT_TEMPERATURE = 11.234
LENS_TEMPERATURE = 8.7872
MACROPIXEL_SIZE = 1
PIXEL_SUBSAMPLING_FLAG = N
SIGNAL_CHAIN_ID = 0
/* RADIOMETRIC DATA ELEMENTS */
BANDWIDTH = 177.0
CENTER_FILTER_WAVELENGTH = 677.5
RADIANCE_OFFSET = 4.83144
RADIANCE_SCALING_FACTOR = 0.0142788
REFLECTANCE_SCALING_FACTOR = 0.000327871
MEX:REFLECTANCE_OFFSET = 0.11094
/* IMAGE OBJECT DEFINITIONS */
OBJECT = IMAGE
  INTERCHANGE_FORMAT = BINARY
  LINES = 75532
  LINE_SAMPLES = 7699
  SAMPLE_TYPE = UNSIGNED_INTEGER
  SAMPLE_BITS = 8
  BANDS = 1
  BAND_STORAGE_TYPE = BAND_SEQUENTIAL
  MAXIMUM = 255
  MEAN = 142.482
  MINIMUM = 1
  STANDARD_DEVIATION = 27.0318
END_OBJECT = IMAGE
/* MAP OBJECT DEFINITIONS */
OBJECT = IMAGE_MAP_PROJECTION
  ^DATA_SET_MAP_PROJECTION_CATALOG= "DSMAP.CAT"
  A_AXIS_RADIUS = 3396.0
  B_AXIS_RADIUS = 3396.0
  C_AXIS_RADIUS = 3396.0
  CENTER_LATITUDE = 0.0
  CENTER_LONGITUDE = 356.0
  COORDINATE_SYSTEM_NAME = PLANETOGRAPHIC
  COORDINATE_SYSTEM_TYPE = "BODY-FIXED ROTATING"
  EASTERNMOST_LONGITUDE = 356.938
  FIRST_STANDARD_PARALLEL = "N/A"
  LINE_FIRST_PIXEL = 1
  LINE_LAST_PIXEL = 75532
  LINE_PROJECTION_OFFSET = -149546.0
  MAP_PROJECTION_ROTATION = 0.0
  MAP_PROJECTION_TYPE = SINUSOIDAL
  MAP_RESOLUTION = 4741.71043093333
  MAP_SCALE = 0.0125
  MAXIMUM_LATITUDE = -31.5381
  MINIMUM_LATITUDE = -47.4682
  POSITIVE_LONGITUDE_DIRECTION = EAST
  REFERENCE_LATITUDE = "N/A"
  REFERENCE_LONGITUDE = "N/A"
  SAMPLE_FIRST_PIXEL = 1
  SAMPLE_LAST_PIXEL = 7699
  SAMPLE_PROJECTION_OFFSET = 3907.0
  SECOND_STANDARD_PARALLEL = "N/A"
  WESTERNMOST_LONGITUDE = 354.781
END_OBJECT = IMAGE_MAP_PROJECTION
END
